BEGIN:VCALENDAR
VERSION:2.0
PRODID:-//kultura.tarnów - ECPv6.4.0.1//NONSGML v1.0//EN
CALSCALE:GREGORIAN
METHOD:PUBLISH
X-WR-CALNAME:kultura.tarnów
X-ORIGINAL-URL:https://kultura.tarnow.pl
X-WR-CALDESC:Wydarzenia dla
REFRESH-INTERVAL;VALUE=DURATION:PT1H
X-Robots-Tag:noindex
X-PUBLISHED-TTL:PT1H
BEGIN:VTIMEZONE
TZID:Europe/Warsaw
BEGIN:DAYLIGHT
TZOFFSETFROM:+0100
TZOFFSETTO:+0200
TZNAME:CEST
DTSTART:20250330T010000
END:DAYLIGHT
BEGIN:STANDARD
TZOFFSETFROM:+0200
TZOFFSETTO:+0100
TZNAME:CET
DTSTART:20251026T010000
END:STANDARD
END:VTIMEZONE
BEGIN:VEVENT
DTSTART;TZID=Europe/Warsaw:20250428T170000
DTEND;TZID=Europe/Warsaw:20250428T180000
DTSTAMP:20260422T114957
CREATED:20250423T062342Z
LAST-MODIFIED:20250423T062342Z
UID:10025074-1745859600-1745863200@kultura.tarnow.pl
SUMMARY:Wystawa „Pokaż znawcy broń jakiego narodu\, a orzeknie Ci o oświacie jego”.
DESCRIPTION:Wystawa „Pokaż znawcy broń jakiego narodu\, a orzeknie Ci o oświacie jego”.  \nBroń biała i palna oraz uzbrojenie ochronne na ziemiach polskich na przestrzeni wieków \n Muzeum Ziemi Tarnowskiej zaprasza na pierwszą w swojej historii tak kompleksową wystawę\, poświęconą broni i uzbrojeniu ochronnemu na ziemiach polskich. Zwiedzający będą mogli zobaczyć kilkaset eksponatów\, w tym prehistoryczne topory\, groty\, średniowieczne miecze\, nowożytne elementy uzbrojenia ochronnego\, uzbrojenie z czasów powstań narodowych\, a także legendarne polskie szable wz. 21 i wz. 34. Całość dopełni współczesne umundurowanie oficera Wojska Polskiego. \nTytuł ekspozycji pochodzi z jednej z pierwszych polskich prac o broni profesora Józefa Łepkowskiego\, rektora Uniwersytetu Jagiellońskiego w XIX wieku\, który uważał broń za jedno z najcenniejszych źródeł wiedzy o rozwoju cywilizacyjnym społeczeństw. \nObiekty prezentowane na wystawie pochodzą zarówno ze zbiorów własnych Muzeum Ziemi Tarnowskiej\, jak i zostały wypożyczone z: Muzeum Narodowego w Krakowie\, Muzeum Książąt Czartoryskich w Krakowie – Oddziału Muzeum Narodowego w Krakowie\, Muzeum Narodowego w Kielcach\, Muzeum Okręgowego w Rzeszowie\, Muzeum Archeologicznego w Krakowie\, Muzeum Diecezjalnego w Tarnowie oraz od prywatnych kolekcjonerów. \nWernisaż wystawy odbędzie się w poniedziałek\, 28 kwietnia 2025 r. o godzinie 17:00 w Siedzibie Muzeum Ziemi Tarnowskiej\, Rynek 3. Wstęp na wernisaż jest bezpłatny. Wystawę będzie można oglądać od 29 kwietnia do 26 września 2025 r. \nWystawa została przygotowana w ramach jubileuszu „1025. Tysiąclecie Królestwa Polskiego”.
URL:https://kultura.tarnow.pl/wydarzenie/wystawa-pokaz-znawcy-bron-jakiego-narodu-a-orzeknie-ci-o-oswiacie-jego/
LOCATION:Siedziba Muzeum Ziemi Tarnowskiej\, Rynek 3\, Tarnów\, małopolskie\, 33-100
CATEGORIES:wernisaże
ATTACH;FMTTYPE=image/jpeg:https://kultura.tarnow.pl/wp-content/uploads/plakat_wystawa_bron.jpg
GEO:50.0122989;20.9877958
X-APPLE-STRUCTURED-LOCATION;VALUE=URI;X-ADDRESS=Siedziba Muzeum Ziemi Tarnowskiej Rynek 3 Tarnów małopolskie 33-100;X-APPLE-RADIUS=500;X-TITLE=Rynek 3:geo:20.9877958,50.0122989
END:VEVENT
BEGIN:VEVENT
DTSTART;TZID=Europe/Warsaw:20250429T180000
DTEND;TZID=Europe/Warsaw:20250429T190000
DTSTAMP:20260422T114957
CREATED:20250415T072204Z
LAST-MODIFIED:20250424T093956Z
UID:10025068-1745949600-1745953200@kultura.tarnow.pl
SUMMARY:"Królowe jazzu"
DESCRIPTION:29.04. o 18:00 Salę Koncertową Zespołu Szkół Muzycznych w Tarnowie wypełni jazz w najlepszym wydaniu.\nTo będzie muzyczna podróż śladami największych polskich i zagranicznych dam jazzu – od klasyki po współczesne brzmienia. Zabrzmią utwory takich wokalistek jak: Ella Fitzgerald\, Sarah Vaughn\, Judy Garland\, Veronica Swift\, Ewa Bem\, Grażyna Auguścik czy Anna Serafińska.\nUczniowie wokalistyki i instrumentalistyki jazzowej wystąpią ramię w ramię ze swoimi pedagogami\, tworząc wspólnie niepowtarzalną atmosferę i dzieląc się swoją pasją do muzyki.\nWokaliści z klas wokalnych pani Magdaleny Białoruckiej-Ogorzelec i Ewy Siembida-Jachym\nCombo instrumentalne pod kierownictwem Michała Króla i Michała Kołodzieja\nSekcja nauczycieli ZSM w Tarnowie:Tomasz Jachym\, Maciej Pierzchała – fortepianMichał Kołodziej– kontrabasŁukasz Romański – perkusja\nMichał Król – saksofon\nMateusz Żydek – trąbka\nKoncert uświetni występ tancerki Anny Burzy.\nSzykuje się wieczór pełen emocji\, improwizacji i dobrej energii!
URL:https://kultura.tarnow.pl/wydarzenie/krolowie-jazzu/
LOCATION:Sala Koncertowa Zespołu Szkół Muzycznych\, Lippóczy’ego 4\, Tarnów\, małopolskie\, 33-100\, Polska
CATEGORIES:koncerty
ATTACH;FMTTYPE=image/jpeg:https://kultura.tarnow.pl/wp-content/uploads/491648407_1186976303216478_3150263230311783237_n.jpg
ORGANIZER;CN="Zesp%C3%B3%C5%82 Szk%C3%B3%C5%82 Muzycznych":MAILTO:szkola@zsmuz.tarnow.pl
GEO:50.0205582;20.9801972
X-APPLE-STRUCTURED-LOCATION;VALUE=URI;X-ADDRESS=Sala Koncertowa Zespołu Szkół Muzycznych Lippóczy’ego 4 Tarnów małopolskie 33-100 Polska;X-APPLE-RADIUS=500;X-TITLE=Lippóczy’ego 4:geo:20.9801972,50.0205582
END:VEVENT
BEGIN:VEVENT
DTSTART;TZID=Europe/Warsaw:20250501T120000
DTEND;TZID=Europe/Warsaw:20250501T130000
DTSTAMP:20260422T114957
CREATED:20250424T094248Z
LAST-MODIFIED:20250424T094248Z
UID:10025077-1746100800-1746104400@kultura.tarnow.pl
SUMMARY:Święto Pracy
DESCRIPTION:
URL:https://kultura.tarnow.pl/wydarzenie/swieto-pracy/
LOCATION:małopolskie
CATEGORIES:uroczystości patriotyczne
END:VEVENT
BEGIN:VEVENT
DTSTART;TZID=Europe/Warsaw:20250501T200000
DTEND;TZID=Europe/Warsaw:20250501T220000
DTSTAMP:20260422T114957
CREATED:20250415T095335Z
LAST-MODIFIED:20250415T095335Z
UID:10025069-1746129600-1746136800@kultura.tarnow.pl
SUMMARY:Paweł STORO Storożynski
DESCRIPTION:Zespół „STORO” – Paweł STORO Storożynski zagra w Tarnowie.\nhttps://www.youtube.com/watch?v=ePqRmpCgnu0\nBilety:przedsprzedaż – 40zł.w dniu koncertu – 50zł.\nrezerwacja miejsc: 605 654 924
URL:https://kultura.tarnow.pl/wydarzenie/pawel-storo-storozynski/
LOCATION:Maranto Vibe\, Wałowa 26\, Tarnów\, Małopolska\, 33-100
CATEGORIES:koncerty
ATTACH;FMTTYPE=image/jpeg:https://kultura.tarnow.pl/wp-content/uploads/490890075_1214985027293355_5831457134389510396_n.jpg
END:VEVENT
BEGIN:VEVENT
DTSTART;TZID=Europe/Warsaw:20250502T090000
DTEND;TZID=Europe/Warsaw:20250502T093000
DTSTAMP:20260422T114957
CREATED:20250424T094410Z
LAST-MODIFIED:20250424T094410Z
UID:10025078-1746176400-1746178200@kultura.tarnow.pl
SUMMARY:Dzień Flagi Rzeczypospolitej Polskiej
DESCRIPTION:
URL:https://kultura.tarnow.pl/wydarzenie/dzien-flagi-rzeczypospolitej-polskiej/
LOCATION:Grób Nieznanego Żołnierza\, Pl. Ofiar Katynia\, Tarnów\, małopolskie\, 33-100\, Polska
CATEGORIES:uroczystości patriotyczne
GEO:50.0135389;20.9859993
X-APPLE-STRUCTURED-LOCATION;VALUE=URI;X-ADDRESS=Grób Nieznanego Żołnierza Pl. Ofiar Katynia Tarnów małopolskie 33-100 Polska;X-APPLE-RADIUS=500;X-TITLE=Pl. Ofiar Katynia:geo:20.9859993,50.0135389
END:VEVENT
BEGIN:VEVENT
DTSTART;TZID=Europe/Warsaw:20250503T120000
DTEND;TZID=Europe/Warsaw:20250503T140000
DTSTAMP:20260422T114957
CREATED:20250424T094554Z
LAST-MODIFIED:20250424T094554Z
UID:10025079-1746273600-1746280800@kultura.tarnow.pl
SUMMARY:234. Rocznica Uchwalenia Konstytucji 3 Maja
DESCRIPTION:
URL:https://kultura.tarnow.pl/wydarzenie/234-rocznica-uchwalenia-konstytucji-3-maja/
LOCATION:Grób Nieznanego Żołnierza\, Pl. Ofiar Katynia\, Tarnów\, małopolskie\, 33-100\, Polska
CATEGORIES:uroczystości patriotyczne
GEO:50.0135389;20.9859993
X-APPLE-STRUCTURED-LOCATION;VALUE=URI;X-ADDRESS=Grób Nieznanego Żołnierza Pl. Ofiar Katynia Tarnów małopolskie 33-100 Polska;X-APPLE-RADIUS=500;X-TITLE=Pl. Ofiar Katynia:geo:20.9859993,50.0135389
END:VEVENT
BEGIN:VEVENT
DTSTART;TZID=Europe/Warsaw:20250504T180000
DTEND;TZID=Europe/Warsaw:20250504T200000
DTSTAMP:20260422T114957
CREATED:20250428T065613Z
LAST-MODIFIED:20250521T093340Z
UID:10025081-1746381600-1746388800@kultura.tarnow.pl
SUMMARY:Chóralne Majówki
DESCRIPTION:Ósmy sezon artystyczny w Amfiteatrze Letnim (ul. Kopernika 2) zainicjuje cykl koncertów pod wspólnym tytułem „Chóralne Majówki”.  \nPodczas trzech majowych weekendów wystąpią:\n04.05.25 (niedziela) | 18:00 | Chór Fox Vox | wstęp wolny\n09.05.25 (piątek) | 19:00 | Chór SOLski | bilety: 20 zł\n25.05.25 (niedziela) | 19:00 | Chór GOS.pl | bilety: 20 zł \nBilety (przedsprzedaż od 29 kwietnia 2025 r.) do nabycia w Biurze Obsługi TCK (Rynek 5)\, on-line (www.tck.pl) oraz na godzinę przed koncertami w kasie Amfiteatru Letniego (Kopernika 2).\nNa koncerty biletowane dzieci do 7 roku życia pod opieką rodzica/opiekuna mają wstęp wolny. \nW razie niesprzyjających warunków atmosferycznych koncerty odbędą się w innym dogodnym terminie. Więcej informacji: 14 6 888 888. \nKawiarnia Cafe Amfiteatr podczas wieczórów koncertowych czynna będzie do ich zakończenia. \nWięcej o wykonawcach: \nChór Fox Vox powstał w październiku 2024 roku przy Gminnym Centrum Kultury i Czytelnictwa w Lisiej Górze. Tworzy go niezwykle różnorodna grupa osób – zarówno tych\, którzy dopiero rozpoczynają swoją przygodę z muzyką chóralną\, jak i doświadczonych chórzystów i solistów. Właśnie ta różnorodność jest siłą zespołu\, który łączy pokolenia\, głosy i muzyczne temperamenty w jedno wspólne brzmienie.\nW centrum działalności Fox Vox stoi radość – z odkrywania muzyki\, wspólnego tworzenia i dzielenia się śpiewem z publicznością. Zespół wyróżnia fantastyczna atmosfera – pełna życzliwości\, zaangażowania i otwartości\, co sprawia\, że każda próba i każdy koncert są wyjątkowym przeżyciem. Chór prowadzony jest przez charyzmatyczny duet artystyczny: dyrygentkę Annę Podkościelną-Cyz oraz pianistę Piotra Niedojadło. To właśnie dzięki ich kreatywności\, doświadczeniu i artystycznej wrażliwości każdy występ Fox Vox staje się czymś więcej niż tylko koncertem – to barwna\, niebanalna opowieść muzyczna\, która porusza i zapada w pamięć.\nNa program koncertu złożą się hity z polskiego i światowego repertuaru\, między innymi z utwory zespołów: Brathanki\, Golec uOrkiestra\, czy Bajm. \nChór SOLski\, od 6 lat działający przy tarnowskim Teatrze im. L. Solskiego\, przygotował koncert\, którym udowodni\, że piosenka niejedno ma imię – a raczej… ma ich całe mnóstwo!\nPod czujnym okiem dyrygentki Weroniki Gajewskiej\, z towarzyszeniem pianisty Piotra Niedojadły\, zabrzmią znane i lubiane przeboje\, które od lat towarzyszą wszystkim w radiu\, przy rodzinnych spotkaniach i na dansingach. Ada\, Magdalena\, Józek czy Heniek – czyje imię wyśpiewają tym razem? Kto znajdzie w repertuarze swoją muzyczną dedykację?\nDzięki aranżacjom Bartosza Szułakiewicza widz przeniesie się w czasy\, gdy na parkietach królowały eleganckie walce\, skoczne twisty i nastrojowe ballady. Będzie dużo uśmiechu\, wspólnego nucenia i odrobina wzruszeń – bo przecież muzyka ma niezwykłą moc przywoływania pięknych wspomnień. \nChór GOS.pl jest pierwszym i jedynym chórem w Tarnowie i regionie\, specjalizującym się w wykonywaniu muzyki gospel. Powstał w 2003 roku z inicjatywy Bartłomieja Szułakiewicza\, Moniki i Tomasza Steców oraz ks. Pawła Cyza z Kongregacji Oratorium Św. Filipa Neri. Chór jest wielopokoleniowym kolażem talentów i głosów\, który skupia blisko 40 pasjonatów wspólnego śpiewania. Kierownikiem muzycznym zespołu\, a jednocześnie kompozytorem\, aranżerem oraz pianistą jest Bartłomiej Szułakiewicz\, chórem dyrygują Anna Piotrowska i Katarzyna Wrona. Dwadzieścia lat pracy chóru zaowocowało wieloma koncertami\, a także nagrodami\, m.in. Nagrodą Miasta Tarnowa w dziedzinie działalności artystycznej. Chór włącza się aktywnie w działalność charytatywną\, bierze udział w warsztatach gospel\, a przede wszystkim przekazuje swoim odbiorcom radość i przesłanie płynące z Ewangelii. W 2014 roku Gos.pl wydał studyjną płytę „Ten”\, a w lutym 2017 roku z inspiracji osób związanych z Tarnowskim Chórem Gos.pl powstało stowarzyszenie\, którego celem jest upowszechnianie muzyki gospel i wartości chrześcijańskich poprzez zróżnicowane formy przekazu skierowane do jak najszerszego kręgu odbiorców.
URL:https://kultura.tarnow.pl/wydarzenie/choralne-majowki/2025-05-04/
LOCATION:Amfiteatr Letni\, ul. Kopernika 4\, Tarnów\, małopolskie\, 33-100\, Polska
CATEGORIES:koncerty
GEO:50.013519;20.984475
X-APPLE-STRUCTURED-LOCATION;VALUE=URI;X-ADDRESS=Amfiteatr Letni ul. Kopernika 4 Tarnów małopolskie 33-100 Polska;X-APPLE-RADIUS=500;X-TITLE=ul. Kopernika 4:geo:20.984475,50.013519
END:VEVENT
END:VCALENDAR