BEGIN:VCALENDAR
VERSION:2.0
PRODID:-//kultura.tarnów - ECPv6.4.0.1//NONSGML v1.0//EN
CALSCALE:GREGORIAN
METHOD:PUBLISH
X-ORIGINAL-URL:https://kultura.tarnow.pl
X-WR-CALDESC:Wydarzenia dla
REFRESH-INTERVAL;VALUE=DURATION:PT1H
X-Robots-Tag:noindex
X-PUBLISHED-TTL:PT1H
BEGIN:VTIMEZONE
TZID:Europe/Warsaw
BEGIN:DAYLIGHT
TZOFFSETFROM:+0100
TZOFFSETTO:+0200
TZNAME:CEST
DTSTART:20260329T010000
END:DAYLIGHT
BEGIN:STANDARD
TZOFFSETFROM:+0200
TZOFFSETTO:+0100
TZNAME:CET
DTSTART:20261025T010000
END:STANDARD
END:VTIMEZONE
BEGIN:VEVENT
DTSTART;TZID=Europe/Warsaw:20260423T090000
DTEND;TZID=Europe/Warsaw:20260423T170000
DTSTAMP:20260420T174021
CREATED:20260420T062854Z
LAST-MODIFIED:20260420T062854Z
UID:10029852-1776934800-1776963600@kultura.tarnow.pl
SUMMARY:Wystawa prac dyplomowych PLSP w Tarnowie
DESCRIPTION:Wystawa wybranych\, wyróżnionych prac dyplomowych i aneksów w Biuro Wystaw Artystycznych w Tarnowie\, Pl. Dworcowy 4 \nwystawa od 23 kwietnia do 16 maja 2026\nwernisaż 23 kwietnia\, g. 18.00
URL:https://kultura.tarnow.pl/wydarzenie/wystawa-prac-dyplomowych-plsp-w-tarnowie-2/2026-04-23/
LOCATION:BWA na Dworcu PKP\, Plac Dworcowy 4\, Tarnów\, małopolskie\, 33-100\, Polska
CATEGORIES:wystawy
ATTACH;FMTTYPE=image/png:https://kultura.tarnow.pl/wp-content/uploads/plakaty-BWA-i-PLSP_-02.png
ORGANIZER;CN="Biuro Wystaw Artystycznych":MAILTO:biuro@bwa.tarnow.pl
GEO:50.0057629;20.9744639
X-APPLE-STRUCTURED-LOCATION;VALUE=URI;X-ADDRESS=BWA na Dworcu PKP Plac Dworcowy 4 Tarnów małopolskie 33-100 Polska;X-APPLE-RADIUS=500;X-TITLE=Plac Dworcowy 4:geo:20.9744639,50.0057629
END:VEVENT
BEGIN:VEVENT
DTSTART;TZID=Europe/Warsaw:20260426T090000
DTEND;TZID=Europe/Warsaw:20260426T170000
DTSTAMP:20260420T174021
CREATED:20260420T062854Z
LAST-MODIFIED:20260420T062854Z
UID:10029853-1777194000-1777222800@kultura.tarnow.pl
SUMMARY:Wystawa prac dyplomowych PLSP w Tarnowie
DESCRIPTION:Wystawa wybranych\, wyróżnionych prac dyplomowych i aneksów w Biuro Wystaw Artystycznych w Tarnowie\, Pl. Dworcowy 4 \nwystawa od 23 kwietnia do 16 maja 2026\nwernisaż 23 kwietnia\, g. 18.00
URL:https://kultura.tarnow.pl/wydarzenie/wystawa-prac-dyplomowych-plsp-w-tarnowie-2/2026-04-26/
LOCATION:BWA na Dworcu PKP\, Plac Dworcowy 4\, Tarnów\, małopolskie\, 33-100\, Polska
CATEGORIES:wystawy
ATTACH;FMTTYPE=image/png:https://kultura.tarnow.pl/wp-content/uploads/plakaty-BWA-i-PLSP_-02.png
ORGANIZER;CN="Biuro Wystaw Artystycznych":MAILTO:biuro@bwa.tarnow.pl
GEO:50.0057629;20.9744639
X-APPLE-STRUCTURED-LOCATION;VALUE=URI;X-ADDRESS=BWA na Dworcu PKP Plac Dworcowy 4 Tarnów małopolskie 33-100 Polska;X-APPLE-RADIUS=500;X-TITLE=Plac Dworcowy 4:geo:20.9744639,50.0057629
END:VEVENT
BEGIN:VEVENT
DTSTART;TZID=Europe/Warsaw:20260427T090000
DTEND;TZID=Europe/Warsaw:20260427T170000
DTSTAMP:20260420T174021
CREATED:20260420T062854Z
LAST-MODIFIED:20260420T062854Z
UID:10029854-1777280400-1777309200@kultura.tarnow.pl
SUMMARY:Wystawa prac dyplomowych PLSP w Tarnowie
DESCRIPTION:Wystawa wybranych\, wyróżnionych prac dyplomowych i aneksów w Biuro Wystaw Artystycznych w Tarnowie\, Pl. Dworcowy 4 \nwystawa od 23 kwietnia do 16 maja 2026\nwernisaż 23 kwietnia\, g. 18.00
URL:https://kultura.tarnow.pl/wydarzenie/wystawa-prac-dyplomowych-plsp-w-tarnowie-2/2026-04-27/
LOCATION:BWA na Dworcu PKP\, Plac Dworcowy 4\, Tarnów\, małopolskie\, 33-100\, Polska
CATEGORIES:wystawy
ATTACH;FMTTYPE=image/png:https://kultura.tarnow.pl/wp-content/uploads/plakaty-BWA-i-PLSP_-02.png
ORGANIZER;CN="Biuro Wystaw Artystycznych":MAILTO:biuro@bwa.tarnow.pl
GEO:50.0057629;20.9744639
X-APPLE-STRUCTURED-LOCATION;VALUE=URI;X-ADDRESS=BWA na Dworcu PKP Plac Dworcowy 4 Tarnów małopolskie 33-100 Polska;X-APPLE-RADIUS=500;X-TITLE=Plac Dworcowy 4:geo:20.9744639,50.0057629
END:VEVENT
BEGIN:VEVENT
DTSTART;TZID=Europe/Warsaw:20260428T090000
DTEND;TZID=Europe/Warsaw:20260428T170000
DTSTAMP:20260420T174021
CREATED:20260420T062854Z
LAST-MODIFIED:20260420T062854Z
UID:10029855-1777366800-1777395600@kultura.tarnow.pl
SUMMARY:Wystawa prac dyplomowych PLSP w Tarnowie
DESCRIPTION:Wystawa wybranych\, wyróżnionych prac dyplomowych i aneksów w Biuro Wystaw Artystycznych w Tarnowie\, Pl. Dworcowy 4 \nwystawa od 23 kwietnia do 16 maja 2026\nwernisaż 23 kwietnia\, g. 18.00
URL:https://kultura.tarnow.pl/wydarzenie/wystawa-prac-dyplomowych-plsp-w-tarnowie-2/2026-04-28/
LOCATION:BWA na Dworcu PKP\, Plac Dworcowy 4\, Tarnów\, małopolskie\, 33-100\, Polska
CATEGORIES:wystawy
ATTACH;FMTTYPE=image/png:https://kultura.tarnow.pl/wp-content/uploads/plakaty-BWA-i-PLSP_-02.png
ORGANIZER;CN="Biuro Wystaw Artystycznych":MAILTO:biuro@bwa.tarnow.pl
GEO:50.0057629;20.9744639
X-APPLE-STRUCTURED-LOCATION;VALUE=URI;X-ADDRESS=BWA na Dworcu PKP Plac Dworcowy 4 Tarnów małopolskie 33-100 Polska;X-APPLE-RADIUS=500;X-TITLE=Plac Dworcowy 4:geo:20.9744639,50.0057629
END:VEVENT
BEGIN:VEVENT
DTSTART;TZID=Europe/Warsaw:20260429T090000
DTEND;TZID=Europe/Warsaw:20260429T170000
DTSTAMP:20260420T174021
CREATED:20260420T062854Z
LAST-MODIFIED:20260420T062854Z
UID:10029856-1777453200-1777482000@kultura.tarnow.pl
SUMMARY:Wystawa prac dyplomowych PLSP w Tarnowie
DESCRIPTION:Wystawa wybranych\, wyróżnionych prac dyplomowych i aneksów w Biuro Wystaw Artystycznych w Tarnowie\, Pl. Dworcowy 4 \nwystawa od 23 kwietnia do 16 maja 2026\nwernisaż 23 kwietnia\, g. 18.00
URL:https://kultura.tarnow.pl/wydarzenie/wystawa-prac-dyplomowych-plsp-w-tarnowie-2/2026-04-29/
LOCATION:BWA na Dworcu PKP\, Plac Dworcowy 4\, Tarnów\, małopolskie\, 33-100\, Polska
CATEGORIES:wystawy
ATTACH;FMTTYPE=image/png:https://kultura.tarnow.pl/wp-content/uploads/plakaty-BWA-i-PLSP_-02.png
ORGANIZER;CN="Biuro Wystaw Artystycznych":MAILTO:biuro@bwa.tarnow.pl
GEO:50.0057629;20.9744639
X-APPLE-STRUCTURED-LOCATION;VALUE=URI;X-ADDRESS=BWA na Dworcu PKP Plac Dworcowy 4 Tarnów małopolskie 33-100 Polska;X-APPLE-RADIUS=500;X-TITLE=Plac Dworcowy 4:geo:20.9744639,50.0057629
END:VEVENT
BEGIN:VEVENT
DTSTART;TZID=Europe/Warsaw:20260430T090000
DTEND;TZID=Europe/Warsaw:20260430T170000
DTSTAMP:20260420T174021
CREATED:20260420T062854Z
LAST-MODIFIED:20260420T062854Z
UID:10029857-1777539600-1777568400@kultura.tarnow.pl
SUMMARY:Wystawa prac dyplomowych PLSP w Tarnowie
DESCRIPTION:Wystawa wybranych\, wyróżnionych prac dyplomowych i aneksów w Biuro Wystaw Artystycznych w Tarnowie\, Pl. Dworcowy 4 \nwystawa od 23 kwietnia do 16 maja 2026\nwernisaż 23 kwietnia\, g. 18.00
URL:https://kultura.tarnow.pl/wydarzenie/wystawa-prac-dyplomowych-plsp-w-tarnowie-2/2026-04-30/
LOCATION:BWA na Dworcu PKP\, Plac Dworcowy 4\, Tarnów\, małopolskie\, 33-100\, Polska
CATEGORIES:wystawy
ATTACH;FMTTYPE=image/png:https://kultura.tarnow.pl/wp-content/uploads/plakaty-BWA-i-PLSP_-02.png
ORGANIZER;CN="Biuro Wystaw Artystycznych":MAILTO:biuro@bwa.tarnow.pl
GEO:50.0057629;20.9744639
X-APPLE-STRUCTURED-LOCATION;VALUE=URI;X-ADDRESS=BWA na Dworcu PKP Plac Dworcowy 4 Tarnów małopolskie 33-100 Polska;X-APPLE-RADIUS=500;X-TITLE=Plac Dworcowy 4:geo:20.9744639,50.0057629
END:VEVENT
BEGIN:VEVENT
DTSTART;TZID=Europe/Warsaw:20260503T090000
DTEND;TZID=Europe/Warsaw:20260503T170000
DTSTAMP:20260420T174021
CREATED:20260420T062854Z
LAST-MODIFIED:20260420T062854Z
UID:10029858-1777798800-1777827600@kultura.tarnow.pl
SUMMARY:Wystawa prac dyplomowych PLSP w Tarnowie
DESCRIPTION:Wystawa wybranych\, wyróżnionych prac dyplomowych i aneksów w Biuro Wystaw Artystycznych w Tarnowie\, Pl. Dworcowy 4 \nwystawa od 23 kwietnia do 16 maja 2026\nwernisaż 23 kwietnia\, g. 18.00
URL:https://kultura.tarnow.pl/wydarzenie/wystawa-prac-dyplomowych-plsp-w-tarnowie-2/2026-05-03/
LOCATION:BWA na Dworcu PKP\, Plac Dworcowy 4\, Tarnów\, małopolskie\, 33-100\, Polska
CATEGORIES:wystawy
ATTACH;FMTTYPE=image/png:https://kultura.tarnow.pl/wp-content/uploads/plakaty-BWA-i-PLSP_-02.png
ORGANIZER;CN="Biuro Wystaw Artystycznych":MAILTO:biuro@bwa.tarnow.pl
GEO:50.0057629;20.9744639
X-APPLE-STRUCTURED-LOCATION;VALUE=URI;X-ADDRESS=BWA na Dworcu PKP Plac Dworcowy 4 Tarnów małopolskie 33-100 Polska;X-APPLE-RADIUS=500;X-TITLE=Plac Dworcowy 4:geo:20.9744639,50.0057629
END:VEVENT
BEGIN:VEVENT
DTSTART;TZID=Europe/Warsaw:20260504T090000
DTEND;TZID=Europe/Warsaw:20260504T170000
DTSTAMP:20260420T174021
CREATED:20260420T062854Z
LAST-MODIFIED:20260420T062854Z
UID:10029859-1777885200-1777914000@kultura.tarnow.pl
SUMMARY:Wystawa prac dyplomowych PLSP w Tarnowie
DESCRIPTION:Wystawa wybranych\, wyróżnionych prac dyplomowych i aneksów w Biuro Wystaw Artystycznych w Tarnowie\, Pl. Dworcowy 4 \nwystawa od 23 kwietnia do 16 maja 2026\nwernisaż 23 kwietnia\, g. 18.00
URL:https://kultura.tarnow.pl/wydarzenie/wystawa-prac-dyplomowych-plsp-w-tarnowie-2/2026-05-04/
LOCATION:BWA na Dworcu PKP\, Plac Dworcowy 4\, Tarnów\, małopolskie\, 33-100\, Polska
CATEGORIES:wystawy
ATTACH;FMTTYPE=image/png:https://kultura.tarnow.pl/wp-content/uploads/plakaty-BWA-i-PLSP_-02.png
ORGANIZER;CN="Biuro Wystaw Artystycznych":MAILTO:biuro@bwa.tarnow.pl
GEO:50.0057629;20.9744639
X-APPLE-STRUCTURED-LOCATION;VALUE=URI;X-ADDRESS=BWA na Dworcu PKP Plac Dworcowy 4 Tarnów małopolskie 33-100 Polska;X-APPLE-RADIUS=500;X-TITLE=Plac Dworcowy 4:geo:20.9744639,50.0057629
END:VEVENT
BEGIN:VEVENT
DTSTART;TZID=Europe/Warsaw:20260505T090000
DTEND;TZID=Europe/Warsaw:20260505T170000
DTSTAMP:20260420T174021
CREATED:20260420T062854Z
LAST-MODIFIED:20260420T062854Z
UID:10029860-1777971600-1778000400@kultura.tarnow.pl
SUMMARY:Wystawa prac dyplomowych PLSP w Tarnowie
DESCRIPTION:Wystawa wybranych\, wyróżnionych prac dyplomowych i aneksów w Biuro Wystaw Artystycznych w Tarnowie\, Pl. Dworcowy 4 \nwystawa od 23 kwietnia do 16 maja 2026\nwernisaż 23 kwietnia\, g. 18.00
URL:https://kultura.tarnow.pl/wydarzenie/wystawa-prac-dyplomowych-plsp-w-tarnowie-2/2026-05-05/
LOCATION:BWA na Dworcu PKP\, Plac Dworcowy 4\, Tarnów\, małopolskie\, 33-100\, Polska
CATEGORIES:wystawy
ATTACH;FMTTYPE=image/png:https://kultura.tarnow.pl/wp-content/uploads/plakaty-BWA-i-PLSP_-02.png
ORGANIZER;CN="Biuro Wystaw Artystycznych":MAILTO:biuro@bwa.tarnow.pl
GEO:50.0057629;20.9744639
X-APPLE-STRUCTURED-LOCATION;VALUE=URI;X-ADDRESS=BWA na Dworcu PKP Plac Dworcowy 4 Tarnów małopolskie 33-100 Polska;X-APPLE-RADIUS=500;X-TITLE=Plac Dworcowy 4:geo:20.9744639,50.0057629
END:VEVENT
BEGIN:VEVENT
DTSTART;TZID=Europe/Warsaw:20260506T090000
DTEND;TZID=Europe/Warsaw:20260506T170000
DTSTAMP:20260420T174021
CREATED:20260420T062854Z
LAST-MODIFIED:20260420T062854Z
UID:10029861-1778058000-1778086800@kultura.tarnow.pl
SUMMARY:Wystawa prac dyplomowych PLSP w Tarnowie
DESCRIPTION:Wystawa wybranych\, wyróżnionych prac dyplomowych i aneksów w Biuro Wystaw Artystycznych w Tarnowie\, Pl. Dworcowy 4 \nwystawa od 23 kwietnia do 16 maja 2026\nwernisaż 23 kwietnia\, g. 18.00
URL:https://kultura.tarnow.pl/wydarzenie/wystawa-prac-dyplomowych-plsp-w-tarnowie-2/2026-05-06/
LOCATION:BWA na Dworcu PKP\, Plac Dworcowy 4\, Tarnów\, małopolskie\, 33-100\, Polska
CATEGORIES:wystawy
ATTACH;FMTTYPE=image/png:https://kultura.tarnow.pl/wp-content/uploads/plakaty-BWA-i-PLSP_-02.png
ORGANIZER;CN="Biuro Wystaw Artystycznych":MAILTO:biuro@bwa.tarnow.pl
GEO:50.0057629;20.9744639
X-APPLE-STRUCTURED-LOCATION;VALUE=URI;X-ADDRESS=BWA na Dworcu PKP Plac Dworcowy 4 Tarnów małopolskie 33-100 Polska;X-APPLE-RADIUS=500;X-TITLE=Plac Dworcowy 4:geo:20.9744639,50.0057629
END:VEVENT
BEGIN:VEVENT
DTSTART;TZID=Europe/Warsaw:20260507T090000
DTEND;TZID=Europe/Warsaw:20260507T170000
DTSTAMP:20260420T174021
CREATED:20260420T062854Z
LAST-MODIFIED:20260420T062854Z
UID:10029862-1778144400-1778173200@kultura.tarnow.pl
SUMMARY:Wystawa prac dyplomowych PLSP w Tarnowie
DESCRIPTION:Wystawa wybranych\, wyróżnionych prac dyplomowych i aneksów w Biuro Wystaw Artystycznych w Tarnowie\, Pl. Dworcowy 4 \nwystawa od 23 kwietnia do 16 maja 2026\nwernisaż 23 kwietnia\, g. 18.00
URL:https://kultura.tarnow.pl/wydarzenie/wystawa-prac-dyplomowych-plsp-w-tarnowie-2/2026-05-07/
LOCATION:BWA na Dworcu PKP\, Plac Dworcowy 4\, Tarnów\, małopolskie\, 33-100\, Polska
CATEGORIES:wystawy
ATTACH;FMTTYPE=image/png:https://kultura.tarnow.pl/wp-content/uploads/plakaty-BWA-i-PLSP_-02.png
ORGANIZER;CN="Biuro Wystaw Artystycznych":MAILTO:biuro@bwa.tarnow.pl
GEO:50.0057629;20.9744639
X-APPLE-STRUCTURED-LOCATION;VALUE=URI;X-ADDRESS=BWA na Dworcu PKP Plac Dworcowy 4 Tarnów małopolskie 33-100 Polska;X-APPLE-RADIUS=500;X-TITLE=Plac Dworcowy 4:geo:20.9744639,50.0057629
END:VEVENT
BEGIN:VEVENT
DTSTART;TZID=Europe/Warsaw:20260510T090000
DTEND;TZID=Europe/Warsaw:20260510T170000
DTSTAMP:20260420T174021
CREATED:20260420T062854Z
LAST-MODIFIED:20260420T062854Z
UID:10029863-1778403600-1778432400@kultura.tarnow.pl
SUMMARY:Wystawa prac dyplomowych PLSP w Tarnowie
DESCRIPTION:Wystawa wybranych\, wyróżnionych prac dyplomowych i aneksów w Biuro Wystaw Artystycznych w Tarnowie\, Pl. Dworcowy 4 \nwystawa od 23 kwietnia do 16 maja 2026\nwernisaż 23 kwietnia\, g. 18.00
URL:https://kultura.tarnow.pl/wydarzenie/wystawa-prac-dyplomowych-plsp-w-tarnowie-2/2026-05-10/
LOCATION:BWA na Dworcu PKP\, Plac Dworcowy 4\, Tarnów\, małopolskie\, 33-100\, Polska
CATEGORIES:wystawy
ATTACH;FMTTYPE=image/png:https://kultura.tarnow.pl/wp-content/uploads/plakaty-BWA-i-PLSP_-02.png
ORGANIZER;CN="Biuro Wystaw Artystycznych":MAILTO:biuro@bwa.tarnow.pl
GEO:50.0057629;20.9744639
X-APPLE-STRUCTURED-LOCATION;VALUE=URI;X-ADDRESS=BWA na Dworcu PKP Plac Dworcowy 4 Tarnów małopolskie 33-100 Polska;X-APPLE-RADIUS=500;X-TITLE=Plac Dworcowy 4:geo:20.9744639,50.0057629
END:VEVENT
BEGIN:VEVENT
DTSTART;TZID=Europe/Warsaw:20260511T090000
DTEND;TZID=Europe/Warsaw:20260511T170000
DTSTAMP:20260420T174021
CREATED:20260420T062854Z
LAST-MODIFIED:20260420T062854Z
UID:10029864-1778490000-1778518800@kultura.tarnow.pl
SUMMARY:Wystawa prac dyplomowych PLSP w Tarnowie
DESCRIPTION:Wystawa wybranych\, wyróżnionych prac dyplomowych i aneksów w Biuro Wystaw Artystycznych w Tarnowie\, Pl. Dworcowy 4 \nwystawa od 23 kwietnia do 16 maja 2026\nwernisaż 23 kwietnia\, g. 18.00
URL:https://kultura.tarnow.pl/wydarzenie/wystawa-prac-dyplomowych-plsp-w-tarnowie-2/2026-05-11/
LOCATION:BWA na Dworcu PKP\, Plac Dworcowy 4\, Tarnów\, małopolskie\, 33-100\, Polska
CATEGORIES:wystawy
ATTACH;FMTTYPE=image/png:https://kultura.tarnow.pl/wp-content/uploads/plakaty-BWA-i-PLSP_-02.png
ORGANIZER;CN="Biuro Wystaw Artystycznych":MAILTO:biuro@bwa.tarnow.pl
GEO:50.0057629;20.9744639
X-APPLE-STRUCTURED-LOCATION;VALUE=URI;X-ADDRESS=BWA na Dworcu PKP Plac Dworcowy 4 Tarnów małopolskie 33-100 Polska;X-APPLE-RADIUS=500;X-TITLE=Plac Dworcowy 4:geo:20.9744639,50.0057629
END:VEVENT
BEGIN:VEVENT
DTSTART;TZID=Europe/Warsaw:20260512T090000
DTEND;TZID=Europe/Warsaw:20260512T170000
DTSTAMP:20260420T174021
CREATED:20260420T062854Z
LAST-MODIFIED:20260420T062854Z
UID:10029865-1778576400-1778605200@kultura.tarnow.pl
SUMMARY:Wystawa prac dyplomowych PLSP w Tarnowie
DESCRIPTION:Wystawa wybranych\, wyróżnionych prac dyplomowych i aneksów w Biuro Wystaw Artystycznych w Tarnowie\, Pl. Dworcowy 4 \nwystawa od 23 kwietnia do 16 maja 2026\nwernisaż 23 kwietnia\, g. 18.00
URL:https://kultura.tarnow.pl/wydarzenie/wystawa-prac-dyplomowych-plsp-w-tarnowie-2/2026-05-12/
LOCATION:BWA na Dworcu PKP\, Plac Dworcowy 4\, Tarnów\, małopolskie\, 33-100\, Polska
CATEGORIES:wystawy
ATTACH;FMTTYPE=image/png:https://kultura.tarnow.pl/wp-content/uploads/plakaty-BWA-i-PLSP_-02.png
ORGANIZER;CN="Biuro Wystaw Artystycznych":MAILTO:biuro@bwa.tarnow.pl
GEO:50.0057629;20.9744639
X-APPLE-STRUCTURED-LOCATION;VALUE=URI;X-ADDRESS=BWA na Dworcu PKP Plac Dworcowy 4 Tarnów małopolskie 33-100 Polska;X-APPLE-RADIUS=500;X-TITLE=Plac Dworcowy 4:geo:20.9744639,50.0057629
END:VEVENT
BEGIN:VEVENT
DTSTART;TZID=Europe/Warsaw:20260513T090000
DTEND;TZID=Europe/Warsaw:20260513T170000
DTSTAMP:20260420T174021
CREATED:20260420T062854Z
LAST-MODIFIED:20260420T062854Z
UID:10029866-1778662800-1778691600@kultura.tarnow.pl
SUMMARY:Wystawa prac dyplomowych PLSP w Tarnowie
DESCRIPTION:Wystawa wybranych\, wyróżnionych prac dyplomowych i aneksów w Biuro Wystaw Artystycznych w Tarnowie\, Pl. Dworcowy 4 \nwystawa od 23 kwietnia do 16 maja 2026\nwernisaż 23 kwietnia\, g. 18.00
URL:https://kultura.tarnow.pl/wydarzenie/wystawa-prac-dyplomowych-plsp-w-tarnowie-2/2026-05-13/
LOCATION:BWA na Dworcu PKP\, Plac Dworcowy 4\, Tarnów\, małopolskie\, 33-100\, Polska
CATEGORIES:wystawy
ATTACH;FMTTYPE=image/png:https://kultura.tarnow.pl/wp-content/uploads/plakaty-BWA-i-PLSP_-02.png
ORGANIZER;CN="Biuro Wystaw Artystycznych":MAILTO:biuro@bwa.tarnow.pl
GEO:50.0057629;20.9744639
X-APPLE-STRUCTURED-LOCATION;VALUE=URI;X-ADDRESS=BWA na Dworcu PKP Plac Dworcowy 4 Tarnów małopolskie 33-100 Polska;X-APPLE-RADIUS=500;X-TITLE=Plac Dworcowy 4:geo:20.9744639,50.0057629
END:VEVENT
BEGIN:VEVENT
DTSTART;TZID=Europe/Warsaw:20260514T090000
DTEND;TZID=Europe/Warsaw:20260514T170000
DTSTAMP:20260420T174021
CREATED:20260420T062854Z
LAST-MODIFIED:20260420T062854Z
UID:10029867-1778749200-1778778000@kultura.tarnow.pl
SUMMARY:Wystawa prac dyplomowych PLSP w Tarnowie
DESCRIPTION:Wystawa wybranych\, wyróżnionych prac dyplomowych i aneksów w Biuro Wystaw Artystycznych w Tarnowie\, Pl. Dworcowy 4 \nwystawa od 23 kwietnia do 16 maja 2026\nwernisaż 23 kwietnia\, g. 18.00
URL:https://kultura.tarnow.pl/wydarzenie/wystawa-prac-dyplomowych-plsp-w-tarnowie-2/2026-05-14/
LOCATION:BWA na Dworcu PKP\, Plac Dworcowy 4\, Tarnów\, małopolskie\, 33-100\, Polska
CATEGORIES:wystawy
ATTACH;FMTTYPE=image/png:https://kultura.tarnow.pl/wp-content/uploads/plakaty-BWA-i-PLSP_-02.png
ORGANIZER;CN="Biuro Wystaw Artystycznych":MAILTO:biuro@bwa.tarnow.pl
GEO:50.0057629;20.9744639
X-APPLE-STRUCTURED-LOCATION;VALUE=URI;X-ADDRESS=BWA na Dworcu PKP Plac Dworcowy 4 Tarnów małopolskie 33-100 Polska;X-APPLE-RADIUS=500;X-TITLE=Plac Dworcowy 4:geo:20.9744639,50.0057629
END:VEVENT
END:VCALENDAR