BEGIN:VCALENDAR
VERSION:2.0
PRODID:-//kultura.tarnów - ECPv6.4.0.1//NONSGML v1.0//EN
CALSCALE:GREGORIAN
METHOD:PUBLISH
X-ORIGINAL-URL:https://kultura.tarnow.pl
X-WR-CALDESC:Wydarzenia dla
REFRESH-INTERVAL;VALUE=DURATION:PT1H
X-Robots-Tag:noindex
X-PUBLISHED-TTL:PT1H
BEGIN:VTIMEZONE
TZID:Europe/Warsaw
BEGIN:DAYLIGHT
TZOFFSETFROM:+0100
TZOFFSETTO:+0200
TZNAME:CEST
DTSTART:20260329T010000
END:DAYLIGHT
BEGIN:STANDARD
TZOFFSETFROM:+0200
TZOFFSETTO:+0100
TZNAME:CET
DTSTART:20261025T010000
END:STANDARD
END:VTIMEZONE
BEGIN:VEVENT
DTSTART;TZID=Europe/Warsaw:20260622T190000
DTEND;TZID=Europe/Warsaw:20260622T210000
DTSTAMP:20260420T004524
CREATED:20260415T073923Z
LAST-MODIFIED:20260415T073923Z
UID:10029824-1782154800-1782162000@kultura.tarnow.pl
SUMMARY:Pacześ x Lotek Tour 2 | Stand-Up!
DESCRIPTION:Po historycznym sukcesie pierwszej edycji wracają — więksi\, mocniejsi i jeszcze bardziej bezczelni. Pacześ i Lotek ponownie łączą siły\, żeby roznieść sceny w całej Polsce. Druga część tej komediowej trasy to nie tylko kontynuacja\, to upgrade wszystkiego\, co znacie i kochacie. \nRafał Pacześ i Łukasz „Lotek” Lodkowski zaprezentują zupełnie nowe\, premierowe programy napisane specjalnie na tę trasę. Każdy z nich – minimum 45 minut świeżego materiału\, zero powtórek\, maksimum ognia. \nDo tego prowadzący\, który zadba o to\, by przez ponad dwie godziny nikt nie miał czasu złapać oddechu. \nTo nie jest zwykła trasa. To wydarzenie\, które zapisze się w historii polskiego stand-upu grubą kreską. \nNie przegap tej okazji\, bo drugiego takiego duetu po prostu nie ma.
URL:https://kultura.tarnow.pl/wydarzenie/paczes-x-lotek-tour-2-stand-up/
LOCATION:Arena Jaskółka Tarnów\, ul. Traugutta 3B\, Tarnów\, Polska - małopolskie\, 33-101\, Polska
CATEGORIES:kabarety
ATTACH;FMTTYPE=image/jpeg:https://kultura.tarnow.pl/wp-content/uploads/paczes.jpg
GEO:50.009086;20.929684
X-APPLE-STRUCTURED-LOCATION;VALUE=URI;X-ADDRESS=Arena Jaskółka Tarnów ul. Traugutta 3B Tarnów Polska - małopolskie 33-101 Polska;X-APPLE-RADIUS=500;X-TITLE=ul. Traugutta 3B:geo:20.929684,50.009086
END:VEVENT
END:VCALENDAR