BEGIN:VCALENDAR
VERSION:2.0
PRODID:-//kultura.tarnów - ECPv6.4.0.1//NONSGML v1.0//EN
CALSCALE:GREGORIAN
METHOD:PUBLISH
X-WR-CALNAME:kultura.tarnów
X-ORIGINAL-URL:https://kultura.tarnow.pl
X-WR-CALDESC:Wydarzenia dla
REFRESH-INTERVAL;VALUE=DURATION:PT1H
X-Robots-Tag:noindex
X-PUBLISHED-TTL:PT1H
BEGIN:VTIMEZONE
TZID:Europe/Warsaw
BEGIN:DAYLIGHT
TZOFFSETFROM:+0100
TZOFFSETTO:+0200
TZNAME:CEST
DTSTART:20260329T010000
END:DAYLIGHT
BEGIN:STANDARD
TZOFFSETFROM:+0200
TZOFFSETTO:+0100
TZNAME:CET
DTSTART:20261025T010000
END:STANDARD
END:VTIMEZONE
BEGIN:VEVENT
DTSTART;TZID=Europe/Warsaw:20260425T090000
DTEND;TZID=Europe/Warsaw:20260425T150000
DTSTAMP:20260425T173132
CREATED:20260310T110845Z
LAST-MODIFIED:20260310T110845Z
UID:10029184-1777107600-1777129200@kultura.tarnow.pl
SUMMARY:"Gdy przedmiot staje się zabytkiem"
DESCRIPTION:Gdy przedmiot staje się zabytkiem. Nowości w zbiorach Muzeum Ziemi Tarnowskiej – wernisaż wystawy. \nAparat fotograficzny z lat 20. XX w. z Zakładu Fotograficznego Mroczkowskich w Tarnowie czy dawne szyldy reklamowe tarnowskich zakładów – m.in. te historyczne obiekty będą po raz pierwszy pokazane jako eksponaty na wystawie „Gdy przedmiot staje się zabytkiem. Nowości w zbiorach Muzeum Ziemi Tarnowskiej.” \nPrezentowana wystawa\, w całości poświęcona jest nowym nabytkom z ostatnich kilku lat i stanowi wyraz wdzięczności dla wszystkich\, którzy przekazują przedmioty do zbiorów Muzeum Ziemi Tarnowskiej. To dzięki nim kolekcja muzealna rokrocznie wzbogaca się i powiększa. \n– Niejednokrotnie są to cenne pamiątki rodzinne\, przechowywane od pokoleń\, co tym bardziej podnosi wartość ofiarowanych obiektów – podkreśla Dorota Lewicka kurator wystawy. \nWystawa przypomina\, że muzea są miejscami\, w których chroni\, zabezpiecza i udostępnia się dziedzictwo przeszłości kolejnym pokoleniom. Tylko w latach 2020-2025\, Muzeum Ziemi Tarnowskiej weszło w posiadanie blisko pięciu tysięcy nowych obiektów muzealnych\, z których ogromna część stanowiła darowiznę osób prywatnych. \nZadania muzeum nie ograniczają się do gromadzenia i pokazywania muzealiów na wystawach. Codzienną pracą muzealnika jest opracowywanie kolekcji\, zbieranie danych historycznych dotyczących obiektów i ich opis. W pracowni fotograficznej wykonywana jest dokumentacja wizualna\, konserwatorzy muzealni zabezpieczają zabytki i dokonują ich renowacji. \n– Pamiątki rodzinne stanowią świadectwo przeszłości i są wyrazem więzi między pokoleniami. Ważne jest\, aby np. listy czy zdjęcia odpowiednio przechowywać – dodaje Dorota Lewicka. \nWystawa zostanie otwarta w poniedziałek 16 marca 2026 r. o godz. 18:00 w Muzeum Historii Tarnowa i Regionu (Rynek 20-21). Wstęp na wernisaż jest bezpłatny. Wystawa czynna będzie do 30 sierpnia 2026 r. \nGodziny otwarcia: \nponiedziałek nieczynne\nwtorek 9.00 – 15.00\nśroda 9.00 – 15.00\nczwartek 9.00 – 15.00\npiątek 9.00 – 17.00\nsobota 10.00 – 15.00 (od 1 maja do 30 września); nieczynne (od 1 października do 30 kwietnia)\nniedziela 10.00 – 15.00 (od 1 maja do 30 września); 10.00 – 14.00 (od 1 października do 30 kwietnia)
URL:https://kultura.tarnow.pl/wydarzenie/gdy-przedmiot-staje-sie-zabytkiem-2/2026-04-25/
LOCATION:Muzeum Ziemi Tarnowskiej\, Rynek 3\, Tarnów\, małopolskie\, 33-100\, Polska
CATEGORIES:wystawy
ATTACH;FMTTYPE=image/jpeg:https://kultura.tarnow.pl/wp-content/uploads/plakat-muzeum-scaled.jpg
GEO:50.0122989;20.9877958
X-APPLE-STRUCTURED-LOCATION;VALUE=URI;X-ADDRESS=Muzeum Ziemi Tarnowskiej Rynek 3 Tarnów małopolskie 33-100 Polska;X-APPLE-RADIUS=500;X-TITLE=Rynek 3:geo:20.9877958,50.0122989
END:VEVENT
BEGIN:VEVENT
DTSTART;TZID=Europe/Warsaw:20260425T100000
DTEND;TZID=Europe/Warsaw:20260425T170000
DTSTAMP:20260425T173132
CREATED:20260403T055231Z
LAST-MODIFIED:20260403T055231Z
UID:10029805-1777111200-1777136400@kultura.tarnow.pl
SUMMARY:MISZ MASZ - wystawa
DESCRIPTION:Tarnowskie Centrum Kultury oraz Akademia Tarnowska zapraszają do obejrzenia nowej wystawy prac dyplomowych studentów Wydziału Sztuki. Ekspozycja będzie dostępna w Galerii TCK\, ukazując twórczość młodych artystów w różnorodnych formach\, z zakresu grafiki i wzornictwa. \nMiejsce: Galeria TCK (Tarnów\, Rynek 5)\nTermin: 11 – 29 kwietnia 2026 r.\nGodziny otwarcia: Poniedziałek–piątek: 10:00–18:00\, Sobota: 10:00–17:00\nWstęp wolny. \nWystawa jest prezentacją tegorocznych prac dyplomowych studentów\, którzy ukończyli kierunki grafika oraz wzornictwo (dizajn). Na ekspozycji będzie można zobaczyć szeroki wachlarz realizacji\, obejmujących projektowanie produktów\, modę\, komunikację wizualną\, grafikę wydawniczą\, multimedialną i reklamową. \nJest to jedenasta edycja wystawy\, która powstała w ramach owocnej współpracy Wydziału Sztuki z Tarnowskim Centrum Kultury. W trakcie trwania wystawy\, w Galerii TCK\, odbędą się również obrony prac dyplomowych\, które będą miały formę otwartą\, dostępną dla szerokiej publiczności. To doskonała okazja\, by nie tylko podziwiać efekty twórczej pracy młodych artystów\, ale także uczestniczyć w ich ważnym momencie edukacyjno-artystycznego rozwoju. \nTerminy obron prac dyplomowych: \nDyplomy z Grafiki \n20 kwietnia (część pierwsza) w godzinach: 9:30-16:10\n22 kwietnia (część druga) w godzinach: 9:30-13:30\n24 kwietnia (część trzecia) w godzinach: 9:30-15:30 \nDyplomy z Designu \n13 kwietnia (część pierwsza) w godzinach: 9:30-15:30\n16 kwietnia (część druga) w godzinach: 9:30-15:30\n21 kwietnia (część trzecia) w godzinach: 9:30-13:30
URL:https://kultura.tarnow.pl/wydarzenie/misz-masz-wystawa-2/2026-04-25/
LOCATION:Tarnowskie Centrum Kultury\, Rynek 5\, Tarnów\, małopolskie\, 33-100\, Polska
CATEGORIES:wystawy
ATTACH;FMTTYPE=image/jpeg:https://kultura.tarnow.pl/wp-content/uploads/fa2af35833b76a4ba6e8b2c7bf7b03dd.jpeg
GEO:50.012155;20.9878542
X-APPLE-STRUCTURED-LOCATION;VALUE=URI;X-ADDRESS=Tarnowskie Centrum Kultury Rynek 5 Tarnów małopolskie 33-100 Polska;X-APPLE-RADIUS=500;X-TITLE=Rynek 5:geo:20.9878542,50.012155
END:VEVENT
BEGIN:VEVENT
DTSTART;TZID=Europe/Warsaw:20260425T150000
DTEND;TZID=Europe/Warsaw:20260425T164000
DTSTAMP:20260425T173133
CREATED:20241025T085109Z
LAST-MODIFIED:20260310T124048Z
UID:10029679-1777129200-1777135200@kultura.tarnow.pl
SUMMARY:Frances Hodgson Burnett "Tajemniczy Ogród"
DESCRIPTION:25\, 26 kwietnia 15:00 – 16:40 \n28\, 29 kwietnia 09:00 – 10:40 oraz 11:30 – 13:10  \nReż. T. Obara \nSceniczna adaptacja klasyki literatury dziecięcej. Osierocona 10-latka\, Mary Lennox\, przybywa do Anglii do swojego jedynego krewnego\, wuja Archibalda. Pojawienie się nowego mieszkańca w ponurym domu na wrzosowisku odmienia życie wielu osób. Magiczna opowieść o potrzebie miłości\, poszukiwaniu przyjaźni i uzdrowicielskiej mocy kontaktu z naturą. \nBilety 30-70 zł \nhttps://teatr.tarnow.pl/spektakle/spektakle-familijne/tajemniczy-ogrod/
URL:https://kultura.tarnow.pl/wydarzenie/frances-hodgson-burnett-tajemniczy-ogrod/2026-04-25/
LOCATION:Teatr im. L.Solskiego\, Mickiewicza 4\, Tarnów\, małopolskie\, 33-100\, Polska
CATEGORIES:spektakle
ATTACH;FMTTYPE=image/jpeg:https://kultura.tarnow.pl/wp-content/uploads/Tajemnieczy-ogrod.jpg
GEO:50.0159214;20.987504
X-APPLE-STRUCTURED-LOCATION;VALUE=URI;X-ADDRESS=Teatr im. L.Solskiego Mickiewicza 4 Tarnów małopolskie 33-100 Polska;X-APPLE-RADIUS=500;X-TITLE=Mickiewicza 4:geo:20.987504,50.0159214
END:VEVENT
BEGIN:VEVENT
DTSTART;TZID=Europe/Warsaw:20260425T180000
DTEND;TZID=Europe/Warsaw:20260425T193000
DTSTAMP:20260425T173133
CREATED:20250203T095402Z
LAST-MODIFIED:20260310T122942Z
UID:10029675-1777140000-1777145400@kultura.tarnow.pl
SUMMARY:Rhea Leman "Bunkier"
DESCRIPTION:Ten kameralny dramat z elementami klaunady\, slapsticku\, kabaretu i musicalu poprzez swoją groteskową formę wciąga nas w świat chorobliwych ideologii. Obśmiewając je\, równocześnie przeraża\, ukazując jak historia może zataczać koło. \nRhea Leman stworzyła bardzo aktualną sztukę\, która w czasach odradzającej się ideologii wyższości ras i nacjonalizmu tworzy swego rodzaju lustro\, w którym mogą przeglądać się wszystkie społeczeństwa. Tytułowy “Bunkier” to miejsce\, gdzie spotykamy Josepha Goebbelsa kilkadziesiąt lat po II wojnie światowej\, a dokładnie dziś. Goebbels przebywając w nim jak w kapsule czasu\, wciąż przeżywa czasy wojny i mając świadomość tego co się wydarzyło po jej zakończeniu\, próbuje wyprzeć fakty i zmierzyć się z klęską nie tylko III Rzeszy\, ale i osobistą. Funkcjonuje w miejscu\, które staje się dla niego swego rodzaju mentalną pułapką\, z której nie ma wyjścia bo każde zakończenie będzie tragiczne. Odwiedza go Leni Riefenstahl i razem konfrontują swoją mroczną przeszłość\, tańcząc swoisty taniec śmierci. \n\nAutor: Rhea Leman\nPrzekład\, reżyseria\, opracowanie muzyczne: Filip Gieldon\nScenografia\, światło: Paulina Czernek\nKostiumy\, wizualizacje\, dźwięk: Adrianna Gołębiewska\nChoreografia: Justyna Kaczmarska-Orawiec\n\nFoto\, projekt afisza: Anna Orzyłowska\nAsystentka reżysera\, inspicjentka\, sufler: Izabella Wielgus\n\n24\, 25 \,26 kwietnia 18:00 – 19:25\n29\, 30 maja 19:00 – 20:25
URL:https://kultura.tarnow.pl/wydarzenie/bunkier-2/2026-04-25/
LOCATION:Teatr im. L.Solskiego\, Mickiewicza 4\, Tarnów\, małopolskie\, 33-100\, Polska
CATEGORIES:spektakle
ATTACH;FMTTYPE=image/jpeg:https://kultura.tarnow.pl/wp-content/uploads/BUNKIER_AFISZ_B0_pelny_tytul-724x1024-1.jpg
GEO:50.0159214;20.987504
X-APPLE-STRUCTURED-LOCATION;VALUE=URI;X-ADDRESS=Teatr im. L.Solskiego Mickiewicza 4 Tarnów małopolskie 33-100 Polska;X-APPLE-RADIUS=500;X-TITLE=Mickiewicza 4:geo:20.987504,50.0159214
END:VEVENT
END:VCALENDAR