BEGIN:VCALENDAR
VERSION:2.0
PRODID:-//kultura.tarnów - ECPv6.4.0.1//NONSGML v1.0//EN
CALSCALE:GREGORIAN
METHOD:PUBLISH
X-WR-CALNAME:kultura.tarnów
X-ORIGINAL-URL:https://kultura.tarnow.pl
X-WR-CALDESC:Wydarzenia dla
REFRESH-INTERVAL;VALUE=DURATION:PT1H
X-Robots-Tag:noindex
X-PUBLISHED-TTL:PT1H
BEGIN:VTIMEZONE
TZID:Europe/Warsaw
BEGIN:DAYLIGHT
TZOFFSETFROM:+0100
TZOFFSETTO:+0200
TZNAME:CEST
DTSTART:20260329T010000
END:DAYLIGHT
BEGIN:STANDARD
TZOFFSETFROM:+0200
TZOFFSETTO:+0100
TZNAME:CET
DTSTART:20261025T010000
END:STANDARD
END:VTIMEZONE
BEGIN:VEVENT
DTSTART;TZID=Europe/Warsaw:20260330T100000
DTEND;TZID=Europe/Warsaw:20260330T170000
DTSTAMP:20260421T075201
CREATED:20260311T094510Z
LAST-MODIFIED:20260311T094510Z
UID:10029710-1774864800-1774890000@kultura.tarnow.pl
SUMMARY:"Rozważania nad istotą czasu" Marek Kucharczyk
DESCRIPTION:Zapraszamy na wystawę fotograficzną Marka Kucharczyka\, który po raz kolejny zaprezentuje tarnowskiej publiczności swoje prace\, tym razem podejmując próbę odzwierciedlenia zróżnicowanej i wieloaspektowej natury czasu\, w fotografii. \n„Czymże więc jest czas? Jeśli nikt mnie o to nie pyta\, wiem. Jeśli pytającemu usiłuję wytłumaczyć\, nie wiem.” (Św. Augustyn z Hippony)\n \nCzas jest zbyt złożony by określać go jednym słowem. Greccy filozofowie stosowali trzy terminy na określenie czasu: chronos\, kairos i aion odzwierciedlające jego wcielenia. Pierwsze wcielenie to struktura linearna\, obiektywna\, wspólna dla wszystkich\, drugie – to struktura jednostkowa\, indywidualna\, obejmująca udział jednostek i zdarzeń\, i wreszcie trzecie – czas jest zarówno rozciągły jak i skończony\, obejmujący swym początkiem i końcem rozległą przestrzeń. \nCzy fotografia\, która powstaje jako mechanistyczny zapis kwantów światła\, które padają na materiał światłoczuły w ułamku sekundy może odzwierciedlać tak zróżnicowany\, wieloaspektowy charakter czasu? Próbować warto … \nMarek Kucharczyk – członek rzeczywisty Związku Polskich Artystów Fotografików (Okręg Lubelski). Biolog środowiskowy\, nauczyciel akademicki\, pracujący na Uniwersytecie Marii Curie-Skłodowskiej w Lublinie (profesor uczelni). Autor 26 wystaw indywidualnych\, m.in. „Faktury\, struktury i myśli ulotne”\, „Fragmenty większej całości”\, „Powidoki”\, „Repetycje”\, „Wieloświaty”\, „Zamyślniki i inne znaki przestankowe”\, „Między bios a anthropos” czy „Otarcia”. Brał udział w ponad 20 wystawach zbiorowych w kraju i za granicą. Jego prace znajdują się w zbiorach muzealnych i prywatnych. \nMiejsce: Galeria TCK (Tarnów\, Rynek 5)\nTermin: 14 marca – 3 kwietnia 2026 r.\nGodziny otwarcia: Poniedziałek–piątek: 10:00–18:00\, Sobota: 10:00–17:00\nBilety: 7 zł (normalny) i 5 zł (ulgowy).
URL:https://kultura.tarnow.pl/wydarzenie/rozwazania-nad-istota-czasu-marek-kucharczyk-2/2026-03-30/
LOCATION:Tarnowskie Centrum Kultury\, Rynek 5\, Tarnów\, małopolskie\, 33-100\, Polska
CATEGORIES:wystawy
ATTACH;FMTTYPE=image/jpeg:https://kultura.tarnow.pl/wp-content/uploads/cb0158c270ef19b500438d2e77be56d8.jpeg
GEO:50.012155;20.9878542
X-APPLE-STRUCTURED-LOCATION;VALUE=URI;X-ADDRESS=Tarnowskie Centrum Kultury Rynek 5 Tarnów małopolskie 33-100 Polska;X-APPLE-RADIUS=500;X-TITLE=Rynek 5:geo:20.9878542,50.012155
END:VEVENT
END:VCALENDAR