BEGIN:VCALENDAR
VERSION:2.0
PRODID:-//kultura.tarnów - ECPv6.4.0.1//NONSGML v1.0//EN
CALSCALE:GREGORIAN
METHOD:PUBLISH
X-ORIGINAL-URL:https://kultura.tarnow.pl
X-WR-CALDESC:Wydarzenia dla
REFRESH-INTERVAL;VALUE=DURATION:PT1H
X-Robots-Tag:noindex
X-PUBLISHED-TTL:PT1H
BEGIN:VTIMEZONE
TZID:Europe/Warsaw
BEGIN:DAYLIGHT
TZOFFSETFROM:+0100
TZOFFSETTO:+0200
TZNAME:CEST
DTSTART:20260329T010000
END:DAYLIGHT
BEGIN:STANDARD
TZOFFSETFROM:+0200
TZOFFSETTO:+0100
TZNAME:CET
DTSTART:20261025T010000
END:STANDARD
END:VTIMEZONE
BEGIN:VEVENT
DTSTART;TZID=Europe/Warsaw:20260328T090000
DTEND;TZID=Europe/Warsaw:20260328T150000
DTSTAMP:20260421T023606
CREATED:20260310T110845Z
LAST-MODIFIED:20260310T110845Z
UID:10029160-1774688400-1774710000@kultura.tarnow.pl
SUMMARY:"Gdy przedmiot staje się zabytkiem"
DESCRIPTION:Gdy przedmiot staje się zabytkiem. Nowości w zbiorach Muzeum Ziemi Tarnowskiej – wernisaż wystawy. \nAparat fotograficzny z lat 20. XX w. z Zakładu Fotograficznego Mroczkowskich w Tarnowie czy dawne szyldy reklamowe tarnowskich zakładów – m.in. te historyczne obiekty będą po raz pierwszy pokazane jako eksponaty na wystawie „Gdy przedmiot staje się zabytkiem. Nowości w zbiorach Muzeum Ziemi Tarnowskiej.” \nPrezentowana wystawa\, w całości poświęcona jest nowym nabytkom z ostatnich kilku lat i stanowi wyraz wdzięczności dla wszystkich\, którzy przekazują przedmioty do zbiorów Muzeum Ziemi Tarnowskiej. To dzięki nim kolekcja muzealna rokrocznie wzbogaca się i powiększa. \n– Niejednokrotnie są to cenne pamiątki rodzinne\, przechowywane od pokoleń\, co tym bardziej podnosi wartość ofiarowanych obiektów – podkreśla Dorota Lewicka kurator wystawy. \nWystawa przypomina\, że muzea są miejscami\, w których chroni\, zabezpiecza i udostępnia się dziedzictwo przeszłości kolejnym pokoleniom. Tylko w latach 2020-2025\, Muzeum Ziemi Tarnowskiej weszło w posiadanie blisko pięciu tysięcy nowych obiektów muzealnych\, z których ogromna część stanowiła darowiznę osób prywatnych. \nZadania muzeum nie ograniczają się do gromadzenia i pokazywania muzealiów na wystawach. Codzienną pracą muzealnika jest opracowywanie kolekcji\, zbieranie danych historycznych dotyczących obiektów i ich opis. W pracowni fotograficznej wykonywana jest dokumentacja wizualna\, konserwatorzy muzealni zabezpieczają zabytki i dokonują ich renowacji. \n– Pamiątki rodzinne stanowią świadectwo przeszłości i są wyrazem więzi między pokoleniami. Ważne jest\, aby np. listy czy zdjęcia odpowiednio przechowywać – dodaje Dorota Lewicka. \nWystawa zostanie otwarta w poniedziałek 16 marca 2026 r. o godz. 18:00 w Muzeum Historii Tarnowa i Regionu (Rynek 20-21). Wstęp na wernisaż jest bezpłatny. Wystawa czynna będzie do 30 sierpnia 2026 r. \nGodziny otwarcia: \nponiedziałek nieczynne\nwtorek 9.00 – 15.00\nśroda 9.00 – 15.00\nczwartek 9.00 – 15.00\npiątek 9.00 – 17.00\nsobota 10.00 – 15.00 (od 1 maja do 30 września); nieczynne (od 1 października do 30 kwietnia)\nniedziela 10.00 – 15.00 (od 1 maja do 30 września); 10.00 – 14.00 (od 1 października do 30 kwietnia)
URL:https://kultura.tarnow.pl/wydarzenie/gdy-przedmiot-staje-sie-zabytkiem-2/2026-03-28/
LOCATION:Muzeum Ziemi Tarnowskiej\, Rynek 3\, Tarnów\, małopolskie\, 33-100\, Polska
CATEGORIES:wystawy
ATTACH;FMTTYPE=image/jpeg:https://kultura.tarnow.pl/wp-content/uploads/plakat-muzeum-scaled.jpg
GEO:50.0122989;20.9877958
X-APPLE-STRUCTURED-LOCATION;VALUE=URI;X-ADDRESS=Muzeum Ziemi Tarnowskiej Rynek 3 Tarnów małopolskie 33-100 Polska;X-APPLE-RADIUS=500;X-TITLE=Rynek 3:geo:20.9877958,50.0122989
END:VEVENT
BEGIN:VEVENT
DTSTART;TZID=Europe/Warsaw:20260328T100000
DTEND;TZID=Europe/Warsaw:20260328T120000
DTSTAMP:20260421T023606
CREATED:20260318T084720Z
LAST-MODIFIED:20260318T084720Z
UID:10029731-1774692000-1774699200@kultura.tarnow.pl
SUMMARY:„Szlak Białego Wilka – odkrywamy świat Wiedźmina”
DESCRIPTION:„Szlak Białego Wilka – odkrywamy świat Wiedźmina” …czyli marcowe spotkanie Młodzieżowego Klubu Fantastyki \nData i godzina: 28 marca 2026 r. (sobota)\, godz. 10:00–12:00\nMiejsce: Czytelnia Czasopism MBP\, ul. Krakowska 4 (wejście od ulicy)\nDla kogo: młodzież w wieku 14–19 lat\nProwadzenie: Anna Sadowska \nMiejska Biblioteka Publiczna im. Juliusza Słowackiego w Tarnowie serdecznie zaprasza młodzież z Tarnowa i okolic do Młodzieżowego Klubu Fantastyki – przestrzeni dla pasjonatów literatury\, gier i kultury fantastycznej. To miejsce\, gdzie można rozwijać swoją kreatywność\, integrować się i wymieniać doświadczeniami w przyjaznej atmosferze. \nPodczas najbliższego spotkania wyruszymy Szlakiem Białego Wilka i przyjrzymy się niezwykle bogatej obecności Geralta z Rivii w popkulturze. Choć postać Wiedźmina kojarzy się przede wszystkim z książkami Andrzeja Sapkowskiego\, jej wpływ sięga znacznie dalej – do gier\, komiksów\, filmów\, seriali\, a nawet mniej oczywistych zakamarków kultury internetowej. Porozmawiamy m.in. o tym:\n– jak Wiedźmin stał się ikoną światowego gamingu dzięki „The Witcher 3: Wild Hunt”\n– jak funkcjonuje w filmowych i serialowych adaptacjach\, w tym w „The Witcher” (Netflix)\n– jak bywa reinterpretowany w komiksach i projektach fanowskich\n– gdzie pojawia się w memach\, reklamach i twórczości internetowej. \nZapraszamy wszystkich miłośników fantastyki!
URL:https://kultura.tarnow.pl/wydarzenie/szlak-bialego-wilka-odkrywamy-swiat-wiedzmina/
LOCATION:Czytelnia Czasopism Bieżących\, ul. Krakowska 4 (parter)\, Tarnów\, 33-100\, Polska
CATEGORIES:spotkania
ATTACH;FMTTYPE=image/jpeg:https://kultura.tarnow.pl/wp-content/uploads/Mlodziezowy-klub-fantastyki-1.jpg
END:VEVENT
BEGIN:VEVENT
DTSTART;TZID=Europe/Warsaw:20260328T100000
DTEND;TZID=Europe/Warsaw:20260328T120000
DTSTAMP:20260421T023606
CREATED:20260326T132654Z
LAST-MODIFIED:20260326T132654Z
UID:10029742-1774692000-1774699200@kultura.tarnow.pl
SUMMARY:Wystawa i kiermasz 35. Regionalnego Konkursu na Pisankę Ludową
DESCRIPTION:Wystawa i kiermasz 35. Regionalnego Konkursu na Pisankę Ludową i Plastykę Obrzędową związaną z okresem Wielkanocy \nPisanki\, plamy wielkanocne\, pająki\, świąteczne ozdoby – prace ponad 250 uczestników z całego regionu\, dzieci\, młodzieży i dorosłych można oglądać w Muzeum Etnograficznym w Tarnowie. Wszystkie zostały zgłoszone do 35. edycji Regionalnego Konkursu na Pisankę Ludową i Plastykę Obrzędową związaną z okresem Wielkanocy i stanowią wyjątkowy przykład kultywowania oraz rozwijania wielkanocnych tradycji. \nZwiedzający zobaczą bogactwo form i technik – od tradycyjnych pisanek wykonywanych naturalnymi metodami\, po rozbudowane kompozycje stołów wielkanocnych i elementy plastyki obrzędowej. Wszystkie prace łączy jedno: inspiracja lokalnym dziedzictwem oraz wykorzystanie naturalnych materiałów\, zgodnie z ideą Konkursu. Wstęp na wystawę jest bezpłatny\, w piątek 27 marca prace będzie można oglądać od 9:00 do 16:30. \nW sobotę\, 28 marca\, w godzinach 10:00–11:45 odbędzie się Kiermasz Wielkanocny. Będzie to doskonała okazja\, aby nabyć wybrane prace konkursowe i zabrać ze sobą do domu unikatowe\, ręcznie wykonane ozdoby świąteczne. Tego samego dnia o godzinie 12:00 rozpocznie się finał Konkursu\, podczas którego ogłoszone zostaną wyniki i wręczone nagrody twórcom. \nOrganizatorem wydarzenia jest Muzeum Ziemi Tarnowskiej\, a partnerem Małopolskie Centrum Kultury SOKÓŁ w Nowym Sączu. Konkurs od lat cieszy się dużym zainteresowaniem i stanowi ważny element podtrzymywania oraz popularyzacji tradycji ludowych w regionie.
URL:https://kultura.tarnow.pl/wydarzenie/wystawa-i-kiermasz-35-regionalnego-konkursu-na-pisanke-ludowa/2026-03-28/
LOCATION:Muzeum Etnograficzne\, ul. krakowska 10\, Tarnów\, małopolskie\, 33-100\, Polska
CATEGORIES:wystawy
ATTACH;FMTTYPE=image/jpeg:https://kultura.tarnow.pl/wp-content/uploads/plakat_pisanki2026b-scaled.jpg
GEO:50.01092;20.98332
X-APPLE-STRUCTURED-LOCATION;VALUE=URI;X-ADDRESS=Muzeum Etnograficzne ul. krakowska 10 Tarnów małopolskie 33-100 Polska;X-APPLE-RADIUS=500;X-TITLE=ul. krakowska 10:geo:20.98332,50.01092
END:VEVENT
BEGIN:VEVENT
DTSTART;TZID=Europe/Warsaw:20260328T100000
DTEND;TZID=Europe/Warsaw:20260328T160000
DTSTAMP:20260421T023606
CREATED:20260309T085511Z
LAST-MODIFIED:20260309T092859Z
UID:10029143-1774692000-1774713600@kultura.tarnow.pl
SUMMARY:Kinga Birecka - wystawa
DESCRIPTION:Kinga Birecka \nAbsolwentka Liceum Plastycznego w Tarnowie. Ukończyła studia malarskie z wyróżnieniem na LSAD Limerick Institute of Technology w Irlandii z tytułem Bachelor of Arts (Hons). Prowadzi zajęcia plastyczna w Dąbrowskim Domu Kultury. \nW swojej praktyce czerpie inspirację z działalności człowieka\, szczególnie z architektury i geometrii\, ale również z natury i świata fizyki. Duży wpływ na jej twórczość ma też literatura\, która nie raz przebija się w konkretnych pracach. Kingę interesuje interpretacja świata\, który jest nam dany\, który tworzymy i który odkrywamy. \n„W moich pracach szukam piękna w różnych miejscach\, od najpospolitszych twórców przyrody do metafizycznych przejść we wszechświatach. W moim malarstwie łączę realizm z abstrakcją i geometrią. Lubię przeciwstawiać sobie teoretycznie różne tematy\, które w praktyce tworzą harmonię. Lubię bawić się kolorem i formą\, niektóre moje prace są ekspresyjne\, a inne wyważone\, wręcz wyliczone\, ale zawsze pełne kolorów.”
URL:https://kultura.tarnow.pl/wydarzenie/kinga-birecka/2026-03-28/
LOCATION:Galeria ARTEKA\, Wałowa 16\, Tarnów\, 33-100
CATEGORIES:wystawy
ORGANIZER;CN="Stowarzyszenie Tarnowskich Artyst%C3%B3w Plastyk%C3%B3w":MAILTO:stowarzyszenie.arteka@gmail.com
END:VEVENT
BEGIN:VEVENT
DTSTART;TZID=Europe/Warsaw:20260328T100000
DTEND;TZID=Europe/Warsaw:20260328T170000
DTSTAMP:20260421T023606
CREATED:20260311T094510Z
LAST-MODIFIED:20260311T094510Z
UID:10029709-1774692000-1774717200@kultura.tarnow.pl
SUMMARY:"Rozważania nad istotą czasu" Marek Kucharczyk
DESCRIPTION:Zapraszamy na wystawę fotograficzną Marka Kucharczyka\, który po raz kolejny zaprezentuje tarnowskiej publiczności swoje prace\, tym razem podejmując próbę odzwierciedlenia zróżnicowanej i wieloaspektowej natury czasu\, w fotografii. \n„Czymże więc jest czas? Jeśli nikt mnie o to nie pyta\, wiem. Jeśli pytającemu usiłuję wytłumaczyć\, nie wiem.” (Św. Augustyn z Hippony)\n \nCzas jest zbyt złożony by określać go jednym słowem. Greccy filozofowie stosowali trzy terminy na określenie czasu: chronos\, kairos i aion odzwierciedlające jego wcielenia. Pierwsze wcielenie to struktura linearna\, obiektywna\, wspólna dla wszystkich\, drugie – to struktura jednostkowa\, indywidualna\, obejmująca udział jednostek i zdarzeń\, i wreszcie trzecie – czas jest zarówno rozciągły jak i skończony\, obejmujący swym początkiem i końcem rozległą przestrzeń. \nCzy fotografia\, która powstaje jako mechanistyczny zapis kwantów światła\, które padają na materiał światłoczuły w ułamku sekundy może odzwierciedlać tak zróżnicowany\, wieloaspektowy charakter czasu? Próbować warto … \nMarek Kucharczyk – członek rzeczywisty Związku Polskich Artystów Fotografików (Okręg Lubelski). Biolog środowiskowy\, nauczyciel akademicki\, pracujący na Uniwersytecie Marii Curie-Skłodowskiej w Lublinie (profesor uczelni). Autor 26 wystaw indywidualnych\, m.in. „Faktury\, struktury i myśli ulotne”\, „Fragmenty większej całości”\, „Powidoki”\, „Repetycje”\, „Wieloświaty”\, „Zamyślniki i inne znaki przestankowe”\, „Między bios a anthropos” czy „Otarcia”. Brał udział w ponad 20 wystawach zbiorowych w kraju i za granicą. Jego prace znajdują się w zbiorach muzealnych i prywatnych. \nMiejsce: Galeria TCK (Tarnów\, Rynek 5)\nTermin: 14 marca – 3 kwietnia 2026 r.\nGodziny otwarcia: Poniedziałek–piątek: 10:00–18:00\, Sobota: 10:00–17:00\nBilety: 7 zł (normalny) i 5 zł (ulgowy).
URL:https://kultura.tarnow.pl/wydarzenie/rozwazania-nad-istota-czasu-marek-kucharczyk-2/2026-03-28/
LOCATION:Tarnowskie Centrum Kultury\, Rynek 5\, Tarnów\, małopolskie\, 33-100\, Polska
CATEGORIES:wystawy
ATTACH;FMTTYPE=image/jpeg:https://kultura.tarnow.pl/wp-content/uploads/cb0158c270ef19b500438d2e77be56d8.jpeg
GEO:50.012155;20.9878542
X-APPLE-STRUCTURED-LOCATION;VALUE=URI;X-ADDRESS=Tarnowskie Centrum Kultury Rynek 5 Tarnów małopolskie 33-100 Polska;X-APPLE-RADIUS=500;X-TITLE=Rynek 5:geo:20.9878542,50.012155
END:VEVENT
BEGIN:VEVENT
DTSTART;TZID=Europe/Warsaw:20260328T180000
DTEND;TZID=Europe/Warsaw:20260328T193000
DTSTAMP:20260421T023606
CREATED:20260216T083747Z
LAST-MODIFIED:20260310T100716Z
UID:10028664-1774720800-1774726200@kultura.tarnow.pl
SUMMARY:"Prawda" Florian Zeller
DESCRIPTION:Czy prawda chroni\, czy komplikuje życie i relacje?\n„Prawda” Floriana Zellera to dynamiczna\, przewrotna komedia o związkach\, w których szczerość szybko zamienia się w pole minowe. Bohaterowie — młodzi dorośli z kilkuletnim doświadczeniem w relacjach — są przekonani\, że wiedzą już wszystko: jak kochać\, jak ufać i jak mówić prawdę. Do czasu.\nMichel uważa\, że nie każda prawda jest potrzebna. Zwłaszcza ta niewygodna. Romans z żoną najlepszego przyjaciela uruchamia lawinę zdarzeń: półprawdy\, nagłe zmiany wersji\, nerwowe improwizacje i coraz bardziej karkołomne kłamstwa. Jedno słowo za dużo\, jedno przemilczenie — i wszystko zaczyna się sypać.\nTe miłosne perypetie prowadzą do serii zabawnych\, farsowych sytuacji pełnych nieporozumień\, zwrotów akcji i komediowego chaosu\, w którym każdy próbuje wyjść z twarzą\, a nikt nie panuje już nad własną wersją prawdy. Zeller z lekkością i precyzją pokazuje\, jak z pozornie rozsądnych decyzji rodzi się absurd — i zadaje pytanie: czy prawda naprawdę chroni\, czy tylko efektownie komplikuje życie?\nBilety: 30-70 zł\nhttps://teatr.tarnow.pl/repertuar/?smonth=2026-03 \n27.03 piątek godz. 18.00\, Duża Scena\, pokaz przedpremierowy\n28.03 sobota godz. 18.00\, pokaz przedpremierowy\n29.03 niedziela godz. 18.00 PREMIERA
URL:https://kultura.tarnow.pl/wydarzenie/prawda-florian-zeller/2026-03-28/
LOCATION:Teatr im. L.Solskiego\, Mickiewicza 4\, Tarnów\, małopolskie\, 33-100\, Polska
CATEGORIES:spektakle
ATTACH;FMTTYPE=image/jpeg:https://kultura.tarnow.pl/wp-content/uploads/PRAWDA1-www.jpg
GEO:50.0159214;20.987504
X-APPLE-STRUCTURED-LOCATION;VALUE=URI;X-ADDRESS=Teatr im. L.Solskiego Mickiewicza 4 Tarnów małopolskie 33-100 Polska;X-APPLE-RADIUS=500;X-TITLE=Mickiewicza 4:geo:20.987504,50.0159214
END:VEVENT
END:VCALENDAR