BEGIN:VCALENDAR
VERSION:2.0
PRODID:-//kultura.tarnów - ECPv6.4.0.1//NONSGML v1.0//EN
CALSCALE:GREGORIAN
METHOD:PUBLISH
X-WR-CALNAME:kultura.tarnów
X-ORIGINAL-URL:https://kultura.tarnow.pl
X-WR-CALDESC:Wydarzenia dla
REFRESH-INTERVAL;VALUE=DURATION:PT1H
X-Robots-Tag:noindex
X-PUBLISHED-TTL:PT1H
BEGIN:VTIMEZONE
TZID:Europe/Warsaw
BEGIN:DAYLIGHT
TZOFFSETFROM:+0100
TZOFFSETTO:+0200
TZNAME:CEST
DTSTART:20250330T010000
END:DAYLIGHT
BEGIN:STANDARD
TZOFFSETFROM:+0200
TZOFFSETTO:+0100
TZNAME:CET
DTSTART:20251026T010000
END:STANDARD
END:VTIMEZONE
BEGIN:VEVENT
DTSTART;TZID=Europe/Warsaw:20251021T093000
DTEND;TZID=Europe/Warsaw:20251021T153000
DTSTAMP:20260420T161654
CREATED:20250902T073106Z
LAST-MODIFIED:20250909T102218Z
UID:10026597-1761039000-1761060600@kultura.tarnow.pl
SUMMARY:Rafał Nijak "Pejzaż - w procesie badawczym".
DESCRIPTION:dr Rafał Nijak – urodził się 24 stycznia 1981 roku w Tarnowie. Jest absolwentem Zespołu Sztuk Plastycznych im. Artura Grottgera w Tarnowie ze specjalizacją meblarstwa artystycznego. W 2001 roku uczęszczał do Studium Konserwacji Mebla w Tarnowie. W 2002 roku zdał egzamin wstępny do Akademii Sztuk Pięknych w Warszawie na Wydział Konserwacji i Restauracji Dzieł Sztuki\, gdzie studiował rysunek i malarstwo u profesorów: Piotra Bogusławskiego\, Mariana Czapli\, Mariana Nowińskiego\, następnie Zofii Glazer oraz dr. Mariusza Woszczyńskiego. W 2007 roku w ramach międzyuczelnianego programu Sokrates – Erasmus przez okres jednego semestru studiował w Wyższej Szkole Sztuk Pięknych w Bratysławie w Pracowni Restauracji Rzeźby Drewnianej prof. Jana Gazdika\, Pracowni Rysunku ad. Dawida Czarskiego\, Pracowni Malarstwa prof. Ľudovíta Holoski oraz Pracowni Technik Graficznych ad. Piotra Augustovicza. W latach 2007–2009 uczęszczał na zajęcia Studium Pedagogicznego przy ASP w Warszawie. W 2009 roku uzyskał dyplom magisterski na podstawie pracy przygotowanej na WKiRDS w Pracowni Konserwacji i Restauracji Malarstwa Tablicowego i Rzeźby Drewnianej Polichromowanej pod kierunkiem prof. dr hab. Marii Lubryczyńskiej. W styczniu 2016 roku obronił pracę doktorską na Wydziale Grafiki ASP w Warszawie w Pracowni Litografii pod kierunkiem prof. dr. hab. Błażeja Ostoja Lniskiego. Od lutego 2016 roku jest zatrudniony na Wydziale Konserwacji i Restauracji Dzieł Sztuki ASP w Warszawie w Katedrze Technik i Technologii Malarstwa Sztalugowego. Od października 2017 roku pracuje na stanowisku adiunkta w Pracowni Technologii Pozłotnictwa i Kopii Miniatury\, zaś od 2020 roku pełni funkcję kierownika katedry WKiRDS. Pracuje w zawodzie konserwatora dzieł sztuki. Uprawia malarstwo\, rysunek i grafikę. \nGODZINY OTWARCIA: \nPONIEDZIAŁEK – NIECZYNNE \nWTOREK: 9.30-15.30 \nŚRODA: 9.30-15.30 \nCZWARTEK: 9.30-15.30 \nPIĄTEK: 9.30-15.30 \nSOBOTA: 9.00-13.00 \nNIEDZIELA  I ŚWIĘTA: 9.00-13.00 \nPRZERWA TECHNICZNA \nOPRÓCZ WEEKENDÓW  I  ŚWIĄT: 12.00-13.00
URL:https://kultura.tarnow.pl/wydarzenie/rafal-nijak-pejsaz-w-procesie-badawczym/2025-10-21/
LOCATION:Muzeum Diecezjalne\, Pl. Katedralny 6\, 33-100 Tarnów\, Małopolskie\, 33-100
CATEGORIES:wystawy
ATTACH;FMTTYPE=image/jpeg:https://kultura.tarnow.pl/wp-content/uploads/A4-plakat-wystawa-muzeum-JPEG-1086x1536-1.jpg
ORGANIZER;CN="Muzeum Diecezjalne":MAILTO:muzeum@diecezja.tarnow.pl
END:VEVENT
BEGIN:VEVENT
DTSTART;TZID=Europe/Warsaw:20251021T100000
DTEND;TZID=Europe/Warsaw:20251021T170000
DTSTAMP:20260420T161654
CREATED:20250903T075720Z
LAST-MODIFIED:20250903T075720Z
UID:10026640-1761040800-1761066000@kultura.tarnow.pl
SUMMARY:Andrzeja Ziółkowskiego „Universal Wisdom. Wieczysta Mądrość”
DESCRIPTION:Tarnowskie Centrum Kultury zaprasza na wystawę fotografii Andrzeja Ziółkowskiego „Universal Wisdom. Wieczysta Mądrość”\, który przemierzał kraje Azji Południowo-Wschodniej\, Indie\, Nepal i Tybet\, starając się uchwycić w fotografii uniwersalny wymiar ludzkiej duchowości\, bez względu na religijną przynależność. \nWernisaż i spotkanie z autorem: 3 października o godzinie 18:00 – spotkanie z Andrzejem Ziółkowskim poprowadzi Tomasz Sobczak\nMiejsce: Galeria TCK (Tarnów\, Rynek 5)\nTermin: 4 – 31 października 2025 r.\nGodziny otwarcia: Poniedziałek–piątek: 10:00–18:00\, Sobota: 10:00–17:00\nBilety: 7 zł (normalny) i 5 zł (ulgowy). \nWystawa jest zaproszeniem do spotkania z wyznawcami wielkich religii świata w Azji Południowo-Wschodniej i do duchowej podróży przez mądrość ich świętych ksiąg. Łączy ich pragnienie kontaktu z sacrum. Andrzej Ziółkowski pokazuje ich w najbardziej intymnych momentach przeżyć duchowych: żarliwej modlitwy\, pokuty\, próby duchowego zespolenia z Praźródłem. Miejsca kultu\, rytuały oraz ciała\, twarze i dłonie bohaterów fotografii stały się fotograficznym komentarzem autora do poetyckich tłumaczeń fragmentów ksiąg sakralnych chrześcijaństwa\, islamu\, hinduizmu\, buddyzmu\, judaizm oraz taoizmu.\nTa fotograficzna podróż pomaga zrozumieć\, że mimo różnic w tradycjach religijnych\, obrzędach czy formach ekspresji\, pragnienia wszystkich ludzi wiary są do siebie podobne. Zaczynamy dostrzegać\, jak mało nas różni\, a jak wiele łączy. \n„Zdjęcia Andrzeja Ziółkowskiego dowodzą\, że duchowość Azji Południowo-Wschodniej łączy wymiary sztuki teatralnej i religii\, tworząc pewnego rodzaju hybrydę. Rytuał religijny splata się z widowiskiem teatralnym w intensywnej próbie dotarcia do sacrum. Powstaje widowisko zagarniające całą ludzką rzeczywistość\, tę prozaiczną\, fizykalną i tę\, którą obejmuje tylko wyobraźnia. Nie ma już dzielenia świata na obszar sacrum i profanum. Piękne\, pełne teatralnej ekspresji zdjęcia Andrzeja Ziółkowskiego dowodzą głębokiej prawdy słów Marca Chagalla: „Sztuka jest dla mnie stanem duszy. A dusza jest święta”. \nMaja Jaszewska\nUniversal Wisdom. Wieczysta Mądrość (z przedmowy) \nAndrzej Ziółkowski urodził się w Gdyni. Absolwent Wydziału Elektroniki na Politechnice Gdańskiej. Po wielu latach pracy w przemyśle elektronicznym\, z tego 20 lat w międzynarodowym koncernie elektronicznym w Singapurze\, oddaje się od roku 2005 swej pasji fotografowania.\nW marcu 2012 roku\, podczas podróży fotograficznej w Południowych Indiach\, dotarł do chrześcijańskiej aśramy Aanmodaya w Kanchipuram. W świątyni aśramy odnalazł książkę Universal Wisdom (Wieczysta Mądrość religii świata)\, napisaną przez angielskiego benedyktyna Bede Griffithsa (1906–1993). Zainspirowany duchowym testamentem tego wielkiego mistyka i mędrca – „wyjścia poza ograniczenia kulturowe wielkich religii i znalezienia mądrości leżącej u podstaw ich różnorodności” – przemierzał kraje Azji Południowo-Wschodniej\, Indie\, Nepal i Tybet\, starając się uchwycić w fotografii uniwersalny wymiar ludzkiej duchowości\, bez względu na religijną przynależność. \nOwocem tych wędrówek są dwa albumy fotograficzne z niepublikowanymi dotąd w Polsce tłumaczeniami tekstów Bede Griffithsa\, wydane w latach 2021 i 2022: „The Inward Moment. Człowiek wobec sacrum” (przedmowy Olga Tokarczuk i Jego Świątobliwość Dalajlama) i „Universal Wisdom. Wieczysta Mądrość” (przedmowa Maja Jaszewska). Od czasu premiery pierwszego albumu jego wystawy były prezentowane w wielu enomowanych galeriach i na plenerach w całej Polsce.\nAutor jest członkiem Związku Polskich Artystów Fotografików.
URL:https://kultura.tarnow.pl/wydarzenie/andrzeja-ziolkowskiego-universal-wisdom-wieczysta-madrosc/2025-10-21/
LOCATION:Tarnowskie Centrum Kultury\, Rynek 5\, Tarnów\, małopolskie\, 33-100\, Polska
CATEGORIES:wystawy
ATTACH;FMTTYPE=image/jpeg:https://kultura.tarnow.pl/wp-content/uploads/79315f3d4c8e4bcaa498065bb657f6bb-scaled.jpeg
GEO:50.012155;20.9878542
X-APPLE-STRUCTURED-LOCATION;VALUE=URI;X-ADDRESS=Tarnowskie Centrum Kultury Rynek 5 Tarnów małopolskie 33-100 Polska;X-APPLE-RADIUS=500;X-TITLE=Rynek 5:geo:20.9878542,50.012155
END:VEVENT
BEGIN:VEVENT
DTSTART;TZID=Europe/Warsaw:20251021T100000
DTEND;TZID=Europe/Warsaw:20251021T170000
DTSTAMP:20260420T161654
CREATED:20251001T103428Z
LAST-MODIFIED:20251001T103428Z
UID:10026813-1761040800-1761066000@kultura.tarnow.pl
SUMMARY:Paulina Stasik "Widok własny"
DESCRIPTION:Obrazy Pauliny Stasik\, malarki związanej z Krakowem\, choć na pierwszy rzut oka pełne alegorii i symboli\, są zakorzenione w autobiografii artystki. Układają się w intymny\, choć zakamuflowany autoportret na przestrzeni czasu. Rok 2025 to dla niej moment przełomowy\, kiedy kończy 35 lat. Spotykamy ją symbolicznie na rozdrożu – w punkcie zawieszenia między tym\, co było\, a tym\, co dopiero się wydarzy. Wystawa prezentująca najnowsze obrazy i prace na papierze to próba rozliczenia się z dotychczasową drogą – dzieciństwem\, doświadczeniem dorastania\, pamięcią wpisaną w ciało i relacjami\, które naznaczyły życie artystki. To także moment przejęcia narracji i pisania jej na nowo nie tylko za pomocą obrazów\, ale także tekstu literackiego wydanego równolegle do wystawy w formie pierwszej książki. \nZebrane razem\, obrazy tworzą symboliczną mapę drogi artystki\, odwołującą się do obecnego w ikonografii od średniowiecza do XIX wieku motywu „etapów życia kobiety”. Paulina Stasik świadomie sięga po tę tradycyjną alegorię\, by ją przekształcić i zakwestionować jej patriarchalny charakter. Zamiast powielać model kobiecego życia jako pasywnego ciągu ról narzuconych przez normy społeczne\, ukazuje proces samopoznania\, rozliczenia z przeszłością i odzyskiwania sprawczości. Choć jej obrazy wyrastają z osobistych przeżyć\, dotykają uniwersalnych kwestii – takich jak poszukiwanie tożsamości\, dojrzewanie i wewnętrzna transformacja.Wystawie towarzyszyć będzie premiera książki “Autoportret” z językiem na wierzchu\, zaprojektowanej przez Agatę Biskup zawierającej autokomentarze artystki oraz teksty krytyczne Natalii Gierowskiej i Michaliny Sablik.\n\nPaulina Stasik (ur. 1990) malarka\, rysowniczka. Absolwentka Akademii Sztuk Pięknych im. Jana Matejki w Krakowie na Wydziale Malarstwa. Jej prace były prezentowane na wielu wystawach indywidualnych i grupowych w kraju i za granicą: w Muzeum Sztuki Współczesnej MOCAK w Krakowie (2025)\, galerii Belenius w Sztokholmie (2025)\, Museum Kampa w Pradze (2025)\, PM/AM w Londynie (2024)\, Lyles & King w Nowym Jorku (2024\, 2022)\, UTA Artist Space w Los Angeles (2023)\, w Galerii Raster w Warszawie (2023\, 2021/2020)\, w Rondzie Sztuki w Katowicach (2023)\, Zachęcie – Narodowej Galerii Sztuki w Warszawie (2022)\, Muzeum Sztuki Nowoczesnej w Warszawie (2022\, 2019)\, w Galerii Sztuki Wozownia w Toruniu (2020\, 2018)\, Spread Museum w Entrevaux we Francji (2021)\, w Galerii Shefter w Krakowie (2019)\, w Nowohuckim Centrum Kultury w Krakowie (2017)\, MODEM Center for Modern and Contemporary Art w Debreczynie (2017) oraz w Muzeum Etnograficznym w Warszawie (2013). Współpracuje z Galerią Raster.\n\n\nWernisaż w niedzielę\, 19.10.2025 o g.15:00.\n19.10 – 18.11.2025Kuratorka: Michalina SablikOprawa graficzna: Agata BiskupWystawa zrealizowana we współpracy z Galerią Raster.Partner: Dekoma\n\nBiuro Wystaw Artystycznych w Tarnowie / Pałacyk Strzeleckiul. Słowackiego 1
URL:https://kultura.tarnow.pl/wydarzenie/paulina-stasik-widok-wlasny-2/2025-10-21/
LOCATION:Biuro Wystaw Artystycznych\, ul. Słowackiego 1\, Tarnów\, małopolskie\, 33-100\, Polska
CATEGORIES:wystawy
ATTACH;FMTTYPE=image/jpeg:https://kultura.tarnow.pl/wp-content/uploads/558668854_1376821451117858_7041826237239573782_n-2.jpg
ORGANIZER;CN="Biuro Wystaw Artystycznych":MAILTO:biuro@bwa.tarnow.pl
GEO:50.0178761;20.9827521
X-APPLE-STRUCTURED-LOCATION;VALUE=URI;X-ADDRESS=Biuro Wystaw Artystycznych ul. Słowackiego 1 Tarnów małopolskie 33-100 Polska;X-APPLE-RADIUS=500;X-TITLE=ul. Słowackiego 1:geo:20.9827521,50.0178761
END:VEVENT
END:VCALENDAR