BEGIN:VCALENDAR
VERSION:2.0
PRODID:-//kultura.tarnów - ECPv6.4.0.1//NONSGML v1.0//EN
CALSCALE:GREGORIAN
METHOD:PUBLISH
X-ORIGINAL-URL:https://kultura.tarnow.pl
X-WR-CALDESC:Wydarzenia dla
REFRESH-INTERVAL;VALUE=DURATION:PT1H
X-Robots-Tag:noindex
X-PUBLISHED-TTL:PT1H
BEGIN:VTIMEZONE
TZID:Europe/Warsaw
BEGIN:DAYLIGHT
TZOFFSETFROM:+0100
TZOFFSETTO:+0200
TZNAME:CEST
DTSTART:20250330T010000
END:DAYLIGHT
BEGIN:STANDARD
TZOFFSETFROM:+0200
TZOFFSETTO:+0100
TZNAME:CET
DTSTART:20251026T010000
END:STANDARD
END:VTIMEZONE
BEGIN:VEVENT
DTSTART;TZID=Europe/Warsaw:20251018T093000
DTEND;TZID=Europe/Warsaw:20251018T153000
DTSTAMP:20260420T004450
CREATED:20250902T073106Z
LAST-MODIFIED:20250909T102218Z
UID:10026595-1760779800-1760801400@kultura.tarnow.pl
SUMMARY:Rafał Nijak "Pejzaż - w procesie badawczym".
DESCRIPTION:dr Rafał Nijak – urodził się 24 stycznia 1981 roku w Tarnowie. Jest absolwentem Zespołu Sztuk Plastycznych im. Artura Grottgera w Tarnowie ze specjalizacją meblarstwa artystycznego. W 2001 roku uczęszczał do Studium Konserwacji Mebla w Tarnowie. W 2002 roku zdał egzamin wstępny do Akademii Sztuk Pięknych w Warszawie na Wydział Konserwacji i Restauracji Dzieł Sztuki\, gdzie studiował rysunek i malarstwo u profesorów: Piotra Bogusławskiego\, Mariana Czapli\, Mariana Nowińskiego\, następnie Zofii Glazer oraz dr. Mariusza Woszczyńskiego. W 2007 roku w ramach międzyuczelnianego programu Sokrates – Erasmus przez okres jednego semestru studiował w Wyższej Szkole Sztuk Pięknych w Bratysławie w Pracowni Restauracji Rzeźby Drewnianej prof. Jana Gazdika\, Pracowni Rysunku ad. Dawida Czarskiego\, Pracowni Malarstwa prof. Ľudovíta Holoski oraz Pracowni Technik Graficznych ad. Piotra Augustovicza. W latach 2007–2009 uczęszczał na zajęcia Studium Pedagogicznego przy ASP w Warszawie. W 2009 roku uzyskał dyplom magisterski na podstawie pracy przygotowanej na WKiRDS w Pracowni Konserwacji i Restauracji Malarstwa Tablicowego i Rzeźby Drewnianej Polichromowanej pod kierunkiem prof. dr hab. Marii Lubryczyńskiej. W styczniu 2016 roku obronił pracę doktorską na Wydziale Grafiki ASP w Warszawie w Pracowni Litografii pod kierunkiem prof. dr. hab. Błażeja Ostoja Lniskiego. Od lutego 2016 roku jest zatrudniony na Wydziale Konserwacji i Restauracji Dzieł Sztuki ASP w Warszawie w Katedrze Technik i Technologii Malarstwa Sztalugowego. Od października 2017 roku pracuje na stanowisku adiunkta w Pracowni Technologii Pozłotnictwa i Kopii Miniatury\, zaś od 2020 roku pełni funkcję kierownika katedry WKiRDS. Pracuje w zawodzie konserwatora dzieł sztuki. Uprawia malarstwo\, rysunek i grafikę. \nGODZINY OTWARCIA: \nPONIEDZIAŁEK – NIECZYNNE \nWTOREK: 9.30-15.30 \nŚRODA: 9.30-15.30 \nCZWARTEK: 9.30-15.30 \nPIĄTEK: 9.30-15.30 \nSOBOTA: 9.00-13.00 \nNIEDZIELA  I ŚWIĘTA: 9.00-13.00 \nPRZERWA TECHNICZNA \nOPRÓCZ WEEKENDÓW  I  ŚWIĄT: 12.00-13.00
URL:https://kultura.tarnow.pl/wydarzenie/rafal-nijak-pejsaz-w-procesie-badawczym/2025-10-18/
LOCATION:Muzeum Diecezjalne\, Pl. Katedralny 6\, 33-100 Tarnów\, Małopolskie\, 33-100
CATEGORIES:wystawy
ATTACH;FMTTYPE=image/jpeg:https://kultura.tarnow.pl/wp-content/uploads/A4-plakat-wystawa-muzeum-JPEG-1086x1536-1.jpg
ORGANIZER;CN="Muzeum Diecezjalne":MAILTO:muzeum@diecezja.tarnow.pl
END:VEVENT
BEGIN:VEVENT
DTSTART;TZID=Europe/Warsaw:20251018T100000
DTEND;TZID=Europe/Warsaw:20251018T170000
DTSTAMP:20260420T004450
CREATED:20250903T075720Z
LAST-MODIFIED:20250903T075720Z
UID:10026638-1760781600-1760806800@kultura.tarnow.pl
SUMMARY:Andrzeja Ziółkowskiego „Universal Wisdom. Wieczysta Mądrość”
DESCRIPTION:Tarnowskie Centrum Kultury zaprasza na wystawę fotografii Andrzeja Ziółkowskiego „Universal Wisdom. Wieczysta Mądrość”\, który przemierzał kraje Azji Południowo-Wschodniej\, Indie\, Nepal i Tybet\, starając się uchwycić w fotografii uniwersalny wymiar ludzkiej duchowości\, bez względu na religijną przynależność. \nWernisaż i spotkanie z autorem: 3 października o godzinie 18:00 – spotkanie z Andrzejem Ziółkowskim poprowadzi Tomasz Sobczak\nMiejsce: Galeria TCK (Tarnów\, Rynek 5)\nTermin: 4 – 31 października 2025 r.\nGodziny otwarcia: Poniedziałek–piątek: 10:00–18:00\, Sobota: 10:00–17:00\nBilety: 7 zł (normalny) i 5 zł (ulgowy). \nWystawa jest zaproszeniem do spotkania z wyznawcami wielkich religii świata w Azji Południowo-Wschodniej i do duchowej podróży przez mądrość ich świętych ksiąg. Łączy ich pragnienie kontaktu z sacrum. Andrzej Ziółkowski pokazuje ich w najbardziej intymnych momentach przeżyć duchowych: żarliwej modlitwy\, pokuty\, próby duchowego zespolenia z Praźródłem. Miejsca kultu\, rytuały oraz ciała\, twarze i dłonie bohaterów fotografii stały się fotograficznym komentarzem autora do poetyckich tłumaczeń fragmentów ksiąg sakralnych chrześcijaństwa\, islamu\, hinduizmu\, buddyzmu\, judaizm oraz taoizmu.\nTa fotograficzna podróż pomaga zrozumieć\, że mimo różnic w tradycjach religijnych\, obrzędach czy formach ekspresji\, pragnienia wszystkich ludzi wiary są do siebie podobne. Zaczynamy dostrzegać\, jak mało nas różni\, a jak wiele łączy. \n„Zdjęcia Andrzeja Ziółkowskiego dowodzą\, że duchowość Azji Południowo-Wschodniej łączy wymiary sztuki teatralnej i religii\, tworząc pewnego rodzaju hybrydę. Rytuał religijny splata się z widowiskiem teatralnym w intensywnej próbie dotarcia do sacrum. Powstaje widowisko zagarniające całą ludzką rzeczywistość\, tę prozaiczną\, fizykalną i tę\, którą obejmuje tylko wyobraźnia. Nie ma już dzielenia świata na obszar sacrum i profanum. Piękne\, pełne teatralnej ekspresji zdjęcia Andrzeja Ziółkowskiego dowodzą głębokiej prawdy słów Marca Chagalla: „Sztuka jest dla mnie stanem duszy. A dusza jest święta”. \nMaja Jaszewska\nUniversal Wisdom. Wieczysta Mądrość (z przedmowy) \nAndrzej Ziółkowski urodził się w Gdyni. Absolwent Wydziału Elektroniki na Politechnice Gdańskiej. Po wielu latach pracy w przemyśle elektronicznym\, z tego 20 lat w międzynarodowym koncernie elektronicznym w Singapurze\, oddaje się od roku 2005 swej pasji fotografowania.\nW marcu 2012 roku\, podczas podróży fotograficznej w Południowych Indiach\, dotarł do chrześcijańskiej aśramy Aanmodaya w Kanchipuram. W świątyni aśramy odnalazł książkę Universal Wisdom (Wieczysta Mądrość religii świata)\, napisaną przez angielskiego benedyktyna Bede Griffithsa (1906–1993). Zainspirowany duchowym testamentem tego wielkiego mistyka i mędrca – „wyjścia poza ograniczenia kulturowe wielkich religii i znalezienia mądrości leżącej u podstaw ich różnorodności” – przemierzał kraje Azji Południowo-Wschodniej\, Indie\, Nepal i Tybet\, starając się uchwycić w fotografii uniwersalny wymiar ludzkiej duchowości\, bez względu na religijną przynależność. \nOwocem tych wędrówek są dwa albumy fotograficzne z niepublikowanymi dotąd w Polsce tłumaczeniami tekstów Bede Griffithsa\, wydane w latach 2021 i 2022: „The Inward Moment. Człowiek wobec sacrum” (przedmowy Olga Tokarczuk i Jego Świątobliwość Dalajlama) i „Universal Wisdom. Wieczysta Mądrość” (przedmowa Maja Jaszewska). Od czasu premiery pierwszego albumu jego wystawy były prezentowane w wielu enomowanych galeriach i na plenerach w całej Polsce.\nAutor jest członkiem Związku Polskich Artystów Fotografików.
URL:https://kultura.tarnow.pl/wydarzenie/andrzeja-ziolkowskiego-universal-wisdom-wieczysta-madrosc/2025-10-18/
LOCATION:Tarnowskie Centrum Kultury\, Rynek 5\, Tarnów\, małopolskie\, 33-100\, Polska
CATEGORIES:wystawy
ATTACH;FMTTYPE=image/jpeg:https://kultura.tarnow.pl/wp-content/uploads/79315f3d4c8e4bcaa498065bb657f6bb-scaled.jpeg
GEO:50.012155;20.9878542
X-APPLE-STRUCTURED-LOCATION;VALUE=URI;X-ADDRESS=Tarnowskie Centrum Kultury Rynek 5 Tarnów małopolskie 33-100 Polska;X-APPLE-RADIUS=500;X-TITLE=Rynek 5:geo:20.9878542,50.012155
END:VEVENT
BEGIN:VEVENT
DTSTART;TZID=Europe/Warsaw:20251018T160000
DTEND;TZID=Europe/Warsaw:20251018T170000
DTSTAMP:20260420T004450
CREATED:20251013T075109Z
LAST-MODIFIED:20251013T075109Z
UID:10027131-1760803200-1760806800@kultura.tarnow.pl
SUMMARY:„Sztafeta pokoleń” - wernisaż
DESCRIPTION:Galeria Sztuki Hortar i Organizatorzy obchodów 80-lecia Państwowego Liceum Sztuk Plastycznych im. Artura Grottgera w Tarnowie serdecznie zapraszają 18.10.2025 (sobota) o godz. 16.00\ndo sal wystawowych przy ul. Legionów 32 na wernisaż wystawy „Sztafeta pokoleń”\, która ukazuje dialog artystyczny międzypokoleniowy. \n\n\n\n\n\n\nNa ekspozycji zobaczymy prace: \nAnatola „Synu” Drwala – mistrza rzeźby i pedagoga\, współtwórcę legendy tarnowskiego „Plastyka”. Jego monumentalne formy i pomniki to lekcja pamięci i siły ducha. Artystę\, który uczył pokolenia patrzeć na kamień jak na żywą materię. \nStefana „Stefek” Niedorezo – absolwenta tarnowskiego „Plastyka”\, który ruszył w świat. Jego prace – od sakralnych po nowoczesne instalacje – łączą ekspresję z emocją. Sztuka\, która mówi o człowieku\, niezależnie od miejsca. \nŚwiatosława „Światek” Karwata – rzeźbiarza współczesnego\, którego dzieła wyrastają z tradycji\, ale mówią językiem XXI wieku. Autora pomników i obiektów przestrzennych\, które budzą refleksję i podziw. \noraz \nBogdany Ligęzy-Drwal – subtelność i duchowość zamknięta w rzeźbie.Tworzyła w duecie z mężem Anatolem\, ale też wypracowała własny język artystyczny – pełen światła\, spokoju i kobiecej wrażliwości. \nWszyscy oni – uczniowie\, nauczyciele\, przyjaciele – spotkają się symbolicznie na jednej wystawie. „Sztafeta pokoleń” to historia o ciągłości\, pamięci i sile sztuki\, która łączy ludzi. \nOtwarciu wystawy towarzyszyć będzie performance „JAŹŹŃ” w wykonaniu Artura Gawle\, Aleksandra Fiałka\, Piotra Czarneckiego. \nPo wernisażu przewidziane jest otwarte spotkanie absolwentów i pedagogów w sali koncertowej Pizzerii Maranto\, ul. Wałowa 26.\nKontakt: Światosław Karwat\, tel. 660 710 800\, e-mail: swiatoslaw@gmail.com \nWystawa stanowi część jubileuszowego programu obchodów szkolnych\, pozwalając spojrzeć na kontynuację i przemiany dokonane przez kolejne pokolenia artystów związanych z tarnowskim Plastykiem.
URL:https://kultura.tarnow.pl/wydarzenie/sztafeta-pokolen-wernisaz/
LOCATION:Galeria Hortar\, ul. legionów 32\, Tarnów\, małopolskie\, 33-100\, Polska
CATEGORIES:wernisaże
ORGANIZER;CN="Galeria Hortar":MAILTO:hortar@hortar.com.pl
GEO:50.0180799;20.9875198
X-APPLE-STRUCTURED-LOCATION;VALUE=URI;X-ADDRESS=Galeria Hortar ul. legionów 32 Tarnów małopolskie 33-100 Polska;X-APPLE-RADIUS=500;X-TITLE=ul. legionów 32:geo:20.9875198,50.0180799
END:VEVENT
BEGIN:VEVENT
DTSTART;TZID=Europe/Warsaw:20251018T160000
DTEND;TZID=Europe/Warsaw:20251018T220000
DTSTAMP:20260420T004450
CREATED:20251002T064415Z
LAST-MODIFIED:20251002T064415Z
UID:10026843-1760803200-1760824800@kultura.tarnow.pl
SUMMARY:„Boeing Boeing”
DESCRIPTION:Spektakle o godz. 16.00 i 19.30  \n„Boeing Boeing” to komediowy hit teatralny w gwiazdorskiej obsadzie\, który od lat przyciąga tysiące widzów. W 1991 roku sztuka została wpisana do Księgi rekordów Guinnessa jako najczęściej wystawiany spektakl w historii. \nSztuka opowiada historię Maksa\, któremu wydaje się\, że wie\, jak korzystać ze wszystkich zalet poligamii\, unikając jednocześnie jej wad. \nZa pomocą międzynarodowego rozkładu lotów bohater utrzymuje relacje z trzema narzeczonymi naraz. W jaki sposób? Otóż każda z nich jest stewardessą w innej linii lotniczej. Pewnego dnia los płata Maksowi figla. Minimalne zmiany w rozkładach lotów sprawiają\, że wszystkie narzeczone zjawiają się u bohatera niemal w tym samym momencie. \nJak bohater z tego wybrnie? Czy pomoże mu niestroniąca od sarkastycznych uwag służąca Nadia? Jakie miejsce w tej całej historii obierze przyjaciel Maksa z dzieciństwa – Paweł? \nBoeing Boeing – zwariowana komedia sytuacyjna\nSztuka autorstwa Marca Camolettiego zawiera wszystkie składniki dobrej farsy. To lot\, który nie powoduje turbulencji\, a jedynie mnóstwo śmiechu. Dodatkowo dobry humor gwarantuje wspaniały przekład tekstu\, którego dokonał twórca dialogów w polskiej wersji filmu animowanego „Shrek” – Bartosz Wierzbięta. \nOBSADA:\nElżbieta Jarosik\nKarolina Chapko\nAnna Jarosik\nPaulina Lasota / Milena Suszyńska\nMikołaj Roznerski\nMichał Meyer / Bogusław Kudłek \nAutor: Marc Camoletti\nPrzekład: Bartosz Wierzbięta\nReżyser: Marcel Wiercichowski \nhttps://biletyna.pl/spektakl/Boeing-Boeing-odlotowa-komedia-z-udzialem-gwiazd#bilety
URL:https://kultura.tarnow.pl/wydarzenie/boeing-boeing/
LOCATION:Hala Sportowo – Widowiskowa Pałacu Młodzieży\, Gumniska 28\, Tarnów\, małopolskie\, 33-100
CATEGORIES:spektakle
ATTACH;FMTTYPE=image/jpeg:https://kultura.tarnow.pl/wp-content/uploads/748ac032b482407da815d45c0a7e6adb.jpg
GEO:50.0086904;21.0004286
X-APPLE-STRUCTURED-LOCATION;VALUE=URI;X-ADDRESS=Hala Sportowo – Widowiskowa Pałacu Młodzieży Gumniska 28 Tarnów małopolskie 33-100;X-APPLE-RADIUS=500;X-TITLE=Gumniska 28:geo:21.0004286,50.0086904
END:VEVENT
BEGIN:VEVENT
DTSTART;TZID=Europe/Warsaw:20251018T170000
DTEND;TZID=Europe/Warsaw:20251018T190000
DTSTAMP:20260420T004450
CREATED:20250929T085246Z
LAST-MODIFIED:20250929T085247Z
UID:10026533-1760806800-1760814000@kultura.tarnow.pl
SUMMARY:"Próby" B. Schaeffer
DESCRIPTION:Ten wyrosły z muzyki tekst – autor był kompozytorem – opowiada historię próby teatralnej (przerwanej epizodem sennym)\, próby\, w której czwórka aktorów i reżyser poszukują rozwiązań dla spektaklu\, który ma powstać\, poszukują formy\, która byłaby przez nich wszystkich akceptowana. \nSztuka ta nie ma fabuły w tradycyjnym rozumieniu tego słowa\, fabułą jest to\, co danego wieczoru zdarzy się między wykonawcami na scenie. Inaczej mówiąc; sztuka nie opowiada anegdoty o artystach\, oni sami dla siebie są anegdotą\, a narracja ta będzie na tyle ciekawą\, na ile interesująco aktorzy będą potrafili o sobie opowiedzieć. Jest więc to sztuka o aktorach\, o ich pracy (temat wielekroć u Schaeffera poruszany)\, ale przede wszystkim o kondycji człowieka żyjącego w coraz większym chaosie dzisiejszego świata.  (…) Schaeffer nie boi się ośmieszyć swoich bohaterów – śmiech u niego jest rodzajem terapii i dla aktorów i – mam nadzieję – dla widza.\nMikołaj Grabowski \n18.10 sobota godz. 17.00 \n19.10 niedziela godz. 17.00 \nBilety 25-60 zł \nhttps://teatr.tarnow.pl/repertuar/?smonth=2025-09
URL:https://kultura.tarnow.pl/wydarzenie/proby-2/
LOCATION:Teatr im. L.Solskiego\, Mickiewicza 4\, Tarnów\, małopolskie\, 33-100\, Polska
CATEGORIES:spektakle
ATTACH;FMTTYPE=image/jpeg:https://kultura.tarnow.pl/wp-content/uploads/PROBY-facebook-wydarzenia.jpg
GEO:50.0159214;20.987504
X-APPLE-STRUCTURED-LOCATION;VALUE=URI;X-ADDRESS=Teatr im. L.Solskiego Mickiewicza 4 Tarnów małopolskie 33-100 Polska;X-APPLE-RADIUS=500;X-TITLE=Mickiewicza 4:geo:20.987504,50.0159214
END:VEVENT
BEGIN:VEVENT
DTSTART;TZID=Europe/Warsaw:20251018T190000
DTEND;TZID=Europe/Warsaw:20251018T210000
DTSTAMP:20260420T004450
CREATED:20240528T105650Z
LAST-MODIFIED:20250929T084919Z
UID:10026757-1760814000-1760821200@kultura.tarnow.pl
SUMMARY:Robert Brutter "Kantata na cztery skrzydła"
DESCRIPTION:17.10 piątek godz. 18.00\n18.10 sobota godz. 19.00\n19.10 niedziela godz. 19.00 \nKiedy wydaje nam się\, że już wszystko wiemy o sobie\, o świecie\, który nas otacza i jesteśmy pewni tego co nas czeka\, zwłaszcza wtedy\, kiedy to wszystko jest mało optymistyczne\, a wręcz tragiczne\, wtedy w najmniej oczekiwanym momencie pojawia się on – twój Anioł Stróż\, by ci pomóc\, by cię uratować. Czy jest to niebiańska istota\, która przyszła z zaświatów? Czy też jakaś wewnętrzna siła przetrwania drzemiąca w nas samych\, która pomaga odzyskać utraconą nadzieję…? \nhttps://teatr.tarnow.pl/spektakle/spektakle-spektakle/kantata-na-cztery-skrzydla/\nBilety 25-60 zł
URL:https://kultura.tarnow.pl/wydarzenie/robert-brutter-kantata-na-cztery-skrzydla/2025-10-18/
LOCATION:Teatr im. L.Solskiego\, Mickiewicza 4\, Tarnów\, małopolskie\, 33-100\, Polska
CATEGORIES:spektakle
ATTACH;FMTTYPE=image/jpeg:https://kultura.tarnow.pl/wp-content/uploads/Kantata-www-2.jpg
GEO:50.0159214;20.987504
X-APPLE-STRUCTURED-LOCATION;VALUE=URI;X-ADDRESS=Teatr im. L.Solskiego Mickiewicza 4 Tarnów małopolskie 33-100 Polska;X-APPLE-RADIUS=500;X-TITLE=Mickiewicza 4:geo:20.987504,50.0159214
END:VEVENT
END:VCALENDAR