BEGIN:VCALENDAR
VERSION:2.0
PRODID:-//kultura.tarnów - ECPv6.4.0.1//NONSGML v1.0//EN
CALSCALE:GREGORIAN
METHOD:PUBLISH
X-ORIGINAL-URL:https://kultura.tarnow.pl
X-WR-CALDESC:Wydarzenia dla
REFRESH-INTERVAL;VALUE=DURATION:PT1H
X-Robots-Tag:noindex
X-PUBLISHED-TTL:PT1H
BEGIN:VTIMEZONE
TZID:Europe/Warsaw
BEGIN:DAYLIGHT
TZOFFSETFROM:+0100
TZOFFSETTO:+0200
TZNAME:CEST
DTSTART:20250330T010000
END:DAYLIGHT
BEGIN:STANDARD
TZOFFSETFROM:+0200
TZOFFSETTO:+0100
TZNAME:CET
DTSTART:20251026T010000
END:STANDARD
END:VTIMEZONE
BEGIN:VEVENT
DTSTART;TZID=Europe/Warsaw:20251014T093000
DTEND;TZID=Europe/Warsaw:20251014T153000
DTSTAMP:20260420T004516
CREATED:20250902T073106Z
LAST-MODIFIED:20250909T102218Z
UID:10026591-1760434200-1760455800@kultura.tarnow.pl
SUMMARY:Rafał Nijak "Pejzaż - w procesie badawczym".
DESCRIPTION:dr Rafał Nijak – urodził się 24 stycznia 1981 roku w Tarnowie. Jest absolwentem Zespołu Sztuk Plastycznych im. Artura Grottgera w Tarnowie ze specjalizacją meblarstwa artystycznego. W 2001 roku uczęszczał do Studium Konserwacji Mebla w Tarnowie. W 2002 roku zdał egzamin wstępny do Akademii Sztuk Pięknych w Warszawie na Wydział Konserwacji i Restauracji Dzieł Sztuki\, gdzie studiował rysunek i malarstwo u profesorów: Piotra Bogusławskiego\, Mariana Czapli\, Mariana Nowińskiego\, następnie Zofii Glazer oraz dr. Mariusza Woszczyńskiego. W 2007 roku w ramach międzyuczelnianego programu Sokrates – Erasmus przez okres jednego semestru studiował w Wyższej Szkole Sztuk Pięknych w Bratysławie w Pracowni Restauracji Rzeźby Drewnianej prof. Jana Gazdika\, Pracowni Rysunku ad. Dawida Czarskiego\, Pracowni Malarstwa prof. Ľudovíta Holoski oraz Pracowni Technik Graficznych ad. Piotra Augustovicza. W latach 2007–2009 uczęszczał na zajęcia Studium Pedagogicznego przy ASP w Warszawie. W 2009 roku uzyskał dyplom magisterski na podstawie pracy przygotowanej na WKiRDS w Pracowni Konserwacji i Restauracji Malarstwa Tablicowego i Rzeźby Drewnianej Polichromowanej pod kierunkiem prof. dr hab. Marii Lubryczyńskiej. W styczniu 2016 roku obronił pracę doktorską na Wydziale Grafiki ASP w Warszawie w Pracowni Litografii pod kierunkiem prof. dr. hab. Błażeja Ostoja Lniskiego. Od lutego 2016 roku jest zatrudniony na Wydziale Konserwacji i Restauracji Dzieł Sztuki ASP w Warszawie w Katedrze Technik i Technologii Malarstwa Sztalugowego. Od października 2017 roku pracuje na stanowisku adiunkta w Pracowni Technologii Pozłotnictwa i Kopii Miniatury\, zaś od 2020 roku pełni funkcję kierownika katedry WKiRDS. Pracuje w zawodzie konserwatora dzieł sztuki. Uprawia malarstwo\, rysunek i grafikę. \nGODZINY OTWARCIA: \nPONIEDZIAŁEK – NIECZYNNE \nWTOREK: 9.30-15.30 \nŚRODA: 9.30-15.30 \nCZWARTEK: 9.30-15.30 \nPIĄTEK: 9.30-15.30 \nSOBOTA: 9.00-13.00 \nNIEDZIELA  I ŚWIĘTA: 9.00-13.00 \nPRZERWA TECHNICZNA \nOPRÓCZ WEEKENDÓW  I  ŚWIĄT: 12.00-13.00
URL:https://kultura.tarnow.pl/wydarzenie/rafal-nijak-pejsaz-w-procesie-badawczym/2025-10-14/
LOCATION:Muzeum Diecezjalne\, Pl. Katedralny 6\, 33-100 Tarnów\, Małopolskie\, 33-100
CATEGORIES:wystawy
ATTACH;FMTTYPE=image/jpeg:https://kultura.tarnow.pl/wp-content/uploads/A4-plakat-wystawa-muzeum-JPEG-1086x1536-1.jpg
ORGANIZER;CN="Muzeum Diecezjalne":MAILTO:muzeum@diecezja.tarnow.pl
END:VEVENT
BEGIN:VEVENT
DTSTART;TZID=Europe/Warsaw:20251014T100000
DTEND;TZID=Europe/Warsaw:20251014T170000
DTSTAMP:20260420T004516
CREATED:20250903T075720Z
LAST-MODIFIED:20250903T075720Z
UID:10026634-1760436000-1760461200@kultura.tarnow.pl
SUMMARY:Andrzeja Ziółkowskiego „Universal Wisdom. Wieczysta Mądrość”
DESCRIPTION:Tarnowskie Centrum Kultury zaprasza na wystawę fotografii Andrzeja Ziółkowskiego „Universal Wisdom. Wieczysta Mądrość”\, który przemierzał kraje Azji Południowo-Wschodniej\, Indie\, Nepal i Tybet\, starając się uchwycić w fotografii uniwersalny wymiar ludzkiej duchowości\, bez względu na religijną przynależność. \nWernisaż i spotkanie z autorem: 3 października o godzinie 18:00 – spotkanie z Andrzejem Ziółkowskim poprowadzi Tomasz Sobczak\nMiejsce: Galeria TCK (Tarnów\, Rynek 5)\nTermin: 4 – 31 października 2025 r.\nGodziny otwarcia: Poniedziałek–piątek: 10:00–18:00\, Sobota: 10:00–17:00\nBilety: 7 zł (normalny) i 5 zł (ulgowy). \nWystawa jest zaproszeniem do spotkania z wyznawcami wielkich religii świata w Azji Południowo-Wschodniej i do duchowej podróży przez mądrość ich świętych ksiąg. Łączy ich pragnienie kontaktu z sacrum. Andrzej Ziółkowski pokazuje ich w najbardziej intymnych momentach przeżyć duchowych: żarliwej modlitwy\, pokuty\, próby duchowego zespolenia z Praźródłem. Miejsca kultu\, rytuały oraz ciała\, twarze i dłonie bohaterów fotografii stały się fotograficznym komentarzem autora do poetyckich tłumaczeń fragmentów ksiąg sakralnych chrześcijaństwa\, islamu\, hinduizmu\, buddyzmu\, judaizm oraz taoizmu.\nTa fotograficzna podróż pomaga zrozumieć\, że mimo różnic w tradycjach religijnych\, obrzędach czy formach ekspresji\, pragnienia wszystkich ludzi wiary są do siebie podobne. Zaczynamy dostrzegać\, jak mało nas różni\, a jak wiele łączy. \n„Zdjęcia Andrzeja Ziółkowskiego dowodzą\, że duchowość Azji Południowo-Wschodniej łączy wymiary sztuki teatralnej i religii\, tworząc pewnego rodzaju hybrydę. Rytuał religijny splata się z widowiskiem teatralnym w intensywnej próbie dotarcia do sacrum. Powstaje widowisko zagarniające całą ludzką rzeczywistość\, tę prozaiczną\, fizykalną i tę\, którą obejmuje tylko wyobraźnia. Nie ma już dzielenia świata na obszar sacrum i profanum. Piękne\, pełne teatralnej ekspresji zdjęcia Andrzeja Ziółkowskiego dowodzą głębokiej prawdy słów Marca Chagalla: „Sztuka jest dla mnie stanem duszy. A dusza jest święta”. \nMaja Jaszewska\nUniversal Wisdom. Wieczysta Mądrość (z przedmowy) \nAndrzej Ziółkowski urodził się w Gdyni. Absolwent Wydziału Elektroniki na Politechnice Gdańskiej. Po wielu latach pracy w przemyśle elektronicznym\, z tego 20 lat w międzynarodowym koncernie elektronicznym w Singapurze\, oddaje się od roku 2005 swej pasji fotografowania.\nW marcu 2012 roku\, podczas podróży fotograficznej w Południowych Indiach\, dotarł do chrześcijańskiej aśramy Aanmodaya w Kanchipuram. W świątyni aśramy odnalazł książkę Universal Wisdom (Wieczysta Mądrość religii świata)\, napisaną przez angielskiego benedyktyna Bede Griffithsa (1906–1993). Zainspirowany duchowym testamentem tego wielkiego mistyka i mędrca – „wyjścia poza ograniczenia kulturowe wielkich religii i znalezienia mądrości leżącej u podstaw ich różnorodności” – przemierzał kraje Azji Południowo-Wschodniej\, Indie\, Nepal i Tybet\, starając się uchwycić w fotografii uniwersalny wymiar ludzkiej duchowości\, bez względu na religijną przynależność. \nOwocem tych wędrówek są dwa albumy fotograficzne z niepublikowanymi dotąd w Polsce tłumaczeniami tekstów Bede Griffithsa\, wydane w latach 2021 i 2022: „The Inward Moment. Człowiek wobec sacrum” (przedmowy Olga Tokarczuk i Jego Świątobliwość Dalajlama) i „Universal Wisdom. Wieczysta Mądrość” (przedmowa Maja Jaszewska). Od czasu premiery pierwszego albumu jego wystawy były prezentowane w wielu enomowanych galeriach i na plenerach w całej Polsce.\nAutor jest członkiem Związku Polskich Artystów Fotografików.
URL:https://kultura.tarnow.pl/wydarzenie/andrzeja-ziolkowskiego-universal-wisdom-wieczysta-madrosc/2025-10-14/
LOCATION:Tarnowskie Centrum Kultury\, Rynek 5\, Tarnów\, małopolskie\, 33-100\, Polska
CATEGORIES:wystawy
ATTACH;FMTTYPE=image/jpeg:https://kultura.tarnow.pl/wp-content/uploads/79315f3d4c8e4bcaa498065bb657f6bb-scaled.jpeg
GEO:50.012155;20.9878542
X-APPLE-STRUCTURED-LOCATION;VALUE=URI;X-ADDRESS=Tarnowskie Centrum Kultury Rynek 5 Tarnów małopolskie 33-100 Polska;X-APPLE-RADIUS=500;X-TITLE=Rynek 5:geo:20.9878542,50.012155
END:VEVENT
END:VCALENDAR