BEGIN:VCALENDAR
VERSION:2.0
PRODID:-//kultura.tarnów - ECPv6.4.0.1//NONSGML v1.0//EN
CALSCALE:GREGORIAN
METHOD:PUBLISH
X-ORIGINAL-URL:https://kultura.tarnow.pl
X-WR-CALDESC:Wydarzenia dla
REFRESH-INTERVAL;VALUE=DURATION:PT1H
X-Robots-Tag:noindex
X-PUBLISHED-TTL:PT1H
BEGIN:VTIMEZONE
TZID:Europe/Warsaw
BEGIN:DAYLIGHT
TZOFFSETFROM:+0100
TZOFFSETTO:+0200
TZNAME:CEST
DTSTART:20250330T010000
END:DAYLIGHT
BEGIN:STANDARD
TZOFFSETFROM:+0200
TZOFFSETTO:+0100
TZNAME:CET
DTSTART:20251026T010000
END:STANDARD
END:VTIMEZONE
BEGIN:VEVENT
DTSTART;TZID=Europe/Warsaw:20251011T093000
DTEND;TZID=Europe/Warsaw:20251011T153000
DTSTAMP:20260420T155135
CREATED:20250902T073106Z
LAST-MODIFIED:20250909T102218Z
UID:10026589-1760175000-1760196600@kultura.tarnow.pl
SUMMARY:Rafał Nijak "Pejzaż - w procesie badawczym".
DESCRIPTION:dr Rafał Nijak – urodził się 24 stycznia 1981 roku w Tarnowie. Jest absolwentem Zespołu Sztuk Plastycznych im. Artura Grottgera w Tarnowie ze specjalizacją meblarstwa artystycznego. W 2001 roku uczęszczał do Studium Konserwacji Mebla w Tarnowie. W 2002 roku zdał egzamin wstępny do Akademii Sztuk Pięknych w Warszawie na Wydział Konserwacji i Restauracji Dzieł Sztuki\, gdzie studiował rysunek i malarstwo u profesorów: Piotra Bogusławskiego\, Mariana Czapli\, Mariana Nowińskiego\, następnie Zofii Glazer oraz dr. Mariusza Woszczyńskiego. W 2007 roku w ramach międzyuczelnianego programu Sokrates – Erasmus przez okres jednego semestru studiował w Wyższej Szkole Sztuk Pięknych w Bratysławie w Pracowni Restauracji Rzeźby Drewnianej prof. Jana Gazdika\, Pracowni Rysunku ad. Dawida Czarskiego\, Pracowni Malarstwa prof. Ľudovíta Holoski oraz Pracowni Technik Graficznych ad. Piotra Augustovicza. W latach 2007–2009 uczęszczał na zajęcia Studium Pedagogicznego przy ASP w Warszawie. W 2009 roku uzyskał dyplom magisterski na podstawie pracy przygotowanej na WKiRDS w Pracowni Konserwacji i Restauracji Malarstwa Tablicowego i Rzeźby Drewnianej Polichromowanej pod kierunkiem prof. dr hab. Marii Lubryczyńskiej. W styczniu 2016 roku obronił pracę doktorską na Wydziale Grafiki ASP w Warszawie w Pracowni Litografii pod kierunkiem prof. dr. hab. Błażeja Ostoja Lniskiego. Od lutego 2016 roku jest zatrudniony na Wydziale Konserwacji i Restauracji Dzieł Sztuki ASP w Warszawie w Katedrze Technik i Technologii Malarstwa Sztalugowego. Od października 2017 roku pracuje na stanowisku adiunkta w Pracowni Technologii Pozłotnictwa i Kopii Miniatury\, zaś od 2020 roku pełni funkcję kierownika katedry WKiRDS. Pracuje w zawodzie konserwatora dzieł sztuki. Uprawia malarstwo\, rysunek i grafikę. \nGODZINY OTWARCIA: \nPONIEDZIAŁEK – NIECZYNNE \nWTOREK: 9.30-15.30 \nŚRODA: 9.30-15.30 \nCZWARTEK: 9.30-15.30 \nPIĄTEK: 9.30-15.30 \nSOBOTA: 9.00-13.00 \nNIEDZIELA  I ŚWIĘTA: 9.00-13.00 \nPRZERWA TECHNICZNA \nOPRÓCZ WEEKENDÓW  I  ŚWIĄT: 12.00-13.00
URL:https://kultura.tarnow.pl/wydarzenie/rafal-nijak-pejsaz-w-procesie-badawczym/2025-10-11/
LOCATION:Muzeum Diecezjalne\, Pl. Katedralny 6\, 33-100 Tarnów\, Małopolskie\, 33-100
CATEGORIES:wystawy
ATTACH;FMTTYPE=image/jpeg:https://kultura.tarnow.pl/wp-content/uploads/A4-plakat-wystawa-muzeum-JPEG-1086x1536-1.jpg
ORGANIZER;CN="Muzeum Diecezjalne":MAILTO:muzeum@diecezja.tarnow.pl
END:VEVENT
BEGIN:VEVENT
DTSTART;TZID=Europe/Warsaw:20251011T100000
DTEND;TZID=Europe/Warsaw:20251011T140000
DTSTAMP:20260420T155135
CREATED:20250930T070325Z
LAST-MODIFIED:20250930T070325Z
UID:10026797-1760176800-1760191200@kultura.tarnow.pl
SUMMARY:Maszynowe pierwsze kroki. Kurs szycia na maszynie - podstawy
DESCRIPTION:11 października (sobota)\, godz. 10:00-14:00  \nChcesz nauczyć się szyć\, ale nie wiesz\, od czego zacząć? Dołącz do kursu szycia dla osób\, które chcą poznać tajniki obsługi maszyny do szycia i wykonać swoje pierwsze projekty! \nNa warsztatach: \n\npoznasz budowę maszyny do szycia i podstawowe ściegi maszynowe;\nnauczysz się obsługi maszyny\, doboru ściegów i tkanin;\nuszyjesz własnoręcznie: poszewkę na poduszkę\, przybornik na zamek oraz torbę–shoperkę;\notrzymasz skrypt z materiałami oraz wszystkie swoje uszyte prace.\n\nKurs prowadzi: Agnieszka Szułakiewicz – technik odzieży lekkiej\, plastyczka\, instruktorka zajęć stałych z kreatywnego krawiectwa dla dorosłych. \nKoszt kursu: 900 zł (możliwość płatności w 2 ratach). Zapewniamy: maszyny do szycia\, przybory krawieckie\, dodatki i tkaniny. \nZapisy: a.szulakiewicz@tck.pl \nTerminy zajęć: soboty – 11\, 25 października\, 8\, 22 listopada\, 6\, 20 grudnia w godz. 10:00-14:00
URL:https://kultura.tarnow.pl/wydarzenie/maszynowe-pierwsze-kroki-kurs-szycia-na-maszynie-podstawy/
LOCATION:Dom Kultury Westerplatte 8a\, Westerplatte 8a\, Tarnów\, Polska - małopolskie\, 33-100\, Polska
CATEGORIES:warsztaty
ORGANIZER;CN="Dom Kultury Westerplatte 8a":MAILTO:westerplatte@tck.pl
GEO:50.0273033;21.0087361
X-APPLE-STRUCTURED-LOCATION;VALUE=URI;X-ADDRESS=Dom Kultury Westerplatte 8a Westerplatte 8a Tarnów Polska - małopolskie 33-100 Polska;X-APPLE-RADIUS=500;X-TITLE=Westerplatte 8a:geo:21.0087361,50.0273033
END:VEVENT
BEGIN:VEVENT
DTSTART;TZID=Europe/Warsaw:20251011T100000
DTEND;TZID=Europe/Warsaw:20251011T160000
DTSTAMP:20260420T155135
CREATED:20250903T101508Z
LAST-MODIFIED:20250903T101508Z
UID:10026675-1760176800-1760198400@kultura.tarnow.pl
SUMMARY:Salon Jesienny STAP
DESCRIPTION:Stowarzyszenie Tarnowskich Artystów Plastyków zaprasza na wystawę „Salon Jesienny 2025” do galerii ARTEKA funkcjonującej od lutego 2022 r. stowarzyszenia Tarnowskich Artystów Plastyków. Pierwszy Salon Jesienny STAP odbył się w październiku 2022.Tradycyjnie Salon Jesienny jest ekspozycją najnowszych dzieł zrzeszonych w STAP artystów związanych z Tarnowem.
URL:https://kultura.tarnow.pl/wydarzenie/salon-jesienny-stap-4/2025-10-11/
LOCATION:Galeria ARTEKA\, Wałowa 16\, Tarnów\, 33-100
CATEGORIES:wystawy
ATTACH;FMTTYPE=image/jpeg:https://kultura.tarnow.pl/wp-content/uploads/540977573_10224582438788029_5400649959103895559_n.jpg
ORGANIZER;CN="Stowarzyszenie Tarnowskich Artyst%C3%B3w Plastyk%C3%B3w":MAILTO:stowarzyszenie.arteka@gmail.com
END:VEVENT
BEGIN:VEVENT
DTSTART;TZID=Europe/Warsaw:20251011T100000
DTEND;TZID=Europe/Warsaw:20251011T170000
DTSTAMP:20260420T155135
CREATED:20250903T075720Z
LAST-MODIFIED:20250903T075720Z
UID:10026632-1760176800-1760202000@kultura.tarnow.pl
SUMMARY:Andrzeja Ziółkowskiego „Universal Wisdom. Wieczysta Mądrość”
DESCRIPTION:Tarnowskie Centrum Kultury zaprasza na wystawę fotografii Andrzeja Ziółkowskiego „Universal Wisdom. Wieczysta Mądrość”\, który przemierzał kraje Azji Południowo-Wschodniej\, Indie\, Nepal i Tybet\, starając się uchwycić w fotografii uniwersalny wymiar ludzkiej duchowości\, bez względu na religijną przynależność. \nWernisaż i spotkanie z autorem: 3 października o godzinie 18:00 – spotkanie z Andrzejem Ziółkowskim poprowadzi Tomasz Sobczak\nMiejsce: Galeria TCK (Tarnów\, Rynek 5)\nTermin: 4 – 31 października 2025 r.\nGodziny otwarcia: Poniedziałek–piątek: 10:00–18:00\, Sobota: 10:00–17:00\nBilety: 7 zł (normalny) i 5 zł (ulgowy). \nWystawa jest zaproszeniem do spotkania z wyznawcami wielkich religii świata w Azji Południowo-Wschodniej i do duchowej podróży przez mądrość ich świętych ksiąg. Łączy ich pragnienie kontaktu z sacrum. Andrzej Ziółkowski pokazuje ich w najbardziej intymnych momentach przeżyć duchowych: żarliwej modlitwy\, pokuty\, próby duchowego zespolenia z Praźródłem. Miejsca kultu\, rytuały oraz ciała\, twarze i dłonie bohaterów fotografii stały się fotograficznym komentarzem autora do poetyckich tłumaczeń fragmentów ksiąg sakralnych chrześcijaństwa\, islamu\, hinduizmu\, buddyzmu\, judaizm oraz taoizmu.\nTa fotograficzna podróż pomaga zrozumieć\, że mimo różnic w tradycjach religijnych\, obrzędach czy formach ekspresji\, pragnienia wszystkich ludzi wiary są do siebie podobne. Zaczynamy dostrzegać\, jak mało nas różni\, a jak wiele łączy. \n„Zdjęcia Andrzeja Ziółkowskiego dowodzą\, że duchowość Azji Południowo-Wschodniej łączy wymiary sztuki teatralnej i religii\, tworząc pewnego rodzaju hybrydę. Rytuał religijny splata się z widowiskiem teatralnym w intensywnej próbie dotarcia do sacrum. Powstaje widowisko zagarniające całą ludzką rzeczywistość\, tę prozaiczną\, fizykalną i tę\, którą obejmuje tylko wyobraźnia. Nie ma już dzielenia świata na obszar sacrum i profanum. Piękne\, pełne teatralnej ekspresji zdjęcia Andrzeja Ziółkowskiego dowodzą głębokiej prawdy słów Marca Chagalla: „Sztuka jest dla mnie stanem duszy. A dusza jest święta”. \nMaja Jaszewska\nUniversal Wisdom. Wieczysta Mądrość (z przedmowy) \nAndrzej Ziółkowski urodził się w Gdyni. Absolwent Wydziału Elektroniki na Politechnice Gdańskiej. Po wielu latach pracy w przemyśle elektronicznym\, z tego 20 lat w międzynarodowym koncernie elektronicznym w Singapurze\, oddaje się od roku 2005 swej pasji fotografowania.\nW marcu 2012 roku\, podczas podróży fotograficznej w Południowych Indiach\, dotarł do chrześcijańskiej aśramy Aanmodaya w Kanchipuram. W świątyni aśramy odnalazł książkę Universal Wisdom (Wieczysta Mądrość religii świata)\, napisaną przez angielskiego benedyktyna Bede Griffithsa (1906–1993). Zainspirowany duchowym testamentem tego wielkiego mistyka i mędrca – „wyjścia poza ograniczenia kulturowe wielkich religii i znalezienia mądrości leżącej u podstaw ich różnorodności” – przemierzał kraje Azji Południowo-Wschodniej\, Indie\, Nepal i Tybet\, starając się uchwycić w fotografii uniwersalny wymiar ludzkiej duchowości\, bez względu na religijną przynależność. \nOwocem tych wędrówek są dwa albumy fotograficzne z niepublikowanymi dotąd w Polsce tłumaczeniami tekstów Bede Griffithsa\, wydane w latach 2021 i 2022: „The Inward Moment. Człowiek wobec sacrum” (przedmowy Olga Tokarczuk i Jego Świątobliwość Dalajlama) i „Universal Wisdom. Wieczysta Mądrość” (przedmowa Maja Jaszewska). Od czasu premiery pierwszego albumu jego wystawy były prezentowane w wielu enomowanych galeriach i na plenerach w całej Polsce.\nAutor jest członkiem Związku Polskich Artystów Fotografików.
URL:https://kultura.tarnow.pl/wydarzenie/andrzeja-ziolkowskiego-universal-wisdom-wieczysta-madrosc/2025-10-11/
LOCATION:Tarnowskie Centrum Kultury\, Rynek 5\, Tarnów\, małopolskie\, 33-100\, Polska
CATEGORIES:wystawy
ATTACH;FMTTYPE=image/jpeg:https://kultura.tarnow.pl/wp-content/uploads/79315f3d4c8e4bcaa498065bb657f6bb-scaled.jpeg
GEO:50.012155;20.9878542
X-APPLE-STRUCTURED-LOCATION;VALUE=URI;X-ADDRESS=Tarnowskie Centrum Kultury Rynek 5 Tarnów małopolskie 33-100 Polska;X-APPLE-RADIUS=500;X-TITLE=Rynek 5:geo:20.9878542,50.012155
END:VEVENT
BEGIN:VEVENT
DTSTART;TZID=Europe/Warsaw:20251011T190000
DTEND;TZID=Europe/Warsaw:20251011T210000
DTSTAMP:20260420T155135
CREATED:20250917T071403Z
LAST-MODIFIED:20250917T132350Z
UID:10026714-1760209200-1760216400@kultura.tarnow.pl
SUMMARY:The Beatles Unplugged - Adam Kalinowski
DESCRIPTION:Przygotujcie się na niezapomniany wieczór w rytmie największych przebojów The Beatles – legendy\, która na zawsze odmieniła historię muzyki!\nAdam Kalinowski – charyzmatyczny wokalista\, gitarzysta i songwriter\, finalista The Voice of Poland (II miejsce) oraz Idola – zaprasza na wyjątkowy koncert poświęcony twórczości The Beatles. Tego wieczoru\, w akustycznej odsłonie\, usłyszycie hity\, które zmieniały świat i do dziś rozpalają serca fanów na całym globie.\nDzięki dwóm gitarom i dwóm głosom stworzą atmosferę rodem z liverpoolskich klubów\, w których wszystko się zaczęło. „Let It Be”\, „Yesterday”\, „Here Comes the Sun”\, „Hey Jude” i wiele innych kultowych utworów zabrzmi w szczerych\, pełnych emocji interpretacjach. The Beatles to nie tylko muzyka – to legenda\, która wyznaczyła nowe ścieżki w rocku i popie. Ich niepowtarzalne harmonie i ponadczasowe melodie inspirują kolejne pokolenia artystów i słuchaczy. Daj się porwać magii tego wieczoru i razem z nami przeżyj podróż do świata legendarnej czwórki z Liverpoolu.\nTego koncertu po prostu nie można przegapić!\nWystąpią:Adam Kalinowski – śpiew\, gitara akustycznaTomek Boruch – gitara akustyczna\, chórki\nBilety:Online:KupBilecik: https://kbq.pl/172643Biletyna: https://bilety.io/jj817Stacjonarnie: w pizzerii Maranto lub za rezerwacją telefoniczną: 605 654 924\nInformacje o koncercie oraz rezerwacje biletów: tel. 513 207 643
URL:https://kultura.tarnow.pl/wydarzenie/the-beatles-unplugged-adam-kalinowski/
LOCATION:Maranto Vibe\, Wałowa 26\, Tarnów\, Małopolska\, 33-100
CATEGORIES:koncerty
ATTACH;FMTTYPE=image/jpeg:https://kultura.tarnow.pl/wp-content/uploads/beatles-1.jpg
END:VEVENT
END:VCALENDAR