BEGIN:VCALENDAR
VERSION:2.0
PRODID:-//kultura.tarnów - ECPv6.4.0.1//NONSGML v1.0//EN
CALSCALE:GREGORIAN
METHOD:PUBLISH
X-ORIGINAL-URL:https://kultura.tarnow.pl
X-WR-CALDESC:Wydarzenia dla
REFRESH-INTERVAL;VALUE=DURATION:PT1H
X-Robots-Tag:noindex
X-PUBLISHED-TTL:PT1H
BEGIN:VTIMEZONE
TZID:Europe/Warsaw
BEGIN:DAYLIGHT
TZOFFSETFROM:+0100
TZOFFSETTO:+0200
TZNAME:CEST
DTSTART:20250330T010000
END:DAYLIGHT
BEGIN:STANDARD
TZOFFSETFROM:+0200
TZOFFSETTO:+0100
TZNAME:CET
DTSTART:20251026T010000
END:STANDARD
END:VTIMEZONE
BEGIN:VEVENT
DTSTART;TZID=Europe/Warsaw:20250929T080000
DTEND;TZID=Europe/Warsaw:20250929T150000
DTSTAMP:20260419T224409
CREATED:20250915T072347Z
LAST-MODIFIED:20250917T124931Z
UID:10026731-1759132800-1759158000@kultura.tarnow.pl
SUMMARY:Patryk Hardziej wystawa plakatów i znaków graficznych
DESCRIPTION:Zapraszamy na wystawę plakatów i znaków graficznych Patryka Hardzieja\nGaleria PLSP\nul. Westwalewicza 6\nWystawa: 15.09—3.10.25\n__\nPatryk Hardziej — ilustrator\, projektant grafik. Wykładowca gdańskiej ASP oraz założyciel kursów pod patronatem Karola Śliwki „Sztuka Projektowania”. Pomysłodawca i kurator II Ogólnopolskiej Wystawy Znaków Graficznych.\nfacebook.com/patryk.hardziej/\nbehance.net/hardziej?\nhttp://plndesign.pl/…/patryk-hardziej-polski…/
URL:https://kultura.tarnow.pl/wydarzenie/patryk-hardziej-wystawa-plakatow-i-znakow-graficznych/2025-09-29/
LOCATION:Galeria Liceum Sztuk Plastycznych\, Westwalewicza 6\, Tarnów\, małopolskie\, 33-100\, Polska
CATEGORIES:wystawy
ATTACH;FMTTYPE=image/png:https://kultura.tarnow.pl/wp-content/uploads/Patryk-Hardziej_plakat.png
GEO:50.0118085;20.9938879
X-APPLE-STRUCTURED-LOCATION;VALUE=URI;X-ADDRESS=Galeria Liceum Sztuk Plastycznych Westwalewicza 6 Tarnów małopolskie 33-100 Polska;X-APPLE-RADIUS=500;X-TITLE=Westwalewicza 6:geo:20.9938879,50.0118085
END:VEVENT
END:VCALENDAR