BEGIN:VCALENDAR
VERSION:2.0
PRODID:-//kultura.tarnów - ECPv6.4.0.1//NONSGML v1.0//EN
CALSCALE:GREGORIAN
METHOD:PUBLISH
X-ORIGINAL-URL:https://kultura.tarnow.pl
X-WR-CALDESC:Wydarzenia dla
REFRESH-INTERVAL;VALUE=DURATION:PT1H
X-Robots-Tag:noindex
X-PUBLISHED-TTL:PT1H
BEGIN:VTIMEZONE
TZID:Europe/Warsaw
BEGIN:DAYLIGHT
TZOFFSETFROM:+0100
TZOFFSETTO:+0200
TZNAME:CEST
DTSTART:20250330T010000
END:DAYLIGHT
BEGIN:STANDARD
TZOFFSETFROM:+0200
TZOFFSETTO:+0100
TZNAME:CET
DTSTART:20251026T010000
END:STANDARD
END:VTIMEZONE
BEGIN:VEVENT
DTSTART;TZID=Europe/Warsaw:20250912T093000
DTEND;TZID=Europe/Warsaw:20250912T153000
DTSTAMP:20260420T045156
CREATED:20250902T073106Z
LAST-MODIFIED:20250909T102218Z
UID:10026564-1757669400-1757691000@kultura.tarnow.pl
SUMMARY:Rafał Nijak "Pejzaż - w procesie badawczym".
DESCRIPTION:dr Rafał Nijak – urodził się 24 stycznia 1981 roku w Tarnowie. Jest absolwentem Zespołu Sztuk Plastycznych im. Artura Grottgera w Tarnowie ze specjalizacją meblarstwa artystycznego. W 2001 roku uczęszczał do Studium Konserwacji Mebla w Tarnowie. W 2002 roku zdał egzamin wstępny do Akademii Sztuk Pięknych w Warszawie na Wydział Konserwacji i Restauracji Dzieł Sztuki\, gdzie studiował rysunek i malarstwo u profesorów: Piotra Bogusławskiego\, Mariana Czapli\, Mariana Nowińskiego\, następnie Zofii Glazer oraz dr. Mariusza Woszczyńskiego. W 2007 roku w ramach międzyuczelnianego programu Sokrates – Erasmus przez okres jednego semestru studiował w Wyższej Szkole Sztuk Pięknych w Bratysławie w Pracowni Restauracji Rzeźby Drewnianej prof. Jana Gazdika\, Pracowni Rysunku ad. Dawida Czarskiego\, Pracowni Malarstwa prof. Ľudovíta Holoski oraz Pracowni Technik Graficznych ad. Piotra Augustovicza. W latach 2007–2009 uczęszczał na zajęcia Studium Pedagogicznego przy ASP w Warszawie. W 2009 roku uzyskał dyplom magisterski na podstawie pracy przygotowanej na WKiRDS w Pracowni Konserwacji i Restauracji Malarstwa Tablicowego i Rzeźby Drewnianej Polichromowanej pod kierunkiem prof. dr hab. Marii Lubryczyńskiej. W styczniu 2016 roku obronił pracę doktorską na Wydziale Grafiki ASP w Warszawie w Pracowni Litografii pod kierunkiem prof. dr. hab. Błażeja Ostoja Lniskiego. Od lutego 2016 roku jest zatrudniony na Wydziale Konserwacji i Restauracji Dzieł Sztuki ASP w Warszawie w Katedrze Technik i Technologii Malarstwa Sztalugowego. Od października 2017 roku pracuje na stanowisku adiunkta w Pracowni Technologii Pozłotnictwa i Kopii Miniatury\, zaś od 2020 roku pełni funkcję kierownika katedry WKiRDS. Pracuje w zawodzie konserwatora dzieł sztuki. Uprawia malarstwo\, rysunek i grafikę. \nGODZINY OTWARCIA: \nPONIEDZIAŁEK – NIECZYNNE \nWTOREK: 9.30-15.30 \nŚRODA: 9.30-15.30 \nCZWARTEK: 9.30-15.30 \nPIĄTEK: 9.30-15.30 \nSOBOTA: 9.00-13.00 \nNIEDZIELA  I ŚWIĘTA: 9.00-13.00 \nPRZERWA TECHNICZNA \nOPRÓCZ WEEKENDÓW  I  ŚWIĄT: 12.00-13.00
URL:https://kultura.tarnow.pl/wydarzenie/rafal-nijak-pejsaz-w-procesie-badawczym/2025-09-12/
LOCATION:Muzeum Diecezjalne\, Pl. Katedralny 6\, 33-100 Tarnów\, Małopolskie\, 33-100
CATEGORIES:wystawy
ATTACH;FMTTYPE=image/jpeg:https://kultura.tarnow.pl/wp-content/uploads/A4-plakat-wystawa-muzeum-JPEG-1086x1536-1.jpg
ORGANIZER;CN="Muzeum Diecezjalne":MAILTO:muzeum@diecezja.tarnow.pl
END:VEVENT
BEGIN:VEVENT
DTSTART;TZID=Europe/Warsaw:20250912T100000
DTEND;TZID=Europe/Warsaw:20250912T150000
DTSTAMP:20260420T045156
CREATED:20250605T083305Z
LAST-MODIFIED:20250605T083305Z
UID:10026209-1757671200-1757689200@kultura.tarnow.pl
SUMMARY:"Broń biała i palna oraz uzbrojenie ochronne"
DESCRIPTION:Muzeum Ziemi Tarnowskiej zaprasza na pierwszą w swojej historii tak kompleksową wystawę\, poświęconą broni i uzbrojeniu ochronnemu na ziemiach polskich. Zwiedzający będą mogli zobaczyć kilkaset eksponatów\, w tym prehistoryczne topory\, groty\, średniowieczne miecze\, nowożytne elementy uzbrojenia ochronnego\, uzbrojenie z czasów powstań narodowych\, a także legendarne polskie szable wz. 21 i wz. 34. Całość dopełni współczesne umundurowanie oficera Wojska Polskiego. \nTytuł ekspozycji pochodzi z jednej z pierwszych polskich prac o broni profesora Józefa Łepkowskiego\, rektora Uniwersytetu Jagiellońskiego w XIX wieku\, który uważał broń za jedno z najcenniejszych źródeł wiedzy o rozwoju cywilizacyjnym społeczeństw.\nObiekty prezentowane na wystawie pochodzą zarówno ze zbiorów własnych Muzeum Ziemi Tarnowskiej\, jak i zostały wypożyczone z: Muzeum Narodowego w Krakowie\, Muzeum Książąt Czartoryskich w Krakowie – Oddziału Muzeum Narodowego w Krakowie\, Muzeum Narodowego w Kielcach\, Muzeum Okręgowego w Rzeszowie\, Muzeum Archeologicznego w Krakowie\, Muzeum Diecezjalnego w Tarnowie oraz od prywatnych kolekcjonerów. \n Wystawę będzie można oglądać od 29 kwietnia do 26 września 2025 r. \nKuratorem wystawy jest Przemysław Kozek. Wystawa została przygotowana w ramach jubileuszu „1025. Tysiąclecie Królestwa Polskiego”.
URL:https://kultura.tarnow.pl/wydarzenie/bron-biala-i-palna-oraz-uzbrojenie-ochronne/2025-09-12/
LOCATION:Siedziba Muzeum Ziemi Tarnowskiej\, Rynek 3\, Tarnów\, małopolskie\, 33-100
CATEGORIES:wystawy
ATTACH;FMTTYPE=image/jpeg:https://kultura.tarnow.pl/wp-content/uploads/493671864_1253463123450731_3059929174519150617_n.jpg
GEO:50.0122989;20.9877958
X-APPLE-STRUCTURED-LOCATION;VALUE=URI;X-ADDRESS=Siedziba Muzeum Ziemi Tarnowskiej Rynek 3 Tarnów małopolskie 33-100;X-APPLE-RADIUS=500;X-TITLE=Rynek 3:geo:20.9877958,50.0122989
END:VEVENT
BEGIN:VEVENT
DTSTART;TZID=Europe/Warsaw:20250912T100000
DTEND;TZID=Europe/Warsaw:20250912T160000
DTSTAMP:20260420T045156
CREATED:20250903T101508Z
LAST-MODIFIED:20250903T101508Z
UID:10026654-1757671200-1757692800@kultura.tarnow.pl
SUMMARY:Salon Jesienny STAP
DESCRIPTION:Stowarzyszenie Tarnowskich Artystów Plastyków zaprasza na wystawę „Salon Jesienny 2025” do galerii ARTEKA funkcjonującej od lutego 2022 r. stowarzyszenia Tarnowskich Artystów Plastyków. Pierwszy Salon Jesienny STAP odbył się w październiku 2022.Tradycyjnie Salon Jesienny jest ekspozycją najnowszych dzieł zrzeszonych w STAP artystów związanych z Tarnowem.
URL:https://kultura.tarnow.pl/wydarzenie/salon-jesienny-stap-4/2025-09-12/
LOCATION:Galeria ARTEKA\, Wałowa 16\, Tarnów\, 33-100
CATEGORIES:wystawy
ATTACH;FMTTYPE=image/jpeg:https://kultura.tarnow.pl/wp-content/uploads/540977573_10224582438788029_5400649959103895559_n.jpg
ORGANIZER;CN="Stowarzyszenie Tarnowskich Artyst%C3%B3w Plastyk%C3%B3w":MAILTO:stowarzyszenie.arteka@gmail.com
END:VEVENT
BEGIN:VEVENT
DTSTART;TZID=Europe/Warsaw:20250912T190000
DTEND;TZID=Europe/Warsaw:20250912T203000
DTSTAMP:20260420T045156
CREATED:20250911T084308Z
LAST-MODIFIED:20250911T084308Z
UID:10026691-1757703600-1757709000@kultura.tarnow.pl
SUMMARY:Koncert Uwielbienia "Jezus w Centrum"
DESCRIPTION:
URL:https://kultura.tarnow.pl/wydarzenie/koncert-uwielbienia-jezus-w-centrum/
LOCATION:Bazylika Katedralna w Tarnowie\, ul. Kapitulna 2\, Tarnów\, małopolskie\, 33-100\, Polska
CATEGORIES:koncerty
ATTACH;FMTTYPE=image/jpeg:https://kultura.tarnow.pl/wp-content/uploads/545970234_1273002241532649_1650205032951359787_n.jpg
GEO:50.013388;20.987599
X-APPLE-STRUCTURED-LOCATION;VALUE=URI;X-ADDRESS=Bazylika Katedralna w Tarnowie ul. Kapitulna 2 Tarnów małopolskie 33-100 Polska;X-APPLE-RADIUS=500;X-TITLE=ul. Kapitulna 2:geo:20.987599,50.013388
END:VEVENT
BEGIN:VEVENT
DTSTART;TZID=Europe/Warsaw:20250912T190000
DTEND;TZID=Europe/Warsaw:20250912T210000
DTSTAMP:20260420T045156
CREATED:20250901T073337Z
LAST-MODIFIED:20250901T073337Z
UID:10026531-1757703600-1757710800@kultura.tarnow.pl
SUMMARY:Synchronizacja w Birkenwald | Gościnnie w Solskim
DESCRIPTION:Teatr im. Ludwika Solskiego w Tarnowie zaprasza na wyjątkowy spektakl dla młodzieży i dorosłych pt.: „Synchronizacja w Birkenwald” autorstwa Viktora E. Frankla\, jednego z twórców analizy egzystencjalnej i logoterapii – metody terapeutycznej. Spektakl odbędzie się 12 września\, o godzinie 19:00 na Dużej Scenie Solskiego. Sprzedaż biletów ruszy 19 sierpnia! \n\nJedną z inicjatyw do powstania spektaklu była 120. rocznica urodzin Viktora Frankla\, austriackiego neurologa\, psychiatry i psychoterapeuty. W czasie II wojny światowej był więźniem czterech obozów koncentracyjnych\, w tym Auschwitz i Dachau\, co znacząco wpłynęło na jego twórczość i filozofię. Logoterapia Frankla jest uznawana za trzecią wiedeńską szkołę psychoterapii. Wśród jego najważniejszych dzieł znajdują się takie książki\, jak Człowiek w poszukiwaniu sensu\, Homo patiens\, Lekarz i dusza oraz Bóg ukryty. Każda z nich niesie głębokie przesłanie o sile nadziei\, odpowiedzialności i ludzkiej zdolności do przezwyciężania cierpienia. \nFrankl doszedł do wniosku\, że nawet w najtrudniejszych chwilach\, gdy wszystko wydaje się stracone\, człowiek ma moc wyboru swojego podejścia do sytuacji. Jego słowa\, że „człowiekowi można odebrać wszystko\, z wyjątkiem jednego – ostatniej z ludzkich wolności – wyboru własnego stanowiska wobec jakichkolwiek okoliczności”\, są nie tylko przesłaniem nadziei\, ale także wezwaniem do działania. \nWierzymy\, że ta sztuka będzie przemieniać\, że będzie niosła nadzieję\, i że będzie też profilaktyką różnych kryzysów egzystencjalnych i każdy kto będzie miał okazję się z nią zapoznać poczuje\, że jego wola sensu została wzmocniona a być może nawet w obliczu bezsensownych okoliczności swojego życia\, znajdzie sensowną postawę – zapowiada dr Roman Solecki – dyrektor Krakowskiego Instytutu Logoterapii\, który jest jednym z pomysłodawców powstania spektaklu i również w nim gra. \nO sztuce Synchronizacja w Birkenwald \nCo\, jeśli Sokrates\, Kant i Spinoza spotkaliby się dziś\,\nby zmierzyć się z pytaniami o zło\, cierpienie i sens życia? \nW 1945 roku\, krótko po powrocie do wolności\, po trzech latach spędzonych w nazistowskim obozie zagłady\, Viktor Frankl napisał Synchronizację w Birkenwald. W dramacie trzej wielcy myśliciele – ateński filozof Sokrates (496-399 p.n.e)\, holenderski filozof żydowskiego pochodzenia\, Baruch Spinoza (1632-1677)\, oraz niemiecki metafizyk Immanuel Kant (1724-1804) przenoszą się w czasie\, by dołączyć do więźniów obozu koncentracyjnego i zmierzyć się z odwiecznym pytaniem zadanym po raz pierwszy przez Hioba: Jakie jest znaczenie cierpienia? \nZ synchronizacji czasu i przestrzeni wyłania się refleksja\, po którą możemy sięgnąć również współcześnie w czasach naszych kryzysów. Dialogi\, pełne bólu i nadziei\, przenikają do głębi\, inspirując do refleksji nad prawdziwą wolnością – tą\, którą Frankl określił jako 'wolność wyboru własnego stanowiska’ nawet w obliczu cierpienia.” Sztuka prowokuje do głębokiej refleksji nad istotą człowieczeństwa\, nadzieją i potęgą wolnego wyboru. \n\nScenariusz: Viktor Frankl\nReżyseria: Agnieszka Mandat\nScenografia: Julia Partyka\, Beata Skałecka\nObrazy: Marian Kołodziej\nMuzyka: Paweł Moszumański\nReżyseria świateł: Rafał Śmierzchalski\nInspicjent: Maria Różycka\n\nObsada: Maciej Małysa\, Iwona Konieczkowska\, Michał Śliwa\, Tadeusz Dylawerski\, Roman Solecki\, Michał Kuś\, Tomasz Gubała\, Mirosław Smoter\, Łukasz Piasecki\, Jan Szymula\, Adam Sławiński\, Paweł Cyrek\, Dominika Jucha\, Tomasz Samołyk\, Marcin Łękawa\, Łukasz Kin. \nTermin: 12 września (piątek)\, godz. 19:00; Duża Scena\nWiek widza: 15+\nCzas trwania: 90 minut\nBilety:\n– normalny: 70 zł\,\n– grupowy od 4 osób: 50 zł.\nSprzedaż i rezerwacja biletów od 19 sierpnia 2025 w kasie teatru oraz online. \n\nhttps://teatr.tarnow.pl/repertuar/?smonth=2025-09
URL:https://kultura.tarnow.pl/wydarzenie/synchronizacja-w-birkenwald-goscinnie-w-solskim/
LOCATION:Teatr im. L.Solskiego\, Mickiewicza 4\, Tarnów\, małopolskie\, 33-100\, Polska
CATEGORIES:spektakle
GEO:50.0159214;20.987504
X-APPLE-STRUCTURED-LOCATION;VALUE=URI;X-ADDRESS=Teatr im. L.Solskiego Mickiewicza 4 Tarnów małopolskie 33-100 Polska;X-APPLE-RADIUS=500;X-TITLE=Mickiewicza 4:geo:20.987504,50.0159214
END:VEVENT
END:VCALENDAR