BEGIN:VCALENDAR
VERSION:2.0
PRODID:-//kultura.tarnów - ECPv6.4.0.1//NONSGML v1.0//EN
CALSCALE:GREGORIAN
METHOD:PUBLISH
X-WR-CALNAME:kultura.tarnów
X-ORIGINAL-URL:https://kultura.tarnow.pl
X-WR-CALDESC:Wydarzenia dla
REFRESH-INTERVAL;VALUE=DURATION:PT1H
X-Robots-Tag:noindex
X-PUBLISHED-TTL:PT1H
BEGIN:VTIMEZONE
TZID:Europe/Warsaw
BEGIN:DAYLIGHT
TZOFFSETFROM:+0100
TZOFFSETTO:+0200
TZNAME:CEST
DTSTART:20250330T010000
END:DAYLIGHT
BEGIN:STANDARD
TZOFFSETFROM:+0200
TZOFFSETTO:+0100
TZNAME:CET
DTSTART:20251026T010000
END:STANDARD
END:VTIMEZONE
BEGIN:VEVENT
DTSTART;TZID=Europe/Warsaw:20250602T090000
DTEND;TZID=Europe/Warsaw:20250602T220000
DTSTAMP:20260423T030428
CREATED:20250505T084619Z
LAST-MODIFIED:20250526T072214Z
UID:10025468-1748854800-1748901600@kultura.tarnow.pl
SUMMARY:39. Tarnowska Nagroda Filmowa
DESCRIPTION:Tarnów ponownie stolicą polskiego kina!\nMiłośnicy kina\, rezerwujcie czas! Od 30 maja do 7 czerwca 2025 roku Tarnów ponownie rozbłyśnie światłem wielkiego ekranu\, stając się stolicą polskiej kinematografii. 39. Tarnowska Nagroda Filmowa – Festiwal Polskich Filmów Pełnometrażowych to wydarzenie\, które od lat przyciąga nie tylko kinomanów\, ale i twórców\, krytyków oraz pasjonatów sztuki filmowej z całej Polski. \nChoć tradycyjną festiwalową przestrzenią pozostaje legendarne tarnowskie kino Marzenie\, wydarzenia będą odbywać się również w innych lokalizacjach naszego miasta – Tarnowskim Centrum Kultury\, Amfiteatrze Letnim\, Domu Kultury Westerplatte czy Biurze Wystaw Artystycznych w Tarnowie. Dzięki temu cały Tarnów stanie się przestrzenią dla interdyscyplinarnego filmowego świętowania. \nNajważniejszym elementem programu będą niezmiennie konkursowe projekcje najlepszych polskich filmów\, ale to dopiero początek. W festiwalowych przestrzeniach odbędą się także pokazy specjalne\, inspirujące spotkania z twórcami\, cykl „Filmy Młodego Widza” dla dzieci i młodzieży\, wystawy\, koncerty\, warsztaty i inne wydarzenia towarzyszące\, które zgromadzą tysiące uczestników. \nOrganizatorzy niebawem odsłonią pierwsze programowe karty\, tymczasem prezentują plakat artystyczny 39. Tarnowskiej Nagrody Filmowej. Autorem plakatu jest po raz trzeci © Plakiat – Maks Bereski\, dwukrotny laureat Nagrody Polski Instytut Sztuki Filmowej w kategorii „Najlepszy plakat”. \nInterpretacja autora: \nOdnajdowanie wspólnej przestrzeni i nawiązywanie interakcji\, czyli filmowy dialog toczony współcześnie. Sceny z życia filmowego i branżowego. Między Godardem\, Banksy’m\, a Polską Szkołą Plakatu. Całość podana w malowanej technice odręcznej\, włącznie z liternictwem. Poszukiwania autorskiego sposobu wyrazu i przyglądanie się drugiej stronie. Kamera Super 8 jako symbol spoglądania po swojemu\, filmowy los we własnych dłoniach. \n39. Tarnowska Nagroda Filmowa – Festiwal Polskich Filmów Pełnometrażowych | 30 maja – 7 czerwca 2025\nZachęcamy do śledzenia oficjalnej strony festiwalu www.tarnowskanagrodafilmowa.pl oraz mediów społecznościowych (Facebook\, Instagram)\, gdzie organizatorzy będą zdradzać kolejne szczegóły nadchodzącego filmowego święta! \nOficjalny plakat artystyczny 39. TNF autorstwa Maksa Bereskiego – Plakiat
URL:https://kultura.tarnow.pl/wydarzenie/39-tarnowska-nagroda-filmowa/2025-06-02/
LOCATION:małopolskie
CATEGORIES:festiwale
ATTACH;FMTTYPE=image/jpeg:https://kultura.tarnow.pl/wp-content/uploads/39.TNF_Plakat.jpg
END:VEVENT
END:VCALENDAR