BEGIN:VCALENDAR
VERSION:2.0
PRODID:-//kultura.tarnów - ECPv6.4.0.1//NONSGML v1.0//EN
CALSCALE:GREGORIAN
METHOD:PUBLISH
X-ORIGINAL-URL:https://kultura.tarnow.pl
X-WR-CALDESC:Wydarzenia dla
REFRESH-INTERVAL;VALUE=DURATION:PT1H
X-Robots-Tag:noindex
X-PUBLISHED-TTL:PT1H
BEGIN:VTIMEZONE
TZID:Europe/Warsaw
BEGIN:DAYLIGHT
TZOFFSETFROM:+0100
TZOFFSETTO:+0200
TZNAME:CEST
DTSTART:20250330T010000
END:DAYLIGHT
BEGIN:STANDARD
TZOFFSETFROM:+0200
TZOFFSETTO:+0100
TZNAME:CET
DTSTART:20251026T010000
END:STANDARD
END:VTIMEZONE
BEGIN:VEVENT
DTSTART;TZID=Europe/Warsaw:20250529T170000
DTEND;TZID=Europe/Warsaw:20250529T180000
DTSTAMP:20260421T232534
CREATED:20250526T073104Z
LAST-MODIFIED:20250526T073104Z
UID:10025896-1748538000-1748541600@kultura.tarnow.pl
SUMMARY:Projektowanie multimedialne w LSP w Tarnowie. 
DESCRIPTION:Zapraszamy na wernisaż wystawy podsumowującej działania z ostatnich dwóch lat przedmiotu Projektowanie multimedialne w Liceum Sztuk Plastycznych w Tarnowie. \n29.05.2025\ng. 17.00\nGaleria BEMA 20\n\nuczestnicy:\n\nKlasa 3A\nEmilia Bocoń\nJulia Burda\nFranciszek Magdalena Habryło\nMonika Kolak\nWiktoria Kopeć\nZuzanna Kras\nNatalia Rogóż\nKinga Sosowska\nMagdalena Starzyk\nKatarzyna Sterkowiec\nKarolina Szarowicz\nMarlena Szwaja\nWanessa Sikoń\nWiktoria Tota\nOliwia Wałęga\nMarcel Maria Wolarek\nKarolina Zielińska\nZuzanna Zielińska\n\n\nKlasa 3B\nAmelia Ćwik\nKrzysztof Kumorek\nZuzanna Kowalska\nAntoni Kulczyk\nJagoda Mila\nPaulina Góral\nPola Pilarska\nAntonina Primowicz\nMarta Solarz\nMilena Suda\nTatiana Zeika\nEmilia Zych\n\nKlasa 4A\nWeronika Bełzowska\nMarcelina Bielat\nPatrycja Kolak\nOliwia Urbanek\n\nKlasa 4B\nMartyna Batko\nAlicja Filipiak\nKaja Hebda\nZofia Pacura\nZuzanna Zbiegieł
URL:https://kultura.tarnow.pl/wydarzenie/projektowanie-multimedialne-w-lsp-w-tarnowie/
LOCATION:Bema 20\, ul. Bema 20\, Tarnów\, małopolskie\, 33-100\, Polska
CATEGORIES:wernisaże
ORGANIZER;CN="Bema20":MAILTO:galeria@bema20.pl
GEO:50.009769;20.9839728
X-APPLE-STRUCTURED-LOCATION;VALUE=URI;X-ADDRESS=Bema 20 ul. Bema 20 Tarnów małopolskie 33-100 Polska;X-APPLE-RADIUS=500;X-TITLE=ul. Bema 20:geo:20.9839728,50.009769
END:VEVENT
BEGIN:VEVENT
DTSTART;TZID=Europe/Warsaw:20250529T170000
DTEND;TZID=Europe/Warsaw:20250529T183000
DTSTAMP:20260421T232534
CREATED:20241025T085643Z
LAST-MODIFIED:20250403T104019Z
UID:10025055-1748538000-1748543400@kultura.tarnow.pl
SUMMARY:Eric-Emmanuel Schmitt "Oskar i Pani Róża"
DESCRIPTION:28.05 środa godz. 9.00 i 11.30\n29.05 czwartek godz. 9.00 i 11.30\n\nSpektakl na podstawie bestsellerowej książki Erica – Emmanuela Schmitta jest piękną i pełną nadziei opowieścią o wartości życia\, miłości\, odwadze\, sile wyobraźni i zgodzie na to\, co nieuniknione.\n \nhttps://teatr.tarnow.pl/spektakle/spektakle-spektakle/oskar-i-pani-roza/\n\nBilety 25-60 zł\nCzas trwania: 75 min.
URL:https://kultura.tarnow.pl/wydarzenie/eric-emmanuel-schmitt-oskar-i-pani-roza/2025-05-29/
LOCATION:Teatr im. L.Solskiego\, Mickiewicza 4\, Tarnów\, małopolskie\, 33-100\, Polska
CATEGORIES:spektakle
ATTACH;FMTTYPE=image/jpeg:https://kultura.tarnow.pl/wp-content/uploads/facebook-gora-OSKAR.jpg
GEO:50.0159214;20.987504
X-APPLE-STRUCTURED-LOCATION;VALUE=URI;X-ADDRESS=Teatr im. L.Solskiego Mickiewicza 4 Tarnów małopolskie 33-100 Polska;X-APPLE-RADIUS=500;X-TITLE=Mickiewicza 4:geo:20.987504,50.0159214
END:VEVENT
END:VCALENDAR