BEGIN:VCALENDAR
VERSION:2.0
PRODID:-//kultura.tarnów - ECPv6.4.0.1//NONSGML v1.0//EN
CALSCALE:GREGORIAN
METHOD:PUBLISH
X-ORIGINAL-URL:https://kultura.tarnow.pl
X-WR-CALDESC:Wydarzenia dla
REFRESH-INTERVAL;VALUE=DURATION:PT1H
X-Robots-Tag:noindex
X-PUBLISHED-TTL:PT1H
BEGIN:VTIMEZONE
TZID:Europe/Warsaw
BEGIN:DAYLIGHT
TZOFFSETFROM:+0100
TZOFFSETTO:+0200
TZNAME:CEST
DTSTART:20250330T010000
END:DAYLIGHT
BEGIN:STANDARD
TZOFFSETFROM:+0200
TZOFFSETTO:+0100
TZNAME:CET
DTSTART:20251026T010000
END:STANDARD
END:VTIMEZONE
BEGIN:VEVENT
DTSTART;TZID=Europe/Warsaw:20250528T090000
DTEND;TZID=Europe/Warsaw:20250528T130000
DTSTAMP:20260423T013003
CREATED:20241025T085643Z
LAST-MODIFIED:20250403T104019Z
UID:10025054-1748422800-1748437200@kultura.tarnow.pl
SUMMARY:Eric-Emmanuel Schmitt "Oskar i Pani Róża"
DESCRIPTION:28.05 środa godz. 9.00 i 11.30\n29.05 czwartek godz. 9.00 i 11.30\n\nSpektakl na podstawie bestsellerowej książki Erica – Emmanuela Schmitta jest piękną i pełną nadziei opowieścią o wartości życia\, miłości\, odwadze\, sile wyobraźni i zgodzie na to\, co nieuniknione.\n \nhttps://teatr.tarnow.pl/spektakle/spektakle-spektakle/oskar-i-pani-roza/\n\nBilety 25-60 zł\nCzas trwania: 75 min.
URL:https://kultura.tarnow.pl/wydarzenie/eric-emmanuel-schmitt-oskar-i-pani-roza/2025-05-28/
LOCATION:Teatr im. L.Solskiego\, Mickiewicza 4\, Tarnów\, małopolskie\, 33-100\, Polska
CATEGORIES:spektakle
ATTACH;FMTTYPE=image/jpeg:https://kultura.tarnow.pl/wp-content/uploads/facebook-gora-OSKAR.jpg
GEO:50.0159214;20.987504
X-APPLE-STRUCTURED-LOCATION;VALUE=URI;X-ADDRESS=Teatr im. L.Solskiego Mickiewicza 4 Tarnów małopolskie 33-100 Polska;X-APPLE-RADIUS=500;X-TITLE=Mickiewicza 4:geo:20.987504,50.0159214
END:VEVENT
BEGIN:VEVENT
DTSTART;TZID=Europe/Warsaw:20250528T093000
DTEND;TZID=Europe/Warsaw:20250528T130000
DTSTAMP:20260423T013003
CREATED:20250428T081325Z
LAST-MODIFIED:20250428T081325Z
UID:10025456-1748424600-1748437200@kultura.tarnow.pl
SUMMARY:„Piotruś Pan”
DESCRIPTION:Spektakl w wykonaniu uczniów Zespołu Szkół dla Niesłyszących i Słabo Słyszących w Tarnowie \n28 maja 2025\, godz. 9:30 i 11:00 \n„Piotruś Pan” to przepełniony magią spektakl o przygodach młodego chłopca\, który razem z Dzwoneczkiem zaprasza do swojej krainy- Nibylandii – najmłodszych mieszkańców domu Pani Darling. Razem wezmą udział w wielu fantastycznych przygodach. Ale czy dni miną im tylko na beztroskiej zabawie? Jak potoczą się losy Piotrusia i reszty dzieci? Czy zły kapitan Hak wygra? \nW role bohaterów wcielą się uczniowie Zespołu Szkół dla Niesłyszących i Słabo Słyszących w Tarnowie. Kolorowe stroje i choreografia przeniosą nas w cudowny bajkowy świat. \nSpektakl muzyczno-taneczny dla dzieci w wieku przedszkolnym i klas I – III. \nCzas trwania: 45 minut \nRezerwacje: Kasa – 14 633 46 04   \nBilety: 5 zł \n \n 
URL:https://kultura.tarnow.pl/wydarzenie/piotrus-pan/
LOCATION:Centrum Sztuki Mościce\, Traugutta 1\, Tarnów\, małopolskie\, 33-101\, Polska
CATEGORIES:spektakle
GEO:50.009833;20.92706
X-APPLE-STRUCTURED-LOCATION;VALUE=URI;X-ADDRESS=Centrum Sztuki Mościce Traugutta 1 Tarnów małopolskie 33-101 Polska;X-APPLE-RADIUS=500;X-TITLE=Traugutta 1:geo:20.92706,50.009833
END:VEVENT
END:VCALENDAR