BEGIN:VCALENDAR
VERSION:2.0
PRODID:-//kultura.tarnów - ECPv6.4.0.1//NONSGML v1.0//EN
CALSCALE:GREGORIAN
METHOD:PUBLISH
X-ORIGINAL-URL:https://kultura.tarnow.pl
X-WR-CALDESC:Wydarzenia dla
REFRESH-INTERVAL;VALUE=DURATION:PT1H
X-Robots-Tag:noindex
X-PUBLISHED-TTL:PT1H
BEGIN:VTIMEZONE
TZID:Europe/Warsaw
BEGIN:DAYLIGHT
TZOFFSETFROM:+0100
TZOFFSETTO:+0200
TZNAME:CEST
DTSTART:20250330T010000
END:DAYLIGHT
BEGIN:STANDARD
TZOFFSETFROM:+0200
TZOFFSETTO:+0100
TZNAME:CET
DTSTART:20251026T010000
END:STANDARD
END:VTIMEZONE
BEGIN:VEVENT
DTSTART;TZID=Europe/Warsaw:20250524T110000
DTEND;TZID=Europe/Warsaw:20250524T140000
DTSTAMP:20260422T165938
CREATED:20250508T071126Z
LAST-MODIFIED:20250508T071126Z
UID:10025874-1748084400-1748095200@kultura.tarnow.pl
SUMMARY:„Sobota z technologią”
DESCRIPTION:24 maja\, godz. 11:00 | „Sobota z technologią” – rodzinne odkrywanie nowinek\nDruk 3D\, VR\, skanery\, pies-robot i gigantyczne LEGO Duplo – dzień pełen technologicznych atrakcji dla małych i dużych odkrywców! Wstęp wolny.
URL:https://kultura.tarnow.pl/wydarzenie/sobota-z-technologia/
LOCATION:Dom Kultury Westerplatte 8a\, Westerplatte 8a\, Tarnów\, Polska - małopolskie\, 33-100\, Polska
CATEGORIES:spotkania
ATTACH;FMTTYPE=image/jpeg:https://kultura.tarnow.pl/wp-content/uploads/Sobota-z-technologia_s.jpg
ORGANIZER;CN="Dom Kultury Westerplatte 8a":MAILTO:westerplatte@tck.pl
GEO:50.0273033;21.0087361
X-APPLE-STRUCTURED-LOCATION;VALUE=URI;X-ADDRESS=Dom Kultury Westerplatte 8a Westerplatte 8a Tarnów Polska - małopolskie 33-100 Polska;X-APPLE-RADIUS=500;X-TITLE=Westerplatte 8a:geo:21.0087361,50.0273033
END:VEVENT
BEGIN:VEVENT
DTSTART;TZID=Europe/Warsaw:20250524T150000
DTEND;TZID=Europe/Warsaw:20250524T170000
DTSTAMP:20260422T165938
CREATED:20250516T095323Z
LAST-MODIFIED:20250516T095323Z
UID:10025892-1748098800-1748106000@kultura.tarnow.pl
SUMMARY:Piknik rodzinny na Starówce z Pałacem Młodzieży
DESCRIPTION:Pałac Młodzieży oraz Rada Osiedla Starówka zapraszają mieszkańców Tarnowa na wyjątkowy piknik\, który odbędzie się 24 maja/sobota na tarnowskim Rynku. Wydarzenie rozpocznie się o godzinie 15:00 i potrwa do 17:30. Piknik rodzinny na Starówce z Pałacem Młodzieży jest imprezą cykliczną\, a tegoroczna edycja odbywa się pod Patronatem Honorowym Prezydenta Miasta Tarnowa Jakuba Kwaśnego. \nOrganizatorzy przygotowali bogaty program\, pełen atrakcji dla dzieci i dorosłych. Uczestnicy będą mieli okazję zobaczyć występy wokalne\, taneczne i teatralne. Wśród propozycji są też gry i zabawy sportowe (piłka ręczna\, koszykówka) oraz pokazy plenerowe gimnastyki artystycznej\, judo i szermierki. Wszystkich chętnych zabierzemy w fascynującą podróż po krajach anglo i niemieckojęzycznych. W ramach wydarzenia\, dzieci będą mogły skorzystać z różnych kreatywnych zajęć\, w tym pogotowia artystycznego i malowania twarzy. Dla miłośników zabawy zorganizowany będzie konkurs na przebranie superbohatera – przyjdź w stroju i pokaż swoją supermoc! Autorów najciekawszych kostiumów nagrodzimy. \nProjekt finansowany z budżetu Miasta Tarnowa\nOrganizatorzy: Pałac Młodzieży w Tarnowie i Rada Osiedla Starówka
URL:https://kultura.tarnow.pl/wydarzenie/piknik-rodzinny-na-starowce-z-palacem-mlodziezy/
LOCATION:Rynek\, Tarnów\, małopolskie\, 33-100\, Polska
CATEGORIES:piknik
ATTACH;FMTTYPE=image/jpeg:https://kultura.tarnow.pl/wp-content/uploads/plakat-piknik-rodzinny-scaled.jpg
GEO:50.0121011;20.9858407
END:VEVENT
BEGIN:VEVENT
DTSTART;TZID=Europe/Warsaw:20250524T190000
DTEND;TZID=Europe/Warsaw:20250524T210000
DTSTAMP:20260422T165938
CREATED:20250428T075950Z
LAST-MODIFIED:20250428T075950Z
UID:10025455-1748113200-1748120400@kultura.tarnow.pl
SUMMARY:„Golden Hits of Queen & Her Majesty Orchestra”
DESCRIPTION:„Golden Hits of Queen & Her Majesty Orchestra” to spektakularne muzyczne wydarzenie\, które zjednuje serca zarówno miłośników zespołu Queen\, jak i fanów muzyki z całego świata! \nTo wyjątkowa okazja\, by przenieść się w czasie do złotych lat twórczości legendarnego zespołu. Podczas tego koncertu\, zespołowi Queen towarzyszy olśniewająca orkiestra\, która dodaje magii do już doskonałych utworów. \nSymfoniczne aranżacje tworzą pełne emocji i głębokie brzmienie\, podkreślając wyjątkową ekspresję głosu Freddiego Mercury’ego i unikalne instrumentarium grupy. Wypełniony energią zestaw największych przebojów Queen\, takich jak „Bohemian Rhapsody”\, „We Will Rock You” czy „Don’t Stop Me Now”\, przenosi publiczność na niezapomnianą muzyczną podróż. Każdy utwór jest odśpiewywany i wykonany z pasją i oddaniem\, dzięki czemu każdy fan może ponownie poczuć chwile\, które na zawsze zapisały się w historii muzyki. \nTa wyjątkowa energetyczna mieszanka rocka i orkiestry wywołuje zawrotną dawkę emocji i podziwu dla talentu i genialności Queen. Wysmakowane aranżacje wzbogacają utwory\, ukazując je w zupełnie nowym świetle\, zachowując jednocześnie ich pierwotny charakter i ducha.\n„Golden hits of Queen z towarzyszeniem orkiestry” to pełne muzyczne doznanie\, które nie tylko oddaje hołd zespołowi Queen\, ale także inspirować może kolejne pokolenia artystów i fanów do odkrywania piękna muzyki w różnych jej odcieniach. \nTo spektakl\, który przekracza granice czasu i przestrzeni\, łącząc pokolenia w uwielbieniu dla nieśmiertelnej muzyki Queen. \nBez wątpienia jest to wydarzenie\, które pozostawia trwałe wrażenie i dostarcza niezapomnianych chwil dla wszystkich uczestników. \nKamil Franczak – wokal wiodący\, wokalista\, aktor i songwriter. Laureat festiwali oraz nagród muzycznych. Debiutował w Opolu w 2010 roku z zespołem Zero Procent\, z którym w latach 2004 – 2013 wydał dwa albumy i zagrał setki koncertów. W latach 2011 – 2012 współprowadził młodzieżowy program „Poziom 2.0”\, emitowany na antenie TVP2. Na deskach teatralnych debiutował w 2011 roku rolą Moritza Stiefela w musicalu „Przebudzenie wiosny” w Teatrze Rozrywki w Chorzowie. Od tego czasu zagrał na tej scenie główne role m.in. w musicalach „Producenci”\, „Sweeney Todd”\, „Niedziela w parku z Georgem”\, „Jak odnieść sukces w biznesie zanadto się nie wysilając” czy „Cabaret”. Za rolę Mistrza Ceremonii w tym ostatnim tytule otrzymał nagrodę artystyczną Złota Maska 2019.W 2022 roku pod pseudonimem FRANKY wydał swój pierwszy solowy album pt. „#lubiecie”\, a pochodzący z niego utwór „lustracja” został uhonorowany nagrodą Grand Prix podczas XVIII Carpathia Festival w Rzeszowie (2022). \nW niezwykłej muzycznej podróży śladami zespołu Queen będzie towarzyszyć będzie jedyna w swoim rodzaju Her Majesty Orchestra złożona z najlepszych polskich oraz zagranicznych muzyków\, którzy tworzą niesamowity zespół. Muzycy pracowali z takimi sławami jak m. in.: Gordon Haskel\, Ewa Uryga\, Basia Trzetrzelewska\, Mieczysław Szcześniak\, Krystyna Prońko\, Zbigniew Wodecki\, Eric Marienthal\, Ute Lamper\, Kevin Robinson\, Bill Prince\, Krzesimir Dębski\, Adam Sztaba\, Maciej Niesiołowski. \nBilety: 140 zł (normalny)\, 130 zł (ulgowy)\, 110 zł (pufy)
URL:https://kultura.tarnow.pl/wydarzenie/golden-hits-of-queen-her-majesty-orchestra/
LOCATION:Centrum Sztuki Mościce\, Traugutta 1\, Tarnów\, małopolskie\, 33-101\, Polska
CATEGORIES:koncerty
ATTACH;FMTTYPE=image/jpeg:https://kultura.tarnow.pl/wp-content/uploads/img_60468db79fb7897ed816246593edead5.jpeg
GEO:50.009833;20.92706
X-APPLE-STRUCTURED-LOCATION;VALUE=URI;X-ADDRESS=Centrum Sztuki Mościce Traugutta 1 Tarnów małopolskie 33-101 Polska;X-APPLE-RADIUS=500;X-TITLE=Traugutta 1:geo:20.92706,50.009833
END:VEVENT
END:VCALENDAR