BEGIN:VCALENDAR
VERSION:2.0
PRODID:-//kultura.tarnów - ECPv6.4.0.1//NONSGML v1.0//EN
CALSCALE:GREGORIAN
METHOD:PUBLISH
X-ORIGINAL-URL:https://kultura.tarnow.pl
X-WR-CALDESC:Wydarzenia dla
REFRESH-INTERVAL;VALUE=DURATION:PT1H
X-Robots-Tag:noindex
X-PUBLISHED-TTL:PT1H
BEGIN:VTIMEZONE
TZID:Europe/Warsaw
BEGIN:DAYLIGHT
TZOFFSETFROM:+0100
TZOFFSETTO:+0200
TZNAME:CEST
DTSTART:20250330T010000
END:DAYLIGHT
BEGIN:STANDARD
TZOFFSETFROM:+0200
TZOFFSETTO:+0100
TZNAME:CET
DTSTART:20251026T010000
END:STANDARD
END:VTIMEZONE
BEGIN:VEVENT
DTSTART;TZID=Europe/Warsaw:20250521T083000
DTEND;TZID=Europe/Warsaw:20250521T170000
DTSTAMP:20260421T232542
CREATED:20250508T065641Z
LAST-MODIFIED:20250508T065641Z
UID:10025866-1747816200-1747846800@kultura.tarnow.pl
SUMMARY:„Popatrz uważnie – co widzisz?”
DESCRIPTION:„Popatrz uważnie – co widzisz?” – warsztaty plastyczne dla klas I–IV\nPodczas warsztatów dzieci poznają świat sąsiedzkiej twórczości i stworzą własne niezwykłe istoty inspirowane wystawą. Rozbudzimy wyobraźnię i porozmawiamy o sile wspólnoty. Na warsztaty obowiązuje wcześniejsza  rezerwacja: d.cholewiak@tck.pl\, zajęcia prowadzimy od poniedziałku do piątki od 8:30-17:00\, cena dla grupy do 30 osób to 100 zł.
URL:https://kultura.tarnow.pl/wydarzenie/popatrz-uwaznie-co-widzisz/2025-05-21/
LOCATION:Dom Kultury Westerplatte 8a\, Westerplatte 8a\, Tarnów\, Polska - małopolskie\, 33-100\, Polska
CATEGORIES:warsztaty
ATTACH;FMTTYPE=image/jpeg:https://kultura.tarnow.pl/wp-content/uploads/dkwesterplatte_rozycka_Katarzyna_cowidzisz_1-scaled.jpg
ORGANIZER;CN="Dom Kultury Westerplatte 8a":MAILTO:westerplatte@tck.pl
GEO:50.0273033;21.0087361
X-APPLE-STRUCTURED-LOCATION;VALUE=URI;X-ADDRESS=Dom Kultury Westerplatte 8a Westerplatte 8a Tarnów Polska - małopolskie 33-100 Polska;X-APPLE-RADIUS=500;X-TITLE=Westerplatte 8a:geo:21.0087361,50.0273033
END:VEVENT
BEGIN:VEVENT
DTSTART;TZID=Europe/Warsaw:20250521T100000
DTEND;TZID=Europe/Warsaw:20250521T120000
DTSTAMP:20260421T232542
CREATED:20250508T065903Z
LAST-MODIFIED:20250508T065903Z
UID:10025870-1747821600-1747828800@kultura.tarnow.pl
SUMMARY:„Muzyka dla smyka” – zajęcia gordonowskie
DESCRIPTION:8 i 21 maja\, godz. 10:00 lub 11:15 | „Muzyka dla smyka” – zajęcia gordonowskie\nZajęcia muzyczne dla dzieci od 0 do 3 lat\, prowadzone metodą Edwina Gordona. Śpiew\, rytm i ruch w naturalnej\, radosnej atmosferze – rozwój muzycznej wrażliwości od pierwszych chwil! Na zajęcia obowiązują zapisy: a.radon@tck.pl\, płatne: 40 zł
URL:https://kultura.tarnow.pl/wydarzenie/muzyka-dla-smyka-zajecia-gordonowskie/2025-05-21/
LOCATION:Dom Kultury Westerplatte 8a\, Westerplatte 8a\, Tarnów\, Polska - małopolskie\, 33-100\, Polska
CATEGORIES:koncerty
ATTACH;FMTTYPE=image/jpeg:https://kultura.tarnow.pl/wp-content/uploads/0805-Muzyka-dla-smyka-1-scaled.jpg
ORGANIZER;CN="Dom Kultury Westerplatte 8a":MAILTO:westerplatte@tck.pl
GEO:50.0273033;21.0087361
X-APPLE-STRUCTURED-LOCATION;VALUE=URI;X-ADDRESS=Dom Kultury Westerplatte 8a Westerplatte 8a Tarnów Polska - małopolskie 33-100 Polska;X-APPLE-RADIUS=500;X-TITLE=Westerplatte 8a:geo:21.0087361,50.0273033
END:VEVENT
BEGIN:VEVENT
DTSTART;TZID=Europe/Warsaw:20250521T170000
DTEND;TZID=Europe/Warsaw:20250521T180000
DTSTAMP:20260421T232542
CREATED:20250428T082302Z
LAST-MODIFIED:20250428T082302Z
UID:10025459-1747846800-1747850400@kultura.tarnow.pl
SUMMARY:Spotkanie poetyckie z Marią Kwater
DESCRIPTION:Senior w Centrum \nMaria Kwater (Pyteraf) zaprezentuje najnowszy tomik poezji pod tytułem „Okruszki szczęścia” oraz opowie o swojej twórczości. Przekazywanie emocji w słowach jest trudną sztuką\, z którą mierzy się z powodzeniem od wielu lat  o czym świadczą nagrody i wyróżnienia. \nSpotkanie poprowadzi: Anna Świętek \nSpotkanie odbędzie się na antresoli. Dysponujemy windą. \nWięcej informacji o spotkaniu: Anna Świętek\, tel. 14 633 46 16 (poniedziałek – piątek\, w godzinach 8.00 – 16.00)
URL:https://kultura.tarnow.pl/wydarzenie/spotkanie-poetyckie-z-maria-kwater/
LOCATION:Centrum Sztuki Mościce\, Traugutta 1\, Tarnów\, małopolskie\, 33-101\, Polska
CATEGORIES:spotkania
GEO:50.009833;20.92706
X-APPLE-STRUCTURED-LOCATION;VALUE=URI;X-ADDRESS=Centrum Sztuki Mościce Traugutta 1 Tarnów małopolskie 33-101 Polska;X-APPLE-RADIUS=500;X-TITLE=Traugutta 1:geo:20.92706,50.009833
END:VEVENT
END:VCALENDAR