BEGIN:VCALENDAR
VERSION:2.0
PRODID:-//kultura.tarnów - ECPv6.4.0.1//NONSGML v1.0//EN
CALSCALE:GREGORIAN
METHOD:PUBLISH
X-ORIGINAL-URL:https://kultura.tarnow.pl
X-WR-CALDESC:Wydarzenia dla
REFRESH-INTERVAL;VALUE=DURATION:PT1H
X-Robots-Tag:noindex
X-PUBLISHED-TTL:PT1H
BEGIN:VTIMEZONE
TZID:Europe/Warsaw
BEGIN:DAYLIGHT
TZOFFSETFROM:+0100
TZOFFSETTO:+0200
TZNAME:CEST
DTSTART:20250330T010000
END:DAYLIGHT
BEGIN:STANDARD
TZOFFSETFROM:+0200
TZOFFSETTO:+0100
TZNAME:CET
DTSTART:20251026T010000
END:STANDARD
END:VTIMEZONE
BEGIN:VEVENT
DTSTART;TZID=Europe/Warsaw:20250515T083000
DTEND;TZID=Europe/Warsaw:20250515T170000
DTSTAMP:20260421T213618
CREATED:20250508T065641Z
LAST-MODIFIED:20250508T065641Z
UID:10025862-1747297800-1747328400@kultura.tarnow.pl
SUMMARY:„Popatrz uważnie – co widzisz?”
DESCRIPTION:„Popatrz uważnie – co widzisz?” – warsztaty plastyczne dla klas I–IV\nPodczas warsztatów dzieci poznają świat sąsiedzkiej twórczości i stworzą własne niezwykłe istoty inspirowane wystawą. Rozbudzimy wyobraźnię i porozmawiamy o sile wspólnoty. Na warsztaty obowiązuje wcześniejsza  rezerwacja: d.cholewiak@tck.pl\, zajęcia prowadzimy od poniedziałku do piątki od 8:30-17:00\, cena dla grupy do 30 osób to 100 zł.
URL:https://kultura.tarnow.pl/wydarzenie/popatrz-uwaznie-co-widzisz/2025-05-15/
LOCATION:Dom Kultury Westerplatte 8a\, Westerplatte 8a\, Tarnów\, Polska - małopolskie\, 33-100\, Polska
CATEGORIES:warsztaty
ATTACH;FMTTYPE=image/jpeg:https://kultura.tarnow.pl/wp-content/uploads/dkwesterplatte_rozycka_Katarzyna_cowidzisz_1-scaled.jpg
ORGANIZER;CN="Dom Kultury Westerplatte 8a":MAILTO:westerplatte@tck.pl
GEO:50.0273033;21.0087361
X-APPLE-STRUCTURED-LOCATION;VALUE=URI;X-ADDRESS=Dom Kultury Westerplatte 8a Westerplatte 8a Tarnów Polska - małopolskie 33-100 Polska;X-APPLE-RADIUS=500;X-TITLE=Westerplatte 8a:geo:21.0087361,50.0273033
END:VEVENT
BEGIN:VEVENT
DTSTART;TZID=Europe/Warsaw:20250515T090000
DTEND;TZID=Europe/Warsaw:20250515T130000
DTSTAMP:20260421T213619
CREATED:20250403T100617Z
LAST-MODIFIED:20250403T100618Z
UID:10021282-1747299600-1747314000@kultura.tarnow.pl
SUMMARY:Spektakl familijny "Jaś i Małgosia"
DESCRIPTION:15.05 czwartek godz. 9.00 i 11.00\n16.05 piątek godz. 9.00 i 11.00\n \nBajka skupia się na opowiedzeniu o relacjach międzyludzkich. Jak dzieci reagują\, gdy w świat wkracza nowa osoba\, jak funkcjonują ze sobą\, jak razem poznają świat i próbują znaleźć w nim miejsce dla siebie. To także opowieść o tym\, że problemy rozwiązywane sprytem i inteligencją a nie przemocą przynoszą więcej korzyści i satysfakcji. Poruszony zostaje także ważki temat – temat smutku\, jak nazywamy teraz: depresji – choroby XXI wieku. Jest to próba odpowiedzi na to czym jest\, jak funkcjonuje osoba chora\, jak widzi i próbuje zrozumieć ją dziecko. Zakładamy również iż zło i złe uczynki biorą się z wewnętrznego nieszczęścia osoby je czyniącej oraz braku miłości\, przyjaźni w jej życiu. A także\, że każdy ma prawo do błędu oraz do drugiej szansy\, że w każdym z nas tak naprawdę tkwi dobry człowiek. Zaś prawdziwa przyjaźń i miłość są wartościami bezcennymi\, trzeba je chronić i pielęgnować. \nPiękna muzyka\, wiele piosenek\, wesołe dialogi\, kolorowa scenografia i kostiumy\, wartka akcja pozwolą na nowo spojrzeć na bardzo dobrze znaną nam baśń. Każdy\, dorosły i dziecko\, znajdzie w świecie „Jasia i Małgosi” coś dla siebie. \nhttps://teatr.tarnow.pl/spektakle/spektakle-familijne/jas-i-malgosia/\nBilet 25-60 zł\nCzas trwania: 70 min.
URL:https://kultura.tarnow.pl/wydarzenie/spektakl-familijny-jas-i-malgosia-2/
LOCATION:Teatr im. L.Solskiego\, Mickiewicza 4\, Tarnów\, małopolskie\, 33-100\, Polska
CATEGORIES:spektakle
ATTACH;FMTTYPE=image/jpeg:https://kultura.tarnow.pl/wp-content/uploads/Jaś-i-Małgosia.jpg
GEO:50.0159214;20.987504
X-APPLE-STRUCTURED-LOCATION;VALUE=URI;X-ADDRESS=Teatr im. L.Solskiego Mickiewicza 4 Tarnów małopolskie 33-100 Polska;X-APPLE-RADIUS=500;X-TITLE=Mickiewicza 4:geo:20.987504,50.0159214
END:VEVENT
BEGIN:VEVENT
DTSTART;TZID=Europe/Warsaw:20250515T090000
DTEND;TZID=Europe/Warsaw:20250515T233000
DTSTAMP:20260421T213619
CREATED:20250507T114413Z
LAST-MODIFIED:20250507T114950Z
UID:10025848-1747299600-1747351800@kultura.tarnow.pl
SUMMARY:Noc Muzeów 2025
DESCRIPTION:Biuro Wystaw Artystycznych w Tarnowie\, Muzeum Ziemi Tarnowskiej\, Muzeum Diecezjalne w Tarnowie\, Parafia Katedralna w Tarnowie\, Komitet Opieki nad Zabytkami Kultury Żydowskiej w Tarnowie\, Tarnowskie Centrum Kultury\, Tarnowskie Towarzystwo Fotograficzne\, Centrum Sztuki Mościce\, Galeria Bema20\, Galeria Hortar\, Galeria ARTEKA\, Gemini Park Tarnów\, Wydział Sztuki Akademii Tarnowskiej\, Liceum Sztuk Plastycznych w Tarnowie\, Grupa Azoty S.A.\, Tarnowskie Centrum Informacji\, Porta Sei\, ART Artur Grodziński zapraszają na \nMIĘDZYNARODOWĄ NOC MUZEÓW 2025 \nTarnów i oddział Muzeum Ziemi Tarnowskiej – Muzeum Zamek w Dębnie / 14-17 maja 2025 \nKtóre miejsce odwiedziliście w czasie Nocy Muzeów w Tarnowie? Pokażcie i oznaczcie hasztagiem: #nocmuzeówtarnów \n4 dni\n21 miejsc\n26 wystaw\n37 wydarzeń \nKLIKNIJ ABY POBRAĆ PROGRAM  \nWystawy\, wernisaże\, spotkania z artystami\, konsultacje fotograficzne\, warsztaty\, kino plenerowe\, opowieści o duchach i dybukach oraz niespodzianki. \nProgram:  \nŚRODA 14 maja \n19.00\nPORTA SEI\, Sowińskiego 13\nWernisaż wystawy zbiorowej Tarnowskiego Towarzystwa Fotograficznego Kontrast w czasie \nCZWARTEK 15 maja \n17.00\nBIURO WYSTAW ARTYSTYCZNYCH\, Dworzec PKP\, Pl. Dworcowy 4\nDyplomy Liceum Sztuk Plastycznych w Tarnowie\nwernisaż wystawy \n17.00–20.00\nTARNOWSKIE CENTRUM KULTURY\, Rynek 5\nKonsultacje fotograficzne – zaprasza Tarnowskie Towarzystwo Fotograficzne – wskazówki dotyczące techniki\, kompozycji\, postprodukcji / obowiązują zapisy – w TCK \nPIĄTEK 16 maja \n9.00–17.00\nBIURO WYSTAW ARTYSTYCZNYCH\, Dworzec PKP\, Pl. Dworcowy 4\nDyplomy Liceum Sztuk Plastycznych w Tarnowie – wystawa\n15.00–17.00 – autorzy oprowadzają po wystawie \n17.00–22.00\nLICEUM SZTUK PLASTYCZNYCH\, ul. Westwalewicza 6\nNOC W PLASTYKU:\n17.00–21.30 – kiermasz\n17.00–18.30 – warsztaty dla dzieci: (S)pokój marzeń / prowadzą: Martyna Batko i Zuzanna Zbiegieł\, Stworki / prowadzą: Weronika Bełzowska i Magdalena Kawik\n17.00–19.30 – Setlik Custom – warsztaty dla młodzieży /prowadzi: Daniel Setlik\n17.00–18.00 – akcja artystyczna Światełka\n18.00 i 19.00 – oprowadzanie po szkole (wystawy\, pracownie)\n19.30 – wernisaż wystawy prac Wiktorii Woziwody\n20.00 – wernisaż wystawy prac Szymona Wojtanowskiego\n20.30 – wernisaż wystawy prac Mieczysława Górowskiego\n21.00–22.00 – kino plenerowe: animacje z pracowni projektowania multimedialnego / powstałych na warsztatach z dr. hab. Robertem Sową\, prof. ASP w Krakowie \n18.00\nCENTRUM SZTUKI MOŚCICE\, ul. Traugutta 1\nPiotr Bożyk Zachwyt II – wernisaż wystawy\n18.30 – wykład Piotra Bożyka Czas ludzi / czas przedmiotów \nSOBOTA 17 maja \n9.00–22.00\nMUZEUM ZIEMI TARNOWSKIEJ\,\nMUZEUM ETNOGRAFICZNE\, ul. Krakowska 10\n9.00–18.00 – VII Dzień Hetmański w Tarnowie (w programie m.in. turniej łuczniczy o Buławę Hetmańską\, korowód hetmański\, obozowisko średniowieczne\, udział grup rekonstrukcji historycznej\, pokazy i warsztaty rzemiosł dawnych\, spektakl dla dzieci i dorosłych)\n17.00–22.00 – wystawa stała\, wystawa czasowa W babcinej izbie \n10.00–21.00\nTARNOWSKIE CENTRUM KULTURY\, Rynek 5\n39. TNF: Plakiat. Wystawa wybranych plakatów artystycznych vol. 3  \n12.00–22.00\nPORTA SEI\, Sowińskiego 13\nKontrast w czasie – wystawa zbiorowa Tarnowskiego Towarzystwa Fotograficznego \n13.00–18.00\nMUZEUM ZIEMI TARNOWSKIEJ\nMUZEUM ZAMEK W DĘBNIE\, Dębno 189\nWystawa stała\, wystawa czasowa Droga do domu oraz spotkanie z autorką G. Grobelną–Przybyło\, niespodzianki muzyczne\n16.00\, 17.00 – przedstawienie – sceny z Nocy Listopadowej w wykonaniu uczniów I LO w Tarnowie \n15.00–22.00\nWILLA KWIATKOWSKIEGO\, Grupa Azoty S.A.\, ul. Jarzębinowa 9\nOtwarcie Willi i ogrodu Eugeniusza Kwiatkowskiego – wnętrza stylizowane na lata 30. XX w.\, zdjęcia historyczne Zakładów i film\, spacer po ogrodzie wśród starych drzew \n15.00–22.00\nCENTRUM SZTUKI MOŚCICE\, ul. Traugutta 1\nPiotr Bożyk Zachwyt II – wystawa \n15.00–22.00\nGEMINI PARK TARNÓW\, ul. Nowodąbrowska 127\, poziom 1\nWystawa wybranych prac dyplomowych Wydziału Sztuki Akademii Tarnowskiej – moda i meble \n15.00–22.00\nGALERIA ARTEKA\, ul. Wałowa 16\nElżbieta Sowa – malarstwo i wystawa zbiorowa Stowarzyszenia Tarnowskich Artystów Plastyków\n15.00 – Elżbieta Sowa oprowadza po wystawie \n15.00–22.00\nBIURO WYSTAW ARTYSTYCZNYCH\nMultimedialne Centrum Artystyczne\, ul. Wałowa 25\nMarta Wojciechowska Hot Green – wystawa szkła\n20.30 – artystka oprowadza po wystawie \n16.00–22.00\nBIURO WYSTAW ARTYSTYCZNYCH\, Pałacyk Strzelecki\, ul. Słowackiego 1\nMartyna Rzepecka Left Hand Exercises 2 – wystawa grafik i obiektów\n16.00 – wernisaż \n17.00–22.00\nGALERIA HORTAR\, ul. Legionów 32\nKrystyna Baniowska–Stąsiek–Majer Fragmenty – wystawa\n17.00 – wernisaż \n17.00–23.00\nART Artur Grodziński – Biuro architektoniczne\, ul. Grottgera 26\nPrezentacja kolekcji malarstwa m.in.: Dorota Bernacka\, Marek Chodkowski\, Janusz Janczy\, Stanisław Kozyra\, Kamil Kukla\, Joanna Niedbałowska–Hynek\, Marek Niedojadło–Cichoński\, Michał Poręba\, Wojciech Ruszel\, Joanna Srebro\, Anna Śliwińska\, Bożena Wojtanowska\, Jacek Wróbel; rzeźby: Bronisław Chromy\, Wincenty Kućma\, Marek Pelczar \n17.00–22.00\nMUZEUM ZIEMI TARNOWSKIEJ\nREGIONALNE CENTRUM EDUKACJI O PAMIĘCI\, ul. Mościckiego 27a\nWystawa stała\n18.00 – zajęcia edukacyjne Polska to my\n20.00 – zabawa edukacyjna V2 u podstaw kosmonautyki \n18.00–23.00\nMUZEUM ZIEMI TARNOWSKIEJ / SIEDZIBA\, Rynek 3\nWystawa czasowa Pokaż znawcy broń jakiego narodu\, a orzeknie Ci o oświacie jego – broń biała i palna oraz uzbrojenie ochronne na ziemiach polskich na przestrzeni wieków \n18.00–23.00\nMUZEUM ZIEMI TARNOWSKIEJ / MUZEUM HISTORII TARNOWA I REGIONU\,\nRynek 20–21\nWystawa stała. Stanowiska konserwatorskie – możliwość ujrzenia pracy konserwatora zabytków w praktyce. Prezentacja materiałów związanych z realizacją badań archeologicznych na terenie ruin zamku Tarnowskich na górze św. Marcina w latach 1963–1969. Prezentacja zabytków rękopiśmiennych. Zagadki i zadania plastyczne dla najmłodszych.\n18.00 – wernisaż wystawy czasowej CONSERVATIO. Konserwacja i restauracja obiektów muzealnych\n20.00 – miniwykład Rola konserwatora w muzeum. Czy ochronie konserwatorskiej podlega materia dzieła czy może coś więcej? – Tomasz Głowacz\, kierownik Działu Konserwacji\n21.00 – miniwykład O zasadach obchodzenia się i przechowywania obiektów zabytkowych – Barbara Bułdys\, kierownik Działu Sztuki \n18.00–23.00\nMUZEUM ZIEMI TARNOWSKIEJ / MUZEUM RATUSZ – GALERIA SZTUKI DAWNEJ\, Rynek 1\nWystawa stała\, zdjęcia w monidłach\, wejście na wieżę (wstęp płatny)\n18.30–22.00 – Kreatywny kram maszkaronów – działania plastyczne dla najmłodszych \n18.00–23.00\nMUZEUM DIECEZJALNE\, pl. Katedralny 6\nM.in. gotycka sztuka sakralna\, malarstwo na szkle z kolekcji Norberta Lippóczego\, kolekcja obrazów i zegarów Olgi Majewskiej\, kolekcja numizmatów Bronisława Usarza oraz wystawa czasowa prac Lucji Radwan \n19.00–22.00\nBEMA20\, ul. Bema 20\nMagia słowiańskich obrzędów – wystawa fotografii Oliwii Kantor Pradawne Ścieżki \n19.00–21.30\nKATEDRA\, pl. Katedralny 5\nSpecjalnie otwarta Krypta Biskupów Tarnowskich \n22.00–24.00\nCMENTARZ ŻYDOWSKI\, ul. Szpitalna\n22.00 – oprowadzanie z przewodnikiem. Zbiórka przy bramie cmentarza (organizator spaceru: Komitet Opieki nad Zabytkami Kultury Żydowskiej) \nWsparcie informacyjne dla zwiedzających\nTarnowskie Centrum Informacji\, Rynek 7\nŚroda-piątek 8.00-18.00\nSobota 9.00-17.00 \nSzczegóły wydarzeń: na stronach internetowych i w social mediach organizatorów\nOprawa graficzna: Natalia Sikorska\n\nTarnowską Noc Muzeów inicjuje i koordynuje Biuro Wystaw Artystycznych w Tarnowie.
URL:https://kultura.tarnow.pl/wydarzenie/noc-muzeow-2025/2025-05-15/
LOCATION:Biuro Wystaw Artystycznych\, ul. Słowackiego 1\, Tarnów\, małopolskie\, 33-100\, Polska
CATEGORIES:wystawy
ATTACH;FMTTYPE=image/jpeg:https://kultura.tarnow.pl/wp-content/uploads/495946377_1248178877315450_6326062851893466933_n.jpg
ORGANIZER;CN="Biuro Wystaw Artystycznych":MAILTO:biuro@bwa.tarnow.pl
GEO:50.0178761;20.9827521
X-APPLE-STRUCTURED-LOCATION;VALUE=URI;X-ADDRESS=Biuro Wystaw Artystycznych ul. Słowackiego 1 Tarnów małopolskie 33-100 Polska;X-APPLE-RADIUS=500;X-TITLE=ul. Słowackiego 1:geo:20.9827521,50.0178761
END:VEVENT
BEGIN:VEVENT
DTSTART;TZID=Europe/Warsaw:20250515T110000
DTEND;TZID=Europe/Warsaw:20250515T170000
DTSTAMP:20260421T213619
CREATED:20250513T063824Z
LAST-MODIFIED:20250513T063824Z
UID:10025877-1747306800-1747328400@kultura.tarnow.pl
SUMMARY:190-lecie powstania Towarzystwa Politechnicznego Polskiego
DESCRIPTION:W 2025 roku obchodzimy 190-lecie Towarzystwa Politechnicznego Polskiego\, protoplasty stowarzyszeń inżynierskich w Polsce. Rada Krajowa FSNT-NOT ogłosiła rok 2025 Rokiem Jubileuszowym Zrzeszania się Polskich Inżynierów i Techników. \nUroczystość 190-lecia powstania Towarzystwa Politechnicznego Polskiego odbędzie się dnia 15 maja 2025 r. w Tarnowie\, mieście urodzin i spoczynku gen. inż. Józefa Bema\, założyciela i pierwszego prezesa TPP.\nW programie m.in. uroczystości jubileuszowe pod Mauzoleum gen. inż. J. Bema w Parku Strzeleckim oraz Sesja Jubileuszowa w Tarnowskim Ratuszu.
URL:https://kultura.tarnow.pl/wydarzenie/190-lecie-powstania-towarzystwa-politechnicznego-polskiego/
LOCATION:Ratusz\, Rynek 1\, Tarnów\, małopolskie\, 33-100\, Polska
CATEGORIES:spotkania
GEO:50.0124854;20.9877181
X-APPLE-STRUCTURED-LOCATION;VALUE=URI;X-ADDRESS=Ratusz Rynek 1 Tarnów małopolskie 33-100 Polska;X-APPLE-RADIUS=500;X-TITLE=Rynek 1:geo:20.9877181,50.0124854
END:VEVENT
BEGIN:VEVENT
DTSTART;TZID=Europe/Warsaw:20250515T170000
DTEND;TZID=Europe/Warsaw:20250515T183000
DTSTAMP:20260421T213619
CREATED:20250513T131556Z
LAST-MODIFIED:20250513T131556Z
UID:10025883-1747328400-1747333800@kultura.tarnow.pl
SUMMARY:Tarnowska Liga Mistrzów – Mateusz Rękas
DESCRIPTION:Tarnowska Liga Mistrzów – Mateusz Rękas \nCzytelnia Czasopism MBP\, ul. Krakowska 4 (parter) \n15 maja (czwartek)\, godz. 17:00 \nProwadzenie: Łukasz Winczura | Transmisja na żywo w sieci kablowej i YouTube na kanale STARnowa.tv \nOrganizator wydarzenia: Centrum Wiedzy o Tarnowie i Regionie MBP w Tarnowie \n \nTo\, że Tarnowska Liga Mistrzów mierzy wysoko – już wiemy. Czas więc wznieść się w niebo. I to w sensie dosłownym. Bowiem najbliższym Gościem TLM będzie jeden z najlepszych baloniarzy świata – Mateusz Rękas\, rzecz jasna tarnowianin\, który na swoim koncie – obok wielu tytułów mistrzowskich – ma najważniejsze trofeum w sporcie\, który uprawia – Puchar Gordona Bennetta\, wywalczony w 2018 roku. \nMATEUSZ RĘKAS\nTarnowianin\, światowej klasy mistrz w niezwykle elitarnym sporcie\, jakim jest baloniarstwo. To mistrz i zdobywca Pucharu Polski. Wielokrotnie reprezentował nasz kraj na światowych zawodach. Największym jego sukcesem jest zdobycie w 2018 roku Pucharu Gordona Bennetta –  najbardziej prestiżowego trofeum w tym sporcie. Na co dzień Mateusz Rękas jest zawodnikiem Mościckiego Klubu Balonowego. \n 
URL:https://kultura.tarnow.pl/wydarzenie/tarnowska-liga-mistrzow-mateusz-rekas/
LOCATION:Dział Centrum Wiedzy o Tarnowie i Regionie Miejskiej Biblioteki Publicznej im. J. Słowackiego\, ul. Krakowska 4\, Tarnów\, małopolskie\, 33-100
CATEGORIES:spotkania
ATTACH;FMTTYPE=image/jpeg:https://kultura.tarnow.pl/wp-content/uploads/Rekas_plakat_A4-2-scaled.jpg
GEO:50.0077615;20.9750222
X-APPLE-STRUCTURED-LOCATION;VALUE=URI;X-ADDRESS=Dział Centrum Wiedzy o Tarnowie i Regionie Miejskiej Biblioteki Publicznej im. J. Słowackiego ul. Krakowska 4 Tarnów małopolskie 33-100;X-APPLE-RADIUS=500;X-TITLE=ul. Krakowska 4:geo:20.9750222,50.0077615
END:VEVENT
BEGIN:VEVENT
DTSTART;TZID=Europe/Warsaw:20250515T170000
DTEND;TZID=Europe/Warsaw:20250515T200000
DTSTAMP:20260421T213619
CREATED:20250428T125743Z
LAST-MODIFIED:20250428T125743Z
UID:10025461-1747328400-1747339200@kultura.tarnow.pl
SUMMARY:Konsultacje Fotograficzne
DESCRIPTION:Zapraszamy serdecznie na Konsultacje Fotograficzne\, organizowane przez Tarnowskie Towarzystwo Fotograficzne oraz Tarnowskie Centrum Kultury w ramach Nocy Muzeów.\nKonsultacje odbędą się 15 maja 2025 roku w godzinach od 17:00 do 20:00 w pracowni fotograficznej TCK\, Rynek 5 w Tarnowie.To wyjątkowa okazja\, by skonsultować swoje zdjęcia z doświadczonymi fotografami.Można uzyskać wskazówki dotyczące techniki\, kompozycji czy postprodukcji.Każdy uczestnik będzie miał 30 minut na rozmowę z wybranym konsultantem podczas której omówi od 5 do 10 fotografii.\nZdjęcia można przynieść w formie wydruków lub w wersji cyfrowej na pendrive.\nZapraszamy wszystkich pasjonatów fotografii\, zarówno początkujących jak i zaawansowanych!Zapisy w Biurze obsługi TCK\, od 5 maja.Liczba miejsc ograniczona. Liczy się kolejność zgłoszeń.\nWybierz z kim chciałbyś/abyś porozmawiać o swoich zdjęciach i zapisz się!\n\nAgnieszka Hołda-MyśliwiecZapraszam osoby\, które zaczynają przygodę z fotografią rodzinną oraz dokumentalną\, a także reportażową.Od kilku lat zajmuję się fotografią rodzinną\, pod nazwą Mamoko Fotografia. Fotografuję w duchu lifestyle.Mam za sobą wiele reportaży z wydarzeń rodzinnych oraz mniejszych uroczystości ślubnych. Fotografowałam dwa porody domowe. Możemy wspólnie omówić zdjęcia\, porozmawiać o tym\, co pozwoli lepiej przygotować Ci się do sesji\, jak rozpoznawać potrzeby klientów\, jak pracować z dziećmi\, jakie obiektywy sprawdzą się najlepiej podczas sesji rodzinnych\, jak w ogóle zacząć fotografować dla innych\, jak działać z radością i empatią.\n\nElżbieta Litwora i Bogdan LitworaJesteśmy zupełnie inni. I to pod każdym względem. Inaczej patrzymy na fotografię i inaczej ją robimy. Jeśli chcesz dwóch spojrzeń i dwóch konsultacji w jednej zapisz się do nas. Będziesz miał/a dobrego i złego fotograficznego policjanta w jednym. Ale nie będzie aresztowania. możesz tylko zyskać. Otwórz się na nowe doświadczenie.\n\nPaulina MichałekZapraszam serdecznie na konsultacje fotograficzne wszystkich\, których pasjonuje fotografia studyjna\, portretowa oraz reportażowa. To trzy dziedziny\, które pozwalają w wyjątkowy sposób opowiadać historie – czy to za pomocą światła w kontrolowanych warunkach studia\, emocji i charakteru uchwyconego w portrecie\, czy chwil z życia zatrzymanych w dynamicznym reportażu. Podczas konsultacji chętnie podzielę się swoim doświadczeniem\, omówię zarówno aspekty techniczne\, jak i artystyczne zdjęć\, oraz pomogę znaleźć kierunek rozwoju lub dopracować własny styl. Jeśli chcesz rozwijać się w tych obszarach\, będzie to dobra okazja do rozmowy i inspiracji.\n\nTomasz SobczakJeśli chcesz porozmawiać o tym co możesz więcej „wycisnąć” ze swoich zdjęć\, jak przygotować je na konkurs lub wystawę. Gdzie szukać miejsc wystawienniczych to serdecznie zapraszam. Mogę też sporo podpowiedzieć w kwestii sprzedaży zdjęć i tego jak funkcjonuje rynek sztuki. W kręgu moich zainteresowań jest abstrakcja fotograficzna\, ale także akt\, portret czy architektura. Podpowiem\, jak budować złożone formy fotograficznej narracji.\n\nMarta Miś-SysłoZajmuję się fotografią portretową – w świetle naturalnym\, fotografią makro oraz zbliżeniową i w tym zakresie służę radą\, uwzględniając wszelkie techniczne aspekty. Często wykorzystuję obiektywy z mocowaniem M42\, Lensbaby oraz filtry fraktalne w celu osiągnięcia kreatywnych efektów\, toteż podpowiem co zrobić by fotografie nabrały artystycznego wyrazu. Chętnie podzielę się również posiadaną wiedzą w zakresie cyfrowej obróbki zdjęć\, służę pomocą zarówno mniej jak i bardziej zaawansowanym\, zapraszam!
URL:https://kultura.tarnow.pl/wydarzenie/konsultacje-fotograficzne/
LOCATION:Tarnowskie Centrum Kultury\, Rynek 5\, Tarnów\, małopolskie\, 33-100\, Polska
CATEGORIES:warsztaty
GEO:50.012155;20.9878542
X-APPLE-STRUCTURED-LOCATION;VALUE=URI;X-ADDRESS=Tarnowskie Centrum Kultury Rynek 5 Tarnów małopolskie 33-100 Polska;X-APPLE-RADIUS=500;X-TITLE=Rynek 5:geo:20.9878542,50.012155
END:VEVENT
END:VCALENDAR