BEGIN:VCALENDAR
VERSION:2.0
PRODID:-//kultura.tarnów - ECPv6.4.0.1//NONSGML v1.0//EN
CALSCALE:GREGORIAN
METHOD:PUBLISH
X-WR-CALNAME:kultura.tarnów
X-ORIGINAL-URL:https://kultura.tarnow.pl
X-WR-CALDESC:Wydarzenia dla
REFRESH-INTERVAL;VALUE=DURATION:PT1H
X-Robots-Tag:noindex
X-PUBLISHED-TTL:PT1H
BEGIN:VTIMEZONE
TZID:Europe/Warsaw
BEGIN:DAYLIGHT
TZOFFSETFROM:+0100
TZOFFSETTO:+0200
TZNAME:CEST
DTSTART:20250330T010000
END:DAYLIGHT
BEGIN:STANDARD
TZOFFSETFROM:+0200
TZOFFSETTO:+0100
TZNAME:CET
DTSTART:20251026T010000
END:STANDARD
END:VTIMEZONE
BEGIN:VEVENT
DTSTART;TZID=Europe/Warsaw:20250514T083000
DTEND;TZID=Europe/Warsaw:20250514T170000
DTSTAMP:20260423T045104
CREATED:20250508T065641Z
LAST-MODIFIED:20250508T065641Z
UID:10025861-1747211400-1747242000@kultura.tarnow.pl
SUMMARY:„Popatrz uważnie – co widzisz?”
DESCRIPTION:„Popatrz uważnie – co widzisz?” – warsztaty plastyczne dla klas I–IV\nPodczas warsztatów dzieci poznają świat sąsiedzkiej twórczości i stworzą własne niezwykłe istoty inspirowane wystawą. Rozbudzimy wyobraźnię i porozmawiamy o sile wspólnoty. Na warsztaty obowiązuje wcześniejsza  rezerwacja: d.cholewiak@tck.pl\, zajęcia prowadzimy od poniedziałku do piątki od 8:30-17:00\, cena dla grupy do 30 osób to 100 zł.
URL:https://kultura.tarnow.pl/wydarzenie/popatrz-uwaznie-co-widzisz/2025-05-14/
LOCATION:Dom Kultury Westerplatte 8a\, Westerplatte 8a\, Tarnów\, Polska - małopolskie\, 33-100\, Polska
CATEGORIES:warsztaty
ATTACH;FMTTYPE=image/jpeg:https://kultura.tarnow.pl/wp-content/uploads/dkwesterplatte_rozycka_Katarzyna_cowidzisz_1-scaled.jpg
ORGANIZER;CN="Dom Kultury Westerplatte 8a":MAILTO:westerplatte@tck.pl
GEO:50.0273033;21.0087361
X-APPLE-STRUCTURED-LOCATION;VALUE=URI;X-ADDRESS=Dom Kultury Westerplatte 8a Westerplatte 8a Tarnów Polska - małopolskie 33-100 Polska;X-APPLE-RADIUS=500;X-TITLE=Westerplatte 8a:geo:21.0087361,50.0273033
END:VEVENT
BEGIN:VEVENT
DTSTART;TZID=Europe/Warsaw:20250514T090000
DTEND;TZID=Europe/Warsaw:20250514T120000
DTSTAMP:20260423T045104
CREATED:20241212T101614Z
LAST-MODIFIED:20250403T095700Z
UID:10024680-1747213200-1747224000@kultura.tarnow.pl
SUMMARY:Jan Brzechwa "Pan Doremi" reż E. Depta
DESCRIPTION:9.05 piątek godz. 9.00 i 11.00\n10.05 sobota godz. 15.00\n11.05 niedziela godz. 15.00\n13.05 wtorek godz. 9.00 i 11.00\n14.05 środa godz. 9.00 i 11.00 Mała Scena\n \n„Pan Doremi” na podstawie tekstu Jana Brzechwy to interaktywny spektakl muzyczny nie tylko dla widzów w wieku przedszkolnym ale tak na prawdę dla każdego. \nBajka polskiego mistrza słowa stała się punktem wyjścia do aktorskiej improwizacji muzycznej. Do teatru przylatuje fonolot – magiczny statek Pana Doremiego\, który nie tylko lata\, ale sam gra i jest pełen instrumentów muzycznych. Bohaterowie bajki zachęcają widzów do wzięcia udziału w nietypowej lekcji muzyki gdzie uczą widzów gamy\, gatunków muzycznych\, nazw instrumentów a przede wszystkim zapraszają do wspólnego muzykowania. Wszystko okraszone jest humorem i poszukiwaniami formy teatralnej\, w której granice między widownią a aktorami zacierają się. \nPodczas spektaklu jest używany dym sceniczny. \nhttps://teatr.tarnow.pl/spektakle/pan-doremi/\nBilet 25-60 zł\nCzas trwania 50 min.
URL:https://kultura.tarnow.pl/wydarzenie/jan-brzechwa-pan-doremi-rez-e-depta/2025-05-14/
LOCATION:Teatr im. L.Solskiego\, Mickiewicza 4\, Tarnów\, małopolskie\, 33-100\, Polska
CATEGORIES:spektakle
GEO:50.0159214;20.987504
X-APPLE-STRUCTURED-LOCATION;VALUE=URI;X-ADDRESS=Teatr im. L.Solskiego Mickiewicza 4 Tarnów małopolskie 33-100 Polska;X-APPLE-RADIUS=500;X-TITLE=Mickiewicza 4:geo:20.987504,50.0159214
END:VEVENT
BEGIN:VEVENT
DTSTART;TZID=Europe/Warsaw:20250514T090000
DTEND;TZID=Europe/Warsaw:20250514T233000
DTSTAMP:20260423T045104
CREATED:20250507T114413Z
LAST-MODIFIED:20250507T114950Z
UID:10025847-1747213200-1747265400@kultura.tarnow.pl
SUMMARY:Noc Muzeów 2025
DESCRIPTION:Biuro Wystaw Artystycznych w Tarnowie\, Muzeum Ziemi Tarnowskiej\, Muzeum Diecezjalne w Tarnowie\, Parafia Katedralna w Tarnowie\, Komitet Opieki nad Zabytkami Kultury Żydowskiej w Tarnowie\, Tarnowskie Centrum Kultury\, Tarnowskie Towarzystwo Fotograficzne\, Centrum Sztuki Mościce\, Galeria Bema20\, Galeria Hortar\, Galeria ARTEKA\, Gemini Park Tarnów\, Wydział Sztuki Akademii Tarnowskiej\, Liceum Sztuk Plastycznych w Tarnowie\, Grupa Azoty S.A.\, Tarnowskie Centrum Informacji\, Porta Sei\, ART Artur Grodziński zapraszają na \nMIĘDZYNARODOWĄ NOC MUZEÓW 2025 \nTarnów i oddział Muzeum Ziemi Tarnowskiej – Muzeum Zamek w Dębnie / 14-17 maja 2025 \nKtóre miejsce odwiedziliście w czasie Nocy Muzeów w Tarnowie? Pokażcie i oznaczcie hasztagiem: #nocmuzeówtarnów \n4 dni\n21 miejsc\n26 wystaw\n37 wydarzeń \nKLIKNIJ ABY POBRAĆ PROGRAM  \nWystawy\, wernisaże\, spotkania z artystami\, konsultacje fotograficzne\, warsztaty\, kino plenerowe\, opowieści o duchach i dybukach oraz niespodzianki. \nProgram:  \nŚRODA 14 maja \n19.00\nPORTA SEI\, Sowińskiego 13\nWernisaż wystawy zbiorowej Tarnowskiego Towarzystwa Fotograficznego Kontrast w czasie \nCZWARTEK 15 maja \n17.00\nBIURO WYSTAW ARTYSTYCZNYCH\, Dworzec PKP\, Pl. Dworcowy 4\nDyplomy Liceum Sztuk Plastycznych w Tarnowie\nwernisaż wystawy \n17.00–20.00\nTARNOWSKIE CENTRUM KULTURY\, Rynek 5\nKonsultacje fotograficzne – zaprasza Tarnowskie Towarzystwo Fotograficzne – wskazówki dotyczące techniki\, kompozycji\, postprodukcji / obowiązują zapisy – w TCK \nPIĄTEK 16 maja \n9.00–17.00\nBIURO WYSTAW ARTYSTYCZNYCH\, Dworzec PKP\, Pl. Dworcowy 4\nDyplomy Liceum Sztuk Plastycznych w Tarnowie – wystawa\n15.00–17.00 – autorzy oprowadzają po wystawie \n17.00–22.00\nLICEUM SZTUK PLASTYCZNYCH\, ul. Westwalewicza 6\nNOC W PLASTYKU:\n17.00–21.30 – kiermasz\n17.00–18.30 – warsztaty dla dzieci: (S)pokój marzeń / prowadzą: Martyna Batko i Zuzanna Zbiegieł\, Stworki / prowadzą: Weronika Bełzowska i Magdalena Kawik\n17.00–19.30 – Setlik Custom – warsztaty dla młodzieży /prowadzi: Daniel Setlik\n17.00–18.00 – akcja artystyczna Światełka\n18.00 i 19.00 – oprowadzanie po szkole (wystawy\, pracownie)\n19.30 – wernisaż wystawy prac Wiktorii Woziwody\n20.00 – wernisaż wystawy prac Szymona Wojtanowskiego\n20.30 – wernisaż wystawy prac Mieczysława Górowskiego\n21.00–22.00 – kino plenerowe: animacje z pracowni projektowania multimedialnego / powstałych na warsztatach z dr. hab. Robertem Sową\, prof. ASP w Krakowie \n18.00\nCENTRUM SZTUKI MOŚCICE\, ul. Traugutta 1\nPiotr Bożyk Zachwyt II – wernisaż wystawy\n18.30 – wykład Piotra Bożyka Czas ludzi / czas przedmiotów \nSOBOTA 17 maja \n9.00–22.00\nMUZEUM ZIEMI TARNOWSKIEJ\,\nMUZEUM ETNOGRAFICZNE\, ul. Krakowska 10\n9.00–18.00 – VII Dzień Hetmański w Tarnowie (w programie m.in. turniej łuczniczy o Buławę Hetmańską\, korowód hetmański\, obozowisko średniowieczne\, udział grup rekonstrukcji historycznej\, pokazy i warsztaty rzemiosł dawnych\, spektakl dla dzieci i dorosłych)\n17.00–22.00 – wystawa stała\, wystawa czasowa W babcinej izbie \n10.00–21.00\nTARNOWSKIE CENTRUM KULTURY\, Rynek 5\n39. TNF: Plakiat. Wystawa wybranych plakatów artystycznych vol. 3  \n12.00–22.00\nPORTA SEI\, Sowińskiego 13\nKontrast w czasie – wystawa zbiorowa Tarnowskiego Towarzystwa Fotograficznego \n13.00–18.00\nMUZEUM ZIEMI TARNOWSKIEJ\nMUZEUM ZAMEK W DĘBNIE\, Dębno 189\nWystawa stała\, wystawa czasowa Droga do domu oraz spotkanie z autorką G. Grobelną–Przybyło\, niespodzianki muzyczne\n16.00\, 17.00 – przedstawienie – sceny z Nocy Listopadowej w wykonaniu uczniów I LO w Tarnowie \n15.00–22.00\nWILLA KWIATKOWSKIEGO\, Grupa Azoty S.A.\, ul. Jarzębinowa 9\nOtwarcie Willi i ogrodu Eugeniusza Kwiatkowskiego – wnętrza stylizowane na lata 30. XX w.\, zdjęcia historyczne Zakładów i film\, spacer po ogrodzie wśród starych drzew \n15.00–22.00\nCENTRUM SZTUKI MOŚCICE\, ul. Traugutta 1\nPiotr Bożyk Zachwyt II – wystawa \n15.00–22.00\nGEMINI PARK TARNÓW\, ul. Nowodąbrowska 127\, poziom 1\nWystawa wybranych prac dyplomowych Wydziału Sztuki Akademii Tarnowskiej – moda i meble \n15.00–22.00\nGALERIA ARTEKA\, ul. Wałowa 16\nElżbieta Sowa – malarstwo i wystawa zbiorowa Stowarzyszenia Tarnowskich Artystów Plastyków\n15.00 – Elżbieta Sowa oprowadza po wystawie \n15.00–22.00\nBIURO WYSTAW ARTYSTYCZNYCH\nMultimedialne Centrum Artystyczne\, ul. Wałowa 25\nMarta Wojciechowska Hot Green – wystawa szkła\n20.30 – artystka oprowadza po wystawie \n16.00–22.00\nBIURO WYSTAW ARTYSTYCZNYCH\, Pałacyk Strzelecki\, ul. Słowackiego 1\nMartyna Rzepecka Left Hand Exercises 2 – wystawa grafik i obiektów\n16.00 – wernisaż \n17.00–22.00\nGALERIA HORTAR\, ul. Legionów 32\nKrystyna Baniowska–Stąsiek–Majer Fragmenty – wystawa\n17.00 – wernisaż \n17.00–23.00\nART Artur Grodziński – Biuro architektoniczne\, ul. Grottgera 26\nPrezentacja kolekcji malarstwa m.in.: Dorota Bernacka\, Marek Chodkowski\, Janusz Janczy\, Stanisław Kozyra\, Kamil Kukla\, Joanna Niedbałowska–Hynek\, Marek Niedojadło–Cichoński\, Michał Poręba\, Wojciech Ruszel\, Joanna Srebro\, Anna Śliwińska\, Bożena Wojtanowska\, Jacek Wróbel; rzeźby: Bronisław Chromy\, Wincenty Kućma\, Marek Pelczar \n17.00–22.00\nMUZEUM ZIEMI TARNOWSKIEJ\nREGIONALNE CENTRUM EDUKACJI O PAMIĘCI\, ul. Mościckiego 27a\nWystawa stała\n18.00 – zajęcia edukacyjne Polska to my\n20.00 – zabawa edukacyjna V2 u podstaw kosmonautyki \n18.00–23.00\nMUZEUM ZIEMI TARNOWSKIEJ / SIEDZIBA\, Rynek 3\nWystawa czasowa Pokaż znawcy broń jakiego narodu\, a orzeknie Ci o oświacie jego – broń biała i palna oraz uzbrojenie ochronne na ziemiach polskich na przestrzeni wieków \n18.00–23.00\nMUZEUM ZIEMI TARNOWSKIEJ / MUZEUM HISTORII TARNOWA I REGIONU\,\nRynek 20–21\nWystawa stała. Stanowiska konserwatorskie – możliwość ujrzenia pracy konserwatora zabytków w praktyce. Prezentacja materiałów związanych z realizacją badań archeologicznych na terenie ruin zamku Tarnowskich na górze św. Marcina w latach 1963–1969. Prezentacja zabytków rękopiśmiennych. Zagadki i zadania plastyczne dla najmłodszych.\n18.00 – wernisaż wystawy czasowej CONSERVATIO. Konserwacja i restauracja obiektów muzealnych\n20.00 – miniwykład Rola konserwatora w muzeum. Czy ochronie konserwatorskiej podlega materia dzieła czy może coś więcej? – Tomasz Głowacz\, kierownik Działu Konserwacji\n21.00 – miniwykład O zasadach obchodzenia się i przechowywania obiektów zabytkowych – Barbara Bułdys\, kierownik Działu Sztuki \n18.00–23.00\nMUZEUM ZIEMI TARNOWSKIEJ / MUZEUM RATUSZ – GALERIA SZTUKI DAWNEJ\, Rynek 1\nWystawa stała\, zdjęcia w monidłach\, wejście na wieżę (wstęp płatny)\n18.30–22.00 – Kreatywny kram maszkaronów – działania plastyczne dla najmłodszych \n18.00–23.00\nMUZEUM DIECEZJALNE\, pl. Katedralny 6\nM.in. gotycka sztuka sakralna\, malarstwo na szkle z kolekcji Norberta Lippóczego\, kolekcja obrazów i zegarów Olgi Majewskiej\, kolekcja numizmatów Bronisława Usarza oraz wystawa czasowa prac Lucji Radwan \n19.00–22.00\nBEMA20\, ul. Bema 20\nMagia słowiańskich obrzędów – wystawa fotografii Oliwii Kantor Pradawne Ścieżki \n19.00–21.30\nKATEDRA\, pl. Katedralny 5\nSpecjalnie otwarta Krypta Biskupów Tarnowskich \n22.00–24.00\nCMENTARZ ŻYDOWSKI\, ul. Szpitalna\n22.00 – oprowadzanie z przewodnikiem. Zbiórka przy bramie cmentarza (organizator spaceru: Komitet Opieki nad Zabytkami Kultury Żydowskiej) \nWsparcie informacyjne dla zwiedzających\nTarnowskie Centrum Informacji\, Rynek 7\nŚroda-piątek 8.00-18.00\nSobota 9.00-17.00 \nSzczegóły wydarzeń: na stronach internetowych i w social mediach organizatorów\nOprawa graficzna: Natalia Sikorska\n\nTarnowską Noc Muzeów inicjuje i koordynuje Biuro Wystaw Artystycznych w Tarnowie.
URL:https://kultura.tarnow.pl/wydarzenie/noc-muzeow-2025/2025-05-14/
LOCATION:Biuro Wystaw Artystycznych\, ul. Słowackiego 1\, Tarnów\, małopolskie\, 33-100\, Polska
CATEGORIES:wystawy
ATTACH;FMTTYPE=image/jpeg:https://kultura.tarnow.pl/wp-content/uploads/495946377_1248178877315450_6326062851893466933_n.jpg
ORGANIZER;CN="Biuro Wystaw Artystycznych":MAILTO:biuro@bwa.tarnow.pl
GEO:50.0178761;20.9827521
X-APPLE-STRUCTURED-LOCATION;VALUE=URI;X-ADDRESS=Biuro Wystaw Artystycznych ul. Słowackiego 1 Tarnów małopolskie 33-100 Polska;X-APPLE-RADIUS=500;X-TITLE=ul. Słowackiego 1:geo:20.9827521,50.0178761
END:VEVENT
END:VCALENDAR