BEGIN:VCALENDAR
VERSION:2.0
PRODID:-//kultura.tarnów - ECPv6.4.0.1//NONSGML v1.0//EN
CALSCALE:GREGORIAN
METHOD:PUBLISH
X-WR-CALNAME:kultura.tarnów
X-ORIGINAL-URL:https://kultura.tarnow.pl
X-WR-CALDESC:Wydarzenia dla
REFRESH-INTERVAL;VALUE=DURATION:PT1H
X-Robots-Tag:noindex
X-PUBLISHED-TTL:PT1H
BEGIN:VTIMEZONE
TZID:Europe/Warsaw
BEGIN:DAYLIGHT
TZOFFSETFROM:+0100
TZOFFSETTO:+0200
TZNAME:CEST
DTSTART:20250330T010000
END:DAYLIGHT
BEGIN:STANDARD
TZOFFSETFROM:+0200
TZOFFSETTO:+0100
TZNAME:CET
DTSTART:20251026T010000
END:STANDARD
END:VTIMEZONE
BEGIN:VEVENT
DTSTART;TZID=Europe/Warsaw:20250513T083000
DTEND;TZID=Europe/Warsaw:20250513T170000
DTSTAMP:20260422T004443
CREATED:20250508T065641Z
LAST-MODIFIED:20250508T065641Z
UID:10025860-1747125000-1747155600@kultura.tarnow.pl
SUMMARY:„Popatrz uważnie – co widzisz?”
DESCRIPTION:„Popatrz uważnie – co widzisz?” – warsztaty plastyczne dla klas I–IV\nPodczas warsztatów dzieci poznają świat sąsiedzkiej twórczości i stworzą własne niezwykłe istoty inspirowane wystawą. Rozbudzimy wyobraźnię i porozmawiamy o sile wspólnoty. Na warsztaty obowiązuje wcześniejsza  rezerwacja: d.cholewiak@tck.pl\, zajęcia prowadzimy od poniedziałku do piątki od 8:30-17:00\, cena dla grupy do 30 osób to 100 zł.
URL:https://kultura.tarnow.pl/wydarzenie/popatrz-uwaznie-co-widzisz/2025-05-13/
LOCATION:Dom Kultury Westerplatte 8a\, Westerplatte 8a\, Tarnów\, Polska - małopolskie\, 33-100\, Polska
CATEGORIES:warsztaty
ATTACH;FMTTYPE=image/jpeg:https://kultura.tarnow.pl/wp-content/uploads/dkwesterplatte_rozycka_Katarzyna_cowidzisz_1-scaled.jpg
ORGANIZER;CN="Dom Kultury Westerplatte 8a":MAILTO:westerplatte@tck.pl
GEO:50.0273033;21.0087361
X-APPLE-STRUCTURED-LOCATION;VALUE=URI;X-ADDRESS=Dom Kultury Westerplatte 8a Westerplatte 8a Tarnów Polska - małopolskie 33-100 Polska;X-APPLE-RADIUS=500;X-TITLE=Westerplatte 8a:geo:21.0087361,50.0273033
END:VEVENT
BEGIN:VEVENT
DTSTART;TZID=Europe/Warsaw:20250513T090000
DTEND;TZID=Europe/Warsaw:20250513T120000
DTSTAMP:20260422T004443
CREATED:20241212T101614Z
LAST-MODIFIED:20250403T095700Z
UID:10024679-1747126800-1747137600@kultura.tarnow.pl
SUMMARY:Jan Brzechwa "Pan Doremi" reż E. Depta
DESCRIPTION:9.05 piątek godz. 9.00 i 11.00\n10.05 sobota godz. 15.00\n11.05 niedziela godz. 15.00\n13.05 wtorek godz. 9.00 i 11.00\n14.05 środa godz. 9.00 i 11.00 Mała Scena\n \n„Pan Doremi” na podstawie tekstu Jana Brzechwy to interaktywny spektakl muzyczny nie tylko dla widzów w wieku przedszkolnym ale tak na prawdę dla każdego. \nBajka polskiego mistrza słowa stała się punktem wyjścia do aktorskiej improwizacji muzycznej. Do teatru przylatuje fonolot – magiczny statek Pana Doremiego\, który nie tylko lata\, ale sam gra i jest pełen instrumentów muzycznych. Bohaterowie bajki zachęcają widzów do wzięcia udziału w nietypowej lekcji muzyki gdzie uczą widzów gamy\, gatunków muzycznych\, nazw instrumentów a przede wszystkim zapraszają do wspólnego muzykowania. Wszystko okraszone jest humorem i poszukiwaniami formy teatralnej\, w której granice między widownią a aktorami zacierają się. \nPodczas spektaklu jest używany dym sceniczny. \nhttps://teatr.tarnow.pl/spektakle/pan-doremi/\nBilet 25-60 zł\nCzas trwania 50 min.
URL:https://kultura.tarnow.pl/wydarzenie/jan-brzechwa-pan-doremi-rez-e-depta/2025-05-13/
LOCATION:Teatr im. L.Solskiego\, Mickiewicza 4\, Tarnów\, małopolskie\, 33-100\, Polska
CATEGORIES:spektakle
GEO:50.0159214;20.987504
X-APPLE-STRUCTURED-LOCATION;VALUE=URI;X-ADDRESS=Teatr im. L.Solskiego Mickiewicza 4 Tarnów małopolskie 33-100 Polska;X-APPLE-RADIUS=500;X-TITLE=Mickiewicza 4:geo:20.987504,50.0159214
END:VEVENT
END:VCALENDAR