BEGIN:VCALENDAR
VERSION:2.0
PRODID:-//kultura.tarnów - ECPv6.4.0.1//NONSGML v1.0//EN
CALSCALE:GREGORIAN
METHOD:PUBLISH
X-WR-CALNAME:kultura.tarnów
X-ORIGINAL-URL:https://kultura.tarnow.pl
X-WR-CALDESC:Wydarzenia dla
REFRESH-INTERVAL;VALUE=DURATION:PT1H
X-Robots-Tag:noindex
X-PUBLISHED-TTL:PT1H
BEGIN:VTIMEZONE
TZID:Europe/Warsaw
BEGIN:DAYLIGHT
TZOFFSETFROM:+0100
TZOFFSETTO:+0200
TZNAME:CEST
DTSTART:20250330T010000
END:DAYLIGHT
BEGIN:STANDARD
TZOFFSETFROM:+0200
TZOFFSETTO:+0100
TZNAME:CET
DTSTART:20251026T010000
END:STANDARD
END:VTIMEZONE
BEGIN:VEVENT
DTSTART;TZID=Europe/Warsaw:20250511T150000
DTEND;TZID=Europe/Warsaw:20250511T160000
DTSTAMP:20260421T210932
CREATED:20241212T101614Z
LAST-MODIFIED:20250403T095700Z
UID:10024678-1746975600-1746979200@kultura.tarnow.pl
SUMMARY:Jan Brzechwa "Pan Doremi" reż E. Depta
DESCRIPTION:9.05 piątek godz. 9.00 i 11.00\n10.05 sobota godz. 15.00\n11.05 niedziela godz. 15.00\n13.05 wtorek godz. 9.00 i 11.00\n14.05 środa godz. 9.00 i 11.00 Mała Scena\n \n„Pan Doremi” na podstawie tekstu Jana Brzechwy to interaktywny spektakl muzyczny nie tylko dla widzów w wieku przedszkolnym ale tak na prawdę dla każdego. \nBajka polskiego mistrza słowa stała się punktem wyjścia do aktorskiej improwizacji muzycznej. Do teatru przylatuje fonolot – magiczny statek Pana Doremiego\, który nie tylko lata\, ale sam gra i jest pełen instrumentów muzycznych. Bohaterowie bajki zachęcają widzów do wzięcia udziału w nietypowej lekcji muzyki gdzie uczą widzów gamy\, gatunków muzycznych\, nazw instrumentów a przede wszystkim zapraszają do wspólnego muzykowania. Wszystko okraszone jest humorem i poszukiwaniami formy teatralnej\, w której granice między widownią a aktorami zacierają się. \nPodczas spektaklu jest używany dym sceniczny. \nhttps://teatr.tarnow.pl/spektakle/pan-doremi/\nBilet 25-60 zł\nCzas trwania 50 min.
URL:https://kultura.tarnow.pl/wydarzenie/jan-brzechwa-pan-doremi-rez-e-depta/2025-05-11/
LOCATION:Teatr im. L.Solskiego\, Mickiewicza 4\, Tarnów\, małopolskie\, 33-100\, Polska
CATEGORIES:spektakle
GEO:50.0159214;20.987504
X-APPLE-STRUCTURED-LOCATION;VALUE=URI;X-ADDRESS=Teatr im. L.Solskiego Mickiewicza 4 Tarnów małopolskie 33-100 Polska;X-APPLE-RADIUS=500;X-TITLE=Mickiewicza 4:geo:20.987504,50.0159214
END:VEVENT
BEGIN:VEVENT
DTSTART;TZID=Europe/Warsaw:20250511T153000
DTEND;TZID=Europe/Warsaw:20250511T220000
DTSTAMP:20260421T210932
CREATED:20250425T062301Z
LAST-MODIFIED:20250425T062301Z
UID:10025080-1746977400-1747000800@kultura.tarnow.pl
SUMMARY:Święto Grabówki - piknik rodzinny
DESCRIPTION:Tarnowskie Centrum Kultury i Rada Osiedla 4 Grabówka 11 maja 2025 r. zapraszają na Święto Grabówki – Piknik mieszkańców Grabówki\, dzielnicy Tarnowa\, która w 1846 r. przekształciła się z XIII wiecznej\, podmiejskiej wsi Grabówka w dzielnicę miasta Tarnowa. \nImpreza odbędzie się na parkingu Centrum Handlowego Zenit\, wejście od ul. Garbarskiej. \nW programie: \n15:30 – 16:30 – Blok zabaw dla dzieci z Agencją Artystyczną E-Muz Ewa Judasz-Jakubiak i event edukacyjny „Bezpieczni na drodze” \n16:30 – 17:30 – Magic Shows Marek Polak \n17:00 – 17:45 – Uroczyste otwarcie Święta Grabówki \n17:45 – 18:45 – Koncert: Mili Morena i Dorota Olech/Teatr Scena Obok \n18:45 – 19:45 – Koncert: Zespół na telefon \n19:45 – 22:00 – Majowa potańcówka z DJ Sound Protectors \nOd 17:30 degustacja smakołyków regionalnych przygotowanych i serwowanych przez członkinie KGW „Cuda&wianki Pawęzowianki” \nO wykonawcach: \nMili Morena – kubańska piosenkarka i tancerka mieszkająca od kilkunastu lat w Polsce. Współpracowała m.in. z Omarą Portuondo (Buena Vista Social Club) i znanymi z tuzami kubańskiej muzyki\, m.in. Los Van Van\, Grupo Moncada\, Paulo FG\, Dan Den\, Pachito Alonzo\, NG La Banda\, czy nominowaną do nagrody Grammy Septeto Nacional de Ignacio Pińeiro\, a także Basią Trzetrzelewską\, Marylą Rodowicz\, Michałem Milowiczem\, Rudi Shubertem\, Ewą Bem i Korą. Koncertowała na trasach w Niemczech\, Jamajce\, Meksyku\, Kanadzie\, Francji\, Hiszpanii i na Ukrainie. \nDorota Olech – saksofonistka\, producent muzyczny oraz pedagog. Ma na swoim koncie występy na znaczących festiwalach w Polsce i za granią m.in. Ladies Jazz Festival\, Leipzeing Music Festival\, Hot Jazz Spring Festival\, Festiwal Jazzu Tradycyjnego „ Złota Tarka”\, Baszta Jazz Festiwal\, Festiwal „Muzyka źródeł”\, Festiwal „Noc Jazzu”\, Zakopiańska Wiosna Jazzowa\, Lockdown Jazz Festival\, Summer Jazz Festival\, Krakowskie Zaduszki Jazzowe. Występowała na głównych scenach koncertowych w Polsce: NOSPR w Katowicach\, Filharmonia im. K. Szymanowskiego w Krakowie\, Filharmonia im. B. Hubermana w Częstochowie\, Studio Koncertowe Radia Kraków. Współpracuje z projektami muzycznymi: MODSS Orchester i ArteSimfoniko\, z którym realizowała koncerty telewizyjne. Jest pomysłodawczynią i twórczynią projektów muzycznych: Fuzzy Birds\, LatinSoul\, Saksofonika\, SAFAduo oraz Saksofonarium. \nZespół na telefon – tarnowskie trio\, które tworzą znani i lubiani tarnowscy muzycy: Jarek Tucki – gitara\, śpiew\, Jerzy Drobot – gitara basowa\, Bartek Rojek – perkusja\, którzy na tę okazję przygotowują i wykonają set w większości złożonych z polskich znanych i lubianych przebojów muzyki rozrywkowej. \nWstęp wolny. \nProjekt finansowany z budżetu miasta Tarnowa. \nOrganizatorzy: Tarnowskie Centrum Kultury\, Rada Osiedla nr 4 Grabówka \nPartner: C.H. Zenit
URL:https://kultura.tarnow.pl/wydarzenie/swieto-grabowki-piknik-rodzinny/
LOCATION:Parking przy D.H. Zenit\, Słoneczna 29\, 33-100 Tarnów
CATEGORIES:koncerty
ATTACH;FMTTYPE=image/jpeg:https://kultura.tarnow.pl/wp-content/uploads/TCK_Swieto_Grabowki_.jpg
END:VEVENT
BEGIN:VEVENT
DTSTART;TZID=Europe/Warsaw:20250511T180000
DTEND;TZID=Europe/Warsaw:20250511T193000
DTSTAMP:20260421T210933
CREATED:20240806T115055Z
LAST-MODIFIED:20250403T100112Z
UID:10024682-1746986400-1746991800@kultura.tarnow.pl
SUMMARY:"Śluby panieńskie"
DESCRIPTION:10.05 sobota godz. 18.00\n11.05 niedziela godz. 18.00 Duża scena\n \nJedna z najbardziej znanych komedii Aleksandra Fredry w reżyserii Wojciecha Malajkata. „Śluby panieńskie” to zabawna\, lekka i wciąż aktualna opowieść o odwiecznej wojnie płci\, w której wszystkie chwyty są dozwolone. Nieśmiertelna tematyka bawi do łez i obnaża niezmienność ludzkich postaw w obliczu porywów serca. \nW spektaklu wykorzystano fragmenty utworów:\nChuck Mangione Consuelo’s Love Theme\, Children of Sanchez\,\nRonald Binge Elizabethan Serenade\, muzykę autorstwa Aleksandra Fiałka oraz materiały filmowe autorstwa Macieja Rybskiego\, w których wystąpił zespół aktorski przedstawienia oraz Wojciech Malajkat i Jakub Hycnar. \n\nhttps://teatr.tarnow.pl/spektakle/spektakle-spektakle/sluby-panienskie/\nCzas trwania 70 min.\nBilet 25-60 zł
URL:https://kultura.tarnow.pl/wydarzenie/sluby-panienskie/2025-05-11/
LOCATION:Teatr im. L.Solskiego\, Mickiewicza 4\, Tarnów\, małopolskie\, 33-100\, Polska
CATEGORIES:spektakle
ATTACH;FMTTYPE=image/jpeg:https://kultura.tarnow.pl/wp-content/uploads/sluby-www.jpg
GEO:50.0159214;20.987504
X-APPLE-STRUCTURED-LOCATION;VALUE=URI;X-ADDRESS=Teatr im. L.Solskiego Mickiewicza 4 Tarnów małopolskie 33-100 Polska;X-APPLE-RADIUS=500;X-TITLE=Mickiewicza 4:geo:20.987504,50.0159214
END:VEVENT
END:VCALENDAR