BEGIN:VCALENDAR
VERSION:2.0
PRODID:-//kultura.tarnów - ECPv6.4.0.1//NONSGML v1.0//EN
CALSCALE:GREGORIAN
METHOD:PUBLISH
X-ORIGINAL-URL:https://kultura.tarnow.pl
X-WR-CALDESC:Wydarzenia dla
REFRESH-INTERVAL;VALUE=DURATION:PT1H
X-Robots-Tag:noindex
X-PUBLISHED-TTL:PT1H
BEGIN:VTIMEZONE
TZID:Europe/Warsaw
BEGIN:DAYLIGHT
TZOFFSETFROM:+0100
TZOFFSETTO:+0200
TZNAME:CEST
DTSTART:20250330T010000
END:DAYLIGHT
BEGIN:STANDARD
TZOFFSETFROM:+0200
TZOFFSETTO:+0100
TZNAME:CET
DTSTART:20251026T010000
END:STANDARD
END:VTIMEZONE
BEGIN:VEVENT
DTSTART;TZID=Europe/Warsaw:20250501T120000
DTEND;TZID=Europe/Warsaw:20250501T130000
DTSTAMP:20260423T012228
CREATED:20250424T094248Z
LAST-MODIFIED:20250424T094248Z
UID:10025077-1746100800-1746104400@kultura.tarnow.pl
SUMMARY:Święto Pracy
DESCRIPTION:
URL:https://kultura.tarnow.pl/wydarzenie/swieto-pracy/
LOCATION:małopolskie
CATEGORIES:uroczystości patriotyczne
END:VEVENT
BEGIN:VEVENT
DTSTART;TZID=Europe/Warsaw:20250501T200000
DTEND;TZID=Europe/Warsaw:20250501T220000
DTSTAMP:20260423T012228
CREATED:20250415T095335Z
LAST-MODIFIED:20250415T095335Z
UID:10025069-1746129600-1746136800@kultura.tarnow.pl
SUMMARY:Paweł STORO Storożynski
DESCRIPTION:Zespół „STORO” – Paweł STORO Storożynski zagra w Tarnowie.\nhttps://www.youtube.com/watch?v=ePqRmpCgnu0\nBilety:przedsprzedaż – 40zł.w dniu koncertu – 50zł.\nrezerwacja miejsc: 605 654 924
URL:https://kultura.tarnow.pl/wydarzenie/pawel-storo-storozynski/
LOCATION:Maranto Vibe\, Wałowa 26\, Tarnów\, Małopolska\, 33-100
CATEGORIES:koncerty
ATTACH;FMTTYPE=image/jpeg:https://kultura.tarnow.pl/wp-content/uploads/490890075_1214985027293355_5831457134389510396_n.jpg
END:VEVENT
END:VCALENDAR