BEGIN:VCALENDAR
VERSION:2.0
PRODID:-//kultura.tarnów - ECPv6.4.0.1//NONSGML v1.0//EN
CALSCALE:GREGORIAN
METHOD:PUBLISH
X-WR-CALNAME:kultura.tarnów
X-ORIGINAL-URL:https://kultura.tarnow.pl
X-WR-CALDESC:Wydarzenia dla
REFRESH-INTERVAL;VALUE=DURATION:PT1H
X-Robots-Tag:noindex
X-PUBLISHED-TTL:PT1H
BEGIN:VTIMEZONE
TZID:Europe/Warsaw
BEGIN:DAYLIGHT
TZOFFSETFROM:+0100
TZOFFSETTO:+0200
TZNAME:CEST
DTSTART:20250330T010000
END:DAYLIGHT
BEGIN:STANDARD
TZOFFSETFROM:+0200
TZOFFSETTO:+0100
TZNAME:CET
DTSTART:20251026T010000
END:STANDARD
END:VTIMEZONE
BEGIN:VEVENT
DTSTART;TZID=Europe/Warsaw:20250426T100000
DTEND;TZID=Europe/Warsaw:20250426T170000
DTSTAMP:20260423T073109
CREATED:20250326T080156Z
LAST-MODIFIED:20250326T080156Z
UID:10024644-1745661600-1745686800@kultura.tarnow.pl
SUMMARY:Wystawa "Oczopląs"
DESCRIPTION:Tarnowskie Centrum Kultury oraz Akademia Tarnowska zapraszają do obejrzenia nowej wystawy prac dyplomowych studentów Wydziału Sztuki. Ekspozycja\, nosząca nazwę „Oczopląs”\, będzie dostępna do zobaczenia w Galerii TCK\, ukazując twórczość młodych artystów w różnorodnych formach\, z zakresu grafiki i wzornictwa. \nMiejsce: Galeria TCK (Tarnów\, Rynek 5)\nTermin: 5 – 26 kwietnia 2025 r.\nGodziny otwarcia: Poniedziałek–piątek: 10:00–18:00\, Sobota: 10:00–17:00\nWstęp wolny. \nWystawa „Oczopląs” to prezentacja tegorocznych prac dyplomowych studentów\, którzy ukończyli kierunki grafika oraz wzornictwo (dizajn). Na ekspozycji będzie można zobaczyć szeroki wachlarz realizacji\, obejmujących projektowanie produktów\, modę\, komunikację wizualną\, grafikę wydawniczą\, multimedialną i reklamową. \nJest to już dziewiąta edycja wystawy\, która powstała w ramach owocnej współpracy Wydziału Sztuki z Tarnowskim Centrum Kultury. W trakcie trwania wystawy\, w Galerii TCK\, odbędą się również obrony prac dyplomowych\, które będą miały formę otwartą\, dostępną dla szerokiej publiczności. To doskonała okazja\, by nie tylko podziwiać efekty twórczej pracy młodych artystów\, ale także uczestniczyć w ich ważnym momencie edukacyjno-artystycznego rozwoju.
URL:https://kultura.tarnow.pl/wydarzenie/wystawa-oczoplas-2/2025-04-26/
LOCATION:Tarnowskie Centrum Kultury\, Rynek 5\, Tarnów\, małopolskie\, 33-100\, Polska
CATEGORIES:wystawy
ATTACH;FMTTYPE=image/jpeg:https://kultura.tarnow.pl/wp-content/uploads/f4f575a1efac8d8668ed3ba11620ceec.jpeg
GEO:50.012155;20.9878542
X-APPLE-STRUCTURED-LOCATION;VALUE=URI;X-ADDRESS=Tarnowskie Centrum Kultury Rynek 5 Tarnów małopolskie 33-100 Polska;X-APPLE-RADIUS=500;X-TITLE=Rynek 5:geo:20.9878542,50.012155
END:VEVENT
BEGIN:VEVENT
DTSTART;TZID=Europe/Warsaw:20250426T180000
DTEND;TZID=Europe/Warsaw:20250426T190000
DTSTAMP:20260423T073109
CREATED:20250224T115417Z
LAST-MODIFIED:20250303T120116Z
UID:10024084-1745690400-1745694000@kultura.tarnow.pl
SUMMARY:Bogusław Schaeffer "Próby" M. Grabowski 
DESCRIPTION:Zainteresowanie Bogusława Schaeffera tematem teatru bierze się zapewne z jego fascynacją światem sztuki w ogóle. Ten wyrosły z muzyki tekst – autor był kompozytorem – opowiada historię próby teatralnej\, (przerwanej epizodem sennym)\, próby\, w której czwórka aktorów i reżyser poszukują rozwiązań dla spektaklu\, który ma powstać\, poszukują formy\, która byłaby przez nich wszystkich akceptowana.\n\nSztuka ta nie ma fabuły w tradycyjnym rozumieniu tego słowa\, fabułą jest to\, co danego wieczoru zdarzy się między wykonawcami na scenie. Inaczej mówiąc; sztuka nie opowiada anegdoty o artystach\, oni sami dla siebie są anegdotą\, a narracja ta będzie na tyle ciekawą\, na ile interesująco aktorzy będą potrafili o sobie opowiedzieć. Jest więc to sztuka o aktorach\, o ich pracy (temat wielekroć u Schaeffera poruszany)\, ale przede wszystkim o kondycji człowieka żyjącego w coraz większym chaosie dzisiejszego świata.\n\nZa pozornym bezsensem działań aktorów kryją się portrety artystów\, polityków\, intelektualistów; może po prostu całego społeczeństwa\, portrety podszyte kompleksami\, kabotyńskimi minami\, pozorną wymianą myśli\, nacechowane nieufnością\, nonszalancją\, kłótniami o przywództwo i sporami o własną wybitność.\n\nSztuka ma w sobie duży ładunek humoru\, bez którego trudno byłoby ten temat opowiedzieć; byłby zapewne nieznośnie ponury. Do grania sztuk Schaeffera potrzeba aktorów\, którzy mają poczucie humoru\, którzy nie tylko rozumieją stopień zdeformowania dzisiejszego świata i rozproszenia myśli ludzkiej\, ale którzy potrafią – nazwijmy to w ten sposób – śmiechem rozproszyć mroki współczesności. Ta cecha aktorów i reżysera musi się przecież rymować z wyjątkowym poczuciem humoru autora. Schaeffer nie boi się ośmieszyć swoich bohaterów – śmiech u niego jest rodzajem terapii i dla aktorów i – mam nadzieję – dla widza. W adaptacji\, oprócz tekstu „Prób”\, wykorzystano fragmenty następujących sztuk tego autora: „Kwartetu dla czterech aktorów”\, „Audiencji III dla aktora i aktorki”\, „Mroków”\, „Kaczo” i „Aktora”.\n\n25\, 26 i 27 kwietnia (piątek\, sobota\, niedziela) godz. 18.00\, Duża Scena\nBilety: 45-60 zł\nhttps://teatr.tarnow.pl/spektakle/spektakle-spektakle/proby/
URL:https://kultura.tarnow.pl/wydarzenie/boguslaw-schaeffer-proby-m-grabowski/2025-04-26/
LOCATION:Teatr im. L.Solskiego\, Mickiewicza 4\, Tarnów\, małopolskie\, 33-100\, Polska
CATEGORIES:spektakle
GEO:50.0159214;20.987504
X-APPLE-STRUCTURED-LOCATION;VALUE=URI;X-ADDRESS=Teatr im. L.Solskiego Mickiewicza 4 Tarnów małopolskie 33-100 Polska;X-APPLE-RADIUS=500;X-TITLE=Mickiewicza 4:geo:20.987504,50.0159214
END:VEVENT
BEGIN:VEVENT
DTSTART;TZID=Europe/Warsaw:20250426T200000
DTEND;TZID=Europe/Warsaw:20250426T210000
DTSTAMP:20260423T073109
CREATED:20250224T115131Z
LAST-MODIFIED:20250303T120017Z
UID:10024082-1745697600-1745701200@kultura.tarnow.pl
SUMMARY:Edward Stachura "Po co jest noc" reż. I. Pastuszak
DESCRIPTION:„Po co jest noc\, czyli rzecz na: głosy\, gitarę i oddech na podstawie utworów Edwarda Stachury” Punktem wyjścia do zmierzenia się z twórczością Stachury jest konfrontacja trzech różnych pokoleniowo spojrzeń.\n\n„Po co jest noc” to spektakl będący połączeniem kilkunastu wierszy i fragmentów prozy Edwarda Stachury. Z jednym wyjątkiem dobór tekstów świadomie pomijał te najbardziej znane\, utrwalone w legendzie „Steda” i popularyzowane przez lata w piosence poetyckiej. Spektakl nie jest bowiem kolejnym hołdem wobec „poety przeklętego”. To raczej próba wniknięcia w wymiar egzystencjalny jednostki z jej wyraźną dychotomią. Dlatego podstawę spektaklu stanowią fragmenty „Fabula rasa”\, utworu ważnego dla samego Stachury (pracował nad nim przez lata)\, wzbogacone korespondującymi z nimi wierszami.\n\nMotywy: życia i śmierci\, samotności i miłości wreszcie miejsca sztuki we współczesnym świecie to podstawy dialogu toczącego się na scenie. Dopełnieniem\, a raczej trzecim filarem\, jest muzyka specjalnie dla tego spektaklu skomponowana.\nRealizacja tego spektaklu jest podsumowaniem 40-lecia debiutu scenicznego reżysera.\n\n24 kwietnia (czwartek) godz. 18.00 oraz 25 i 26 kwietnia (piątek\, sobota) godz. 20.00\, Scena Underground\nBilety: 45-60 zł\nCzas trwania: 70 min.
URL:https://kultura.tarnow.pl/wydarzenie/edward-stachura-po-co-jest-noc-rez-i-pastuszak/2025-04-26/
LOCATION:Teatr im. L.Solskiego\, Mickiewicza 4\, Tarnów\, małopolskie\, 33-100\, Polska
CATEGORIES:spektakle
ATTACH;FMTTYPE=image/jpeg:https://kultura.tarnow.pl/wp-content/uploads/PO-CO-JEST-NOC-zaslepka-www.jpg
GEO:50.0159214;20.987504
X-APPLE-STRUCTURED-LOCATION;VALUE=URI;X-ADDRESS=Teatr im. L.Solskiego Mickiewicza 4 Tarnów małopolskie 33-100 Polska;X-APPLE-RADIUS=500;X-TITLE=Mickiewicza 4:geo:20.987504,50.0159214
END:VEVENT
BEGIN:VEVENT
DTSTART;TZID=Europe/Warsaw:20250426T200000
DTEND;TZID=Europe/Warsaw:20250426T230000
DTSTAMP:20260423T073109
CREATED:20250402T081406Z
LAST-MODIFIED:20250402T081406Z
UID:10024670-1745697600-1745708400@kultura.tarnow.pl
SUMMARY:MUKA & Katarzyna Dzierwa
DESCRIPTION:Koncert MUKA – krakowski zespół zagra w TarnowieMaranto Vibe – 26.04. 202520.00 Support – Katarzyna Dzierwa z zespołem20.40 – MUKA
URL:https://kultura.tarnow.pl/wydarzenie/muka-katarzyna-dzierwa/
LOCATION:Maranto Vibe\, Wałowa 26\, Tarnów\, Małopolska\, 33-100
CATEGORIES:koncerty
END:VEVENT
END:VCALENDAR