BEGIN:VCALENDAR
VERSION:2.0
PRODID:-//kultura.tarnów - ECPv6.4.0.1//NONSGML v1.0//EN
CALSCALE:GREGORIAN
METHOD:PUBLISH
X-ORIGINAL-URL:https://kultura.tarnow.pl
X-WR-CALDESC:Wydarzenia dla
REFRESH-INTERVAL;VALUE=DURATION:PT1H
X-Robots-Tag:noindex
X-PUBLISHED-TTL:PT1H
BEGIN:VTIMEZONE
TZID:Europe/Warsaw
BEGIN:DAYLIGHT
TZOFFSETFROM:+0100
TZOFFSETTO:+0200
TZNAME:CEST
DTSTART:20250330T010000
END:DAYLIGHT
BEGIN:STANDARD
TZOFFSETFROM:+0200
TZOFFSETTO:+0100
TZNAME:CET
DTSTART:20251026T010000
END:STANDARD
END:VTIMEZONE
BEGIN:VEVENT
DTSTART;TZID=Europe/Warsaw:20250423T100000
DTEND;TZID=Europe/Warsaw:20250423T110000
DTSTAMP:20260423T030708
CREATED:20250402T071545Z
LAST-MODIFIED:20250402T071545Z
UID:10024667-1745402400-1745406000@kultura.tarnow.pl
SUMMARY:Zdrowy uśmiech Twojego dziecka
DESCRIPTION:Spotkanie z dentystką \nPodczas spotkania porozmawiamy o tym\, jak dbać o pierwsze zęby\, omówimy wpływ smoczka na rozwój zgryzu\, a także jakie nawyki mogą sprzyjać prawidłowemu rozwojowi szczęki i zębów. Dowiesz się również\, jak dieta wpływa na zdrowie zębów i jak uniknąć próchnicy już od najmłodszych lat. \nHalina Głowacka\, dentystka z ponad 30-letnim doświadczeniem (jej pasją jest edukacja dzieci i ich rodziców w zakresie zdrowia jamy ustnej) pokaże edukacyjną grę planszową zwracająca uwagę na wyzwania związane z profilaktyką zdrowego uśmiechu wśród dzieci do 6. roku życia. \nWstęp bezpłatny. Liczba miejsc ograniczona. Zapisy pod numerem telefonu: 888 655 101\, a.radon@tck.pl Prosimy o punktualność. \n„Tu mamy spotkamy” to cykl spotkań dla mam\, rodziców małych dzieci do 5. roku życia. Planujemy zajęcia rozwijające\, kształtujące wrażliwość artystyczną\, zajęcia relaksacyjne i ruchowe. \nWyprzedaż sklepowa — ulotka.ISO
URL:https://kultura.tarnow.pl/wydarzenie/zdrowy-usmiech-twojego-dziecka/
LOCATION:Dom Kultury Westerplatte 8a\, Westerplatte 8a\, Tarnów\, Polska - małopolskie\, 33-100\, Polska
CATEGORIES:spotkania
ORGANIZER;CN="Dom Kultury Westerplatte 8a":MAILTO:westerplatte@tck.pl
GEO:50.0273033;21.0087361
X-APPLE-STRUCTURED-LOCATION;VALUE=URI;X-ADDRESS=Dom Kultury Westerplatte 8a Westerplatte 8a Tarnów Polska - małopolskie 33-100 Polska;X-APPLE-RADIUS=500;X-TITLE=Westerplatte 8a:geo:21.0087361,50.0273033
END:VEVENT
BEGIN:VEVENT
DTSTART;TZID=Europe/Warsaw:20250423T100000
DTEND;TZID=Europe/Warsaw:20250423T170000
DTSTAMP:20260423T030708
CREATED:20250326T080156Z
LAST-MODIFIED:20250326T080156Z
UID:10024641-1745402400-1745427600@kultura.tarnow.pl
SUMMARY:Wystawa "Oczopląs"
DESCRIPTION:Tarnowskie Centrum Kultury oraz Akademia Tarnowska zapraszają do obejrzenia nowej wystawy prac dyplomowych studentów Wydziału Sztuki. Ekspozycja\, nosząca nazwę „Oczopląs”\, będzie dostępna do zobaczenia w Galerii TCK\, ukazując twórczość młodych artystów w różnorodnych formach\, z zakresu grafiki i wzornictwa. \nMiejsce: Galeria TCK (Tarnów\, Rynek 5)\nTermin: 5 – 26 kwietnia 2025 r.\nGodziny otwarcia: Poniedziałek–piątek: 10:00–18:00\, Sobota: 10:00–17:00\nWstęp wolny. \nWystawa „Oczopląs” to prezentacja tegorocznych prac dyplomowych studentów\, którzy ukończyli kierunki grafika oraz wzornictwo (dizajn). Na ekspozycji będzie można zobaczyć szeroki wachlarz realizacji\, obejmujących projektowanie produktów\, modę\, komunikację wizualną\, grafikę wydawniczą\, multimedialną i reklamową. \nJest to już dziewiąta edycja wystawy\, która powstała w ramach owocnej współpracy Wydziału Sztuki z Tarnowskim Centrum Kultury. W trakcie trwania wystawy\, w Galerii TCK\, odbędą się również obrony prac dyplomowych\, które będą miały formę otwartą\, dostępną dla szerokiej publiczności. To doskonała okazja\, by nie tylko podziwiać efekty twórczej pracy młodych artystów\, ale także uczestniczyć w ich ważnym momencie edukacyjno-artystycznego rozwoju.
URL:https://kultura.tarnow.pl/wydarzenie/wystawa-oczoplas-2/2025-04-23/
LOCATION:Tarnowskie Centrum Kultury\, Rynek 5\, Tarnów\, małopolskie\, 33-100\, Polska
CATEGORIES:wystawy
ATTACH;FMTTYPE=image/jpeg:https://kultura.tarnow.pl/wp-content/uploads/f4f575a1efac8d8668ed3ba11620ceec.jpeg
GEO:50.012155;20.9878542
X-APPLE-STRUCTURED-LOCATION;VALUE=URI;X-ADDRESS=Tarnowskie Centrum Kultury Rynek 5 Tarnów małopolskie 33-100 Polska;X-APPLE-RADIUS=500;X-TITLE=Rynek 5:geo:20.9878542,50.012155
END:VEVENT
END:VCALENDAR