BEGIN:VCALENDAR
VERSION:2.0
PRODID:-//kultura.tarnów - ECPv6.4.0.1//NONSGML v1.0//EN
CALSCALE:GREGORIAN
METHOD:PUBLISH
X-ORIGINAL-URL:https://kultura.tarnow.pl
X-WR-CALDESC:Wydarzenia dla
REFRESH-INTERVAL;VALUE=DURATION:PT1H
X-Robots-Tag:noindex
X-PUBLISHED-TTL:PT1H
BEGIN:VTIMEZONE
TZID:Europe/Warsaw
BEGIN:DAYLIGHT
TZOFFSETFROM:+0100
TZOFFSETTO:+0200
TZNAME:CEST
DTSTART:20250330T010000
END:DAYLIGHT
BEGIN:STANDARD
TZOFFSETFROM:+0200
TZOFFSETTO:+0100
TZNAME:CET
DTSTART:20251026T010000
END:STANDARD
END:VTIMEZONE
BEGIN:VEVENT
DTSTART;TZID=Europe/Warsaw:20250422T100000
DTEND;TZID=Europe/Warsaw:20250422T170000
DTSTAMP:20260423T133850
CREATED:20250326T080156Z
LAST-MODIFIED:20250326T080156Z
UID:10024640-1745316000-1745341200@kultura.tarnow.pl
SUMMARY:Wystawa "Oczopląs"
DESCRIPTION:Tarnowskie Centrum Kultury oraz Akademia Tarnowska zapraszają do obejrzenia nowej wystawy prac dyplomowych studentów Wydziału Sztuki. Ekspozycja\, nosząca nazwę „Oczopląs”\, będzie dostępna do zobaczenia w Galerii TCK\, ukazując twórczość młodych artystów w różnorodnych formach\, z zakresu grafiki i wzornictwa. \nMiejsce: Galeria TCK (Tarnów\, Rynek 5)\nTermin: 5 – 26 kwietnia 2025 r.\nGodziny otwarcia: Poniedziałek–piątek: 10:00–18:00\, Sobota: 10:00–17:00\nWstęp wolny. \nWystawa „Oczopląs” to prezentacja tegorocznych prac dyplomowych studentów\, którzy ukończyli kierunki grafika oraz wzornictwo (dizajn). Na ekspozycji będzie można zobaczyć szeroki wachlarz realizacji\, obejmujących projektowanie produktów\, modę\, komunikację wizualną\, grafikę wydawniczą\, multimedialną i reklamową. \nJest to już dziewiąta edycja wystawy\, która powstała w ramach owocnej współpracy Wydziału Sztuki z Tarnowskim Centrum Kultury. W trakcie trwania wystawy\, w Galerii TCK\, odbędą się również obrony prac dyplomowych\, które będą miały formę otwartą\, dostępną dla szerokiej publiczności. To doskonała okazja\, by nie tylko podziwiać efekty twórczej pracy młodych artystów\, ale także uczestniczyć w ich ważnym momencie edukacyjno-artystycznego rozwoju.
URL:https://kultura.tarnow.pl/wydarzenie/wystawa-oczoplas-2/2025-04-22/
LOCATION:Tarnowskie Centrum Kultury\, Rynek 5\, Tarnów\, małopolskie\, 33-100\, Polska
CATEGORIES:wystawy
ATTACH;FMTTYPE=image/jpeg:https://kultura.tarnow.pl/wp-content/uploads/f4f575a1efac8d8668ed3ba11620ceec.jpeg
GEO:50.012155;20.9878542
X-APPLE-STRUCTURED-LOCATION;VALUE=URI;X-ADDRESS=Tarnowskie Centrum Kultury Rynek 5 Tarnów małopolskie 33-100 Polska;X-APPLE-RADIUS=500;X-TITLE=Rynek 5:geo:20.9878542,50.012155
END:VEVENT
END:VCALENDAR