BEGIN:VCALENDAR
VERSION:2.0
PRODID:-//kultura.tarnów - ECPv6.4.0.1//NONSGML v1.0//EN
CALSCALE:GREGORIAN
METHOD:PUBLISH
X-WR-CALNAME:kultura.tarnów
X-ORIGINAL-URL:https://kultura.tarnow.pl
X-WR-CALDESC:Wydarzenia dla
REFRESH-INTERVAL;VALUE=DURATION:PT1H
X-Robots-Tag:noindex
X-PUBLISHED-TTL:PT1H
BEGIN:VTIMEZONE
TZID:Europe/Warsaw
BEGIN:DAYLIGHT
TZOFFSETFROM:+0100
TZOFFSETTO:+0200
TZNAME:CEST
DTSTART:20250330T010000
END:DAYLIGHT
BEGIN:STANDARD
TZOFFSETFROM:+0200
TZOFFSETTO:+0100
TZNAME:CET
DTSTART:20251026T010000
END:STANDARD
END:VTIMEZONE
BEGIN:VEVENT
DTSTART;TZID=Europe/Warsaw:20250418T100000
DTEND;TZID=Europe/Warsaw:20250418T160000
DTSTAMP:20260423T073114
CREATED:20250305T115230Z
LAST-MODIFIED:20250305T115230Z
UID:10024589-1744970400-1744992000@kultura.tarnow.pl
SUMMARY:"Setki wykrzyczanych w głowie słów. O depresji" - wystawa fotografii
DESCRIPTION:Ogólnopolski dzień walki z depresją obchodzony jest 23 lutego\, ale osoby chorujące na depresję walczą o swoje życie każdego dnia. Wesprzyj je w tej walce. \nDepresja to nie to samo co chandra. Depresja to choroba o złożonych przyczynach (psychologicznych\, neurofizjologicznych i genetycznych\, społecznych). Nie wolno lekceważyć jej objawów. Szkodliwe jest bagatelizowanie tej choroby np. przez nazywanie Blue Monday – dniem depresyjnym – bo tu nie o ponurą pogodę chodzi i niski stan konta\, albo mówienie osobie chorej: weź się w garść! \nJeśli przez dwa tygodnie zauważasz u siebie lub bliskich (część z tych objawów): obniżony nastrój\, spadek aktywności i energii\, trudności z koncentracją\, nadmierne lub nieadekwatne poczucie winy\, beznadziejności\, zmianę apetytu lub snu\, czy nieznikające poczucie zmęczenia – poszukaj pomocy. Powiedz komuś zaufanemu jak się czujesz. Skonsultuj się ze specjalistą – psychologiem\, psychoterapeutą\, psychiatrą. Zadzwoń pod telefon zaufania dla dzieci\ni młodzieży 116 111 lub dla dorosłych 116 123 \nPomysł sesji fotograficznej i modelka: Joanna Kurek. Kuratorka\, oko i palec na spuście: Dorota Omylska. \nWystawa będzie dostępna w holu Dom.Ku do 18 kwietnia. \n 
URL:https://kultura.tarnow.pl/wydarzenie/setki-wykrzyczanych-w-glowie-slow-o-depresji-wystawa-fotografii/2025-04-18/
LOCATION:Dom Kultury Westerplatte 8a\, Westerplatte 8a\, Tarnów\, Polska - małopolskie\, 33-100\, Polska
CATEGORIES:wystawy
ORGANIZER;CN="Dom Kultury Westerplatte 8a":MAILTO:westerplatte@tck.pl
GEO:50.0273033;21.0087361
X-APPLE-STRUCTURED-LOCATION;VALUE=URI;X-ADDRESS=Dom Kultury Westerplatte 8a Westerplatte 8a Tarnów Polska - małopolskie 33-100 Polska;X-APPLE-RADIUS=500;X-TITLE=Westerplatte 8a:geo:21.0087361,50.0273033
END:VEVENT
BEGIN:VEVENT
DTSTART;TZID=Europe/Warsaw:20250418T100000
DTEND;TZID=Europe/Warsaw:20250418T170000
DTSTAMP:20260423T073114
CREATED:20250326T080156Z
LAST-MODIFIED:20250326T080156Z
UID:10024637-1744970400-1744995600@kultura.tarnow.pl
SUMMARY:Wystawa "Oczopląs"
DESCRIPTION:Tarnowskie Centrum Kultury oraz Akademia Tarnowska zapraszają do obejrzenia nowej wystawy prac dyplomowych studentów Wydziału Sztuki. Ekspozycja\, nosząca nazwę „Oczopląs”\, będzie dostępna do zobaczenia w Galerii TCK\, ukazując twórczość młodych artystów w różnorodnych formach\, z zakresu grafiki i wzornictwa. \nMiejsce: Galeria TCK (Tarnów\, Rynek 5)\nTermin: 5 – 26 kwietnia 2025 r.\nGodziny otwarcia: Poniedziałek–piątek: 10:00–18:00\, Sobota: 10:00–17:00\nWstęp wolny. \nWystawa „Oczopląs” to prezentacja tegorocznych prac dyplomowych studentów\, którzy ukończyli kierunki grafika oraz wzornictwo (dizajn). Na ekspozycji będzie można zobaczyć szeroki wachlarz realizacji\, obejmujących projektowanie produktów\, modę\, komunikację wizualną\, grafikę wydawniczą\, multimedialną i reklamową. \nJest to już dziewiąta edycja wystawy\, która powstała w ramach owocnej współpracy Wydziału Sztuki z Tarnowskim Centrum Kultury. W trakcie trwania wystawy\, w Galerii TCK\, odbędą się również obrony prac dyplomowych\, które będą miały formę otwartą\, dostępną dla szerokiej publiczności. To doskonała okazja\, by nie tylko podziwiać efekty twórczej pracy młodych artystów\, ale także uczestniczyć w ich ważnym momencie edukacyjno-artystycznego rozwoju.
URL:https://kultura.tarnow.pl/wydarzenie/wystawa-oczoplas-2/2025-04-18/
LOCATION:Tarnowskie Centrum Kultury\, Rynek 5\, Tarnów\, małopolskie\, 33-100\, Polska
CATEGORIES:wystawy
ATTACH;FMTTYPE=image/jpeg:https://kultura.tarnow.pl/wp-content/uploads/f4f575a1efac8d8668ed3ba11620ceec.jpeg
GEO:50.012155;20.9878542
X-APPLE-STRUCTURED-LOCATION;VALUE=URI;X-ADDRESS=Tarnowskie Centrum Kultury Rynek 5 Tarnów małopolskie 33-100 Polska;X-APPLE-RADIUS=500;X-TITLE=Rynek 5:geo:20.9878542,50.012155
END:VEVENT
END:VCALENDAR