BEGIN:VCALENDAR
VERSION:2.0
PRODID:-//kultura.tarnów - ECPv6.4.0.1//NONSGML v1.0//EN
CALSCALE:GREGORIAN
METHOD:PUBLISH
X-WR-CALNAME:kultura.tarnów
X-ORIGINAL-URL:https://kultura.tarnow.pl
X-WR-CALDESC:Wydarzenia dla
REFRESH-INTERVAL;VALUE=DURATION:PT1H
X-Robots-Tag:noindex
X-PUBLISHED-TTL:PT1H
BEGIN:VTIMEZONE
TZID:Europe/Warsaw
BEGIN:DAYLIGHT
TZOFFSETFROM:+0100
TZOFFSETTO:+0200
TZNAME:CEST
DTSTART:20250330T010000
END:DAYLIGHT
BEGIN:STANDARD
TZOFFSETFROM:+0200
TZOFFSETTO:+0100
TZNAME:CET
DTSTART:20251026T010000
END:STANDARD
END:VTIMEZONE
BEGIN:VEVENT
DTSTART;TZID=Europe/Warsaw:20250412T100000
DTEND;TZID=Europe/Warsaw:20250412T170000
DTSTAMP:20260423T073113
CREATED:20250326T080156Z
LAST-MODIFIED:20250326T080156Z
UID:10024632-1744452000-1744477200@kultura.tarnow.pl
SUMMARY:Wystawa "Oczopląs"
DESCRIPTION:Tarnowskie Centrum Kultury oraz Akademia Tarnowska zapraszają do obejrzenia nowej wystawy prac dyplomowych studentów Wydziału Sztuki. Ekspozycja\, nosząca nazwę „Oczopląs”\, będzie dostępna do zobaczenia w Galerii TCK\, ukazując twórczość młodych artystów w różnorodnych formach\, z zakresu grafiki i wzornictwa. \nMiejsce: Galeria TCK (Tarnów\, Rynek 5)\nTermin: 5 – 26 kwietnia 2025 r.\nGodziny otwarcia: Poniedziałek–piątek: 10:00–18:00\, Sobota: 10:00–17:00\nWstęp wolny. \nWystawa „Oczopląs” to prezentacja tegorocznych prac dyplomowych studentów\, którzy ukończyli kierunki grafika oraz wzornictwo (dizajn). Na ekspozycji będzie można zobaczyć szeroki wachlarz realizacji\, obejmujących projektowanie produktów\, modę\, komunikację wizualną\, grafikę wydawniczą\, multimedialną i reklamową. \nJest to już dziewiąta edycja wystawy\, która powstała w ramach owocnej współpracy Wydziału Sztuki z Tarnowskim Centrum Kultury. W trakcie trwania wystawy\, w Galerii TCK\, odbędą się również obrony prac dyplomowych\, które będą miały formę otwartą\, dostępną dla szerokiej publiczności. To doskonała okazja\, by nie tylko podziwiać efekty twórczej pracy młodych artystów\, ale także uczestniczyć w ich ważnym momencie edukacyjno-artystycznego rozwoju.
URL:https://kultura.tarnow.pl/wydarzenie/wystawa-oczoplas-2/2025-04-12/
LOCATION:Tarnowskie Centrum Kultury\, Rynek 5\, Tarnów\, małopolskie\, 33-100\, Polska
CATEGORIES:wystawy
ATTACH;FMTTYPE=image/jpeg:https://kultura.tarnow.pl/wp-content/uploads/f4f575a1efac8d8668ed3ba11620ceec.jpeg
GEO:50.012155;20.9878542
X-APPLE-STRUCTURED-LOCATION;VALUE=URI;X-ADDRESS=Tarnowskie Centrum Kultury Rynek 5 Tarnów małopolskie 33-100 Polska;X-APPLE-RADIUS=500;X-TITLE=Rynek 5:geo:20.9878542,50.012155
END:VEVENT
BEGIN:VEVENT
DTSTART;TZID=Europe/Warsaw:20250412T160000
DTEND;TZID=Europe/Warsaw:20250412T180000
DTSTAMP:20260423T073113
CREATED:20250311T110702Z
LAST-MODIFIED:20250311T110702Z
UID:10024602-1744473600-1744480800@kultura.tarnow.pl
SUMMARY:"Bonobo - randka w ciemno"
DESCRIPTION:Spektakl komediowy\, jakiego w Polsce jeszcze nie było! Fenomenalne dzieło autora „Nerwicy natręctw” przeniesie Was w świat dobrej zabawy za pośrednictwem genialnie wykreowanych postaci. Dajcie się ponieść emocjom i zabawie! \nTrzech przyjaciół wpada na pomysł stworzenia randki idealnej. Jedyną przeszkodą w tych miłosnych podbojach jest fakt\, że jeden nie widzi\, drugi nie słyszy\, a trzeci nie mówi… Czy to się może udać? Okazuje się\, że dla nich nie ma rzeczy niemożliwych\, a co trzy głowy\, to nie jedna! Absurdalne pomysły\, zaskakujące dialogi i nieoczekiwane sytuacje powodują\, że widz zaczyna kibicować bohaterom\, a przy tym śmiać się do łez. \nOryginalna scenografia\, ręcznie malowana przez artystów Ewelinę Wasiluk i Piotra Wróbla\, w połączeniu z kostiumami opracowanymi przez doświadczoną Zuzannę Markiewicz\, tworzą niepowtarzalny klimat. Dodatkowym atutem jest zastosowanie live streamingu\, który przyciąga uwagę widza i wciąga go w wir wydarzeń na scenie! \nSprawdź repertuar i zarezerwuj bilety na „Bonobo”. \nObsada:\nAnna Głogowska\nAnna Sandowicz\nKamilka Kamińska\nDominika Kachlik\nMagdalena Górska\nWojciech Rotowski\nRafał Mroczek\nPrzemysław Cypryański\nMarcin Mroczek \nBilety
URL:https://kultura.tarnow.pl/wydarzenie/bonobo-randka-w-ciemno/
LOCATION:Centrum Sztuki Mościce\, Traugutta 1\, Tarnów\, małopolskie\, 33-101\, Polska
CATEGORIES:spektakle
ATTACH;FMTTYPE=image/jpeg:https://kultura.tarnow.pl/wp-content/uploads/e900a343865eb8525e9b694871abbdcf.jpg
GEO:50.009833;20.92706
X-APPLE-STRUCTURED-LOCATION;VALUE=URI;X-ADDRESS=Centrum Sztuki Mościce Traugutta 1 Tarnów małopolskie 33-101 Polska;X-APPLE-RADIUS=500;X-TITLE=Traugutta 1:geo:20.92706,50.009833
END:VEVENT
BEGIN:VEVENT
DTSTART;TZID=Europe/Warsaw:20250412T180000
DTEND;TZID=Europe/Warsaw:20250412T190000
DTSTAMP:20260423T073113
CREATED:20250224T113513Z
LAST-MODIFIED:20260310T111926Z
UID:10024067-1744480800-1744484400@kultura.tarnow.pl
SUMMARY:Auschwitz Tour
DESCRIPTION:Spektakl w tym dniu o godz: 09:00 i 11:00 \nMiejsca pamięci takie jak Auschwitz obecnie mają rangę wpisywanych w foldery wycieczkowe atrakcji turystycznych w jednym pakiecie z Kopalnią Soli w Wieliczce. Motywacje turystów przyjeżdżających z całego świata i odwiedzających Obóz są bardzo różne. Wynikają z potrzeby pamiętania\, obowiązku moralnego\, ale również z potrzeby obcowania ze śmiercią. Ta ostatnia motywacja związana jest tanatoturystyką – odwiedzaniem miejsc masowej śmierci. Doświadczenie przebywania w przestrzeni nagłej i brutalnej śmierci jest dla zwiedzających oczyszczające.  Podczas tour przez Obóz Zagłady zwiedzający prowadzeni są przez przewodników\, od których w dużej mierze zależą ich reakcje. Jeśli przewodnik jest utalentowanym performerem turyści wrócą do domu pełni wrażeń. \nPrzez lata Muzeum Auschwitz przeszło wiele zmian. Od miejsca w którym nie zmieniając „scenografii” można było kręcić filmy takie jak „Pasażerka”\, do uporządkowanej przestrzeni muzeum z przystrzyżonymi trawnikami i autobusami kursującymi pomiędzy podobozami. Obecnie Muzeum Pamięci jest obiektem turystycznym posiadającym całą infrastrukturę: restaurację\, sklepik muzealny\, płatne parkingi i wszystko co niezbędne dla milionów turystów odwiedzających rocznie to miejsce. Bilety najlepiej rezerwować z trzymiesięcznym wyprzedzeniem. Rodzi się pytanie\, czy za tą wielka popularnością idzie jakaś szczególna refleksja zwiedzających? I jaka w ogóle jest motywacja ludzi do oglądania pozostałości po machinie Zagłady? \nW Google\, średnia ocen Auschwitz to 4\,7 (znakomite) jest opisane jako: „Ponure miejsce pamięci przy obozie koncentracyjnym z czasów II wojny światowej i wystawy edukacyjne.” Sądząc po komentarzach dla większości zwiedzających wizyta w muzeum jest wielkim przeżyciem. Zdarzają się jednak głosy krytyczne\, osób narzekających na „zbyt drogie bilety”\, „długie kolejki”\, „brak udogodnień dla wózków inwalidzkich”\, czy „przewodników nie przygotowanych na rozmowy z dziećmi”. Są też narzekania\, że nie czuć już tej samej co kiedyś grozy miejsca. \nKluczową rolę dla wywołania odpowiednich wrażeń po wizycie w muzeum ma przewodnik. Od jego czterogodzinnego performance’u zależy czy wizytatorzy wyjdą z obozu znudzeni\, czy przepełnieni emocjami i szacunkiem do życia. Po skończonej wycieczce jeszcze na terenie Brzezinki ludzie szeptają pytanie: „Jak ci się podobało?”. Na myśl przychodzi opowiadanie Tadeusza Rożewicza pt. „Wycieczka do muzeum” i opisany przez niego tłum żądnych wrażeń gapiów. \nWedług badań nad tanatoturystyką jednym z powodów odwiedzania miejsc masowej śmierci jest jej wyparcie z życia codziennego przy jednoczesnej powszechnej obecności w mediach. Zwiedzających interesuje śmierć widziana z bliska\, czerpią przyjemność ze zwiedzania miejsc związanych z bólem i krzywdą. Podczas zwiedzania doświadczają realności miejsca\, uczestniczą w dramacie milionów istnień ludzkich\, na co wpływ ma wielkość obiektu\, liczba zgromadzonych rzeczy. Dla części zwiedzających motywacją jest poczucie winy\, albo chęć doświadczenia poczucia wyższości nad katami. \nW dramacie „Auschwitz Tour” skupiamy się na tym po co współczesny turysta/widz odwiedza Auschwitz\, jaka jest współczesna funkcja tego miejsca i co się z nim stanie kiedy pokolenia prawdziwych naocznych świadków odejdą. \nWiek widza: 15+ \nKoprodukcja Teatru im. Ludwika Solskiego w Tarnowie\, Związku Artystów Scen Polskich ZASP – Stowarzyszenie oraz Fundacji na rzecz Rozwoju i Promocji Sztuki Współczesnej Pauza. \nProjekt sfinansowany ze środków Funduszy SKE ZASP – Program Kultura 
URL:https://kultura.tarnow.pl/wydarzenie/auschwitz-tour-3/2025-04-12/
LOCATION:Teatr im. L.Solskiego\, Mickiewicza 4\, Tarnów\, małopolskie\, 33-100\, Polska
CATEGORIES:spektakle
ATTACH;FMTTYPE=image/jpeg:https://kultura.tarnow.pl/wp-content/uploads/Wybrany-plakat-717x1024-1.jpg
GEO:50.0159214;20.987504
X-APPLE-STRUCTURED-LOCATION;VALUE=URI;X-ADDRESS=Teatr im. L.Solskiego Mickiewicza 4 Tarnów małopolskie 33-100 Polska;X-APPLE-RADIUS=500;X-TITLE=Mickiewicza 4:geo:20.987504,50.0159214
END:VEVENT
BEGIN:VEVENT
DTSTART;TZID=Europe/Warsaw:20250412T190000
DTEND;TZID=Europe/Warsaw:20250412T220000
DTSTAMP:20260423T073113
CREATED:20250314T130638Z
LAST-MODIFIED:20250314T130638Z
UID:10024609-1744484400-1744495200@kultura.tarnow.pl
SUMMARY:Soundscape
DESCRIPTION:12 kwietnia 2025 zapraszamy na nasz długo wyczekiwany przez nas samych\, jak i mamy nadzieję że i przez Was\, pierwszy od wielu lat koncert SOUNDSCAPE w Tarnowie w klubie Maranto Vibe.\nNasza historia sięga roku 2008\, kiedy to gitarzysta Krzysztof Siryk zainicjował nasz zespół. Nasza dotychczasowa działalność zaowocowała wydaniem albumu długogrającego „Synæsthesia Deluxe” w 2014 roku oraz wieloma udanymi koncertami w 2014. Niemniej jednak\, życiowe okoliczności zmusiły nas do chwilowego zawieszenia działalności. Teraz\, z nowym składem i ambitnym stylem rockowym\, powracamy z premierowym materiałem w postaci mini albumu “Revival” (2024).\n\nPierwszą odsłoną nowego oblicza zespołu był przebojowy numer „Shooting Stars” (link poniżej) który mile zagościł w rozgłośniach radiowych w całej Polsce\, a kolejny singiel „The Diary” (link poniżej) dotarł do 17. miejsca na legendarnej Liście Przebojów Programu Trzeciego!\n\nW roli suportu wystąpi utalentowany gitarzysta z Tarnowa Aleksander Skop www.facebook.com/profile.php?id=100078855819079 (uczeń „Szkoły Gitarowej Piotra Smolenia”)\n\nSkład:Krzysztof Siryk – gitaraPrzemysław Zubowicz – wokalMariusz Bieniasz – bębnyTomasz Marmol – basDamian Gwizd – gitara\n\nBilety:35zł (przedsprzedaż)40zł (w dniu koncertu)\nPlan koncertu:18:00 Drzwi19:00 Support20:00 SOUNDSCAPE + goście
URL:https://kultura.tarnow.pl/wydarzenie/soundscape/
LOCATION:Maranto Vibe\, Wałowa 26\, Tarnów\, Małopolska\, 33-100
CATEGORIES:koncerty
END:VEVENT
END:VCALENDAR