BEGIN:VCALENDAR
VERSION:2.0
PRODID:-//kultura.tarnów - ECPv6.4.0.1//NONSGML v1.0//EN
CALSCALE:GREGORIAN
METHOD:PUBLISH
X-WR-CALNAME:kultura.tarnów
X-ORIGINAL-URL:https://kultura.tarnow.pl
X-WR-CALDESC:Wydarzenia dla
REFRESH-INTERVAL;VALUE=DURATION:PT1H
X-Robots-Tag:noindex
X-PUBLISHED-TTL:PT1H
BEGIN:VTIMEZONE
TZID:Europe/Warsaw
BEGIN:DAYLIGHT
TZOFFSETFROM:+0100
TZOFFSETTO:+0200
TZNAME:CEST
DTSTART:20250330T010000
END:DAYLIGHT
BEGIN:STANDARD
TZOFFSETFROM:+0200
TZOFFSETTO:+0100
TZNAME:CET
DTSTART:20251026T010000
END:STANDARD
END:VTIMEZONE
BEGIN:VEVENT
DTSTART;TZID=Europe/Warsaw:20250408T090000
DTEND;TZID=Europe/Warsaw:20250408T130000
DTSTAMP:20260423T011952
CREATED:20250224T113513Z
LAST-MODIFIED:20260310T111926Z
UID:10024537-1744102800-1744117200@kultura.tarnow.pl
SUMMARY:Auschwitz Tour
DESCRIPTION:Spektakl w tym dniu o godz: 09:00 i 11:00 \nMiejsca pamięci takie jak Auschwitz obecnie mają rangę wpisywanych w foldery wycieczkowe atrakcji turystycznych w jednym pakiecie z Kopalnią Soli w Wieliczce. Motywacje turystów przyjeżdżających z całego świata i odwiedzających Obóz są bardzo różne. Wynikają z potrzeby pamiętania\, obowiązku moralnego\, ale również z potrzeby obcowania ze śmiercią. Ta ostatnia motywacja związana jest tanatoturystyką – odwiedzaniem miejsc masowej śmierci. Doświadczenie przebywania w przestrzeni nagłej i brutalnej śmierci jest dla zwiedzających oczyszczające.  Podczas tour przez Obóz Zagłady zwiedzający prowadzeni są przez przewodników\, od których w dużej mierze zależą ich reakcje. Jeśli przewodnik jest utalentowanym performerem turyści wrócą do domu pełni wrażeń. \nPrzez lata Muzeum Auschwitz przeszło wiele zmian. Od miejsca w którym nie zmieniając „scenografii” można było kręcić filmy takie jak „Pasażerka”\, do uporządkowanej przestrzeni muzeum z przystrzyżonymi trawnikami i autobusami kursującymi pomiędzy podobozami. Obecnie Muzeum Pamięci jest obiektem turystycznym posiadającym całą infrastrukturę: restaurację\, sklepik muzealny\, płatne parkingi i wszystko co niezbędne dla milionów turystów odwiedzających rocznie to miejsce. Bilety najlepiej rezerwować z trzymiesięcznym wyprzedzeniem. Rodzi się pytanie\, czy za tą wielka popularnością idzie jakaś szczególna refleksja zwiedzających? I jaka w ogóle jest motywacja ludzi do oglądania pozostałości po machinie Zagłady? \nW Google\, średnia ocen Auschwitz to 4\,7 (znakomite) jest opisane jako: „Ponure miejsce pamięci przy obozie koncentracyjnym z czasów II wojny światowej i wystawy edukacyjne.” Sądząc po komentarzach dla większości zwiedzających wizyta w muzeum jest wielkim przeżyciem. Zdarzają się jednak głosy krytyczne\, osób narzekających na „zbyt drogie bilety”\, „długie kolejki”\, „brak udogodnień dla wózków inwalidzkich”\, czy „przewodników nie przygotowanych na rozmowy z dziećmi”. Są też narzekania\, że nie czuć już tej samej co kiedyś grozy miejsca. \nKluczową rolę dla wywołania odpowiednich wrażeń po wizycie w muzeum ma przewodnik. Od jego czterogodzinnego performance’u zależy czy wizytatorzy wyjdą z obozu znudzeni\, czy przepełnieni emocjami i szacunkiem do życia. Po skończonej wycieczce jeszcze na terenie Brzezinki ludzie szeptają pytanie: „Jak ci się podobało?”. Na myśl przychodzi opowiadanie Tadeusza Rożewicza pt. „Wycieczka do muzeum” i opisany przez niego tłum żądnych wrażeń gapiów. \nWedług badań nad tanatoturystyką jednym z powodów odwiedzania miejsc masowej śmierci jest jej wyparcie z życia codziennego przy jednoczesnej powszechnej obecności w mediach. Zwiedzających interesuje śmierć widziana z bliska\, czerpią przyjemność ze zwiedzania miejsc związanych z bólem i krzywdą. Podczas zwiedzania doświadczają realności miejsca\, uczestniczą w dramacie milionów istnień ludzkich\, na co wpływ ma wielkość obiektu\, liczba zgromadzonych rzeczy. Dla części zwiedzających motywacją jest poczucie winy\, albo chęć doświadczenia poczucia wyższości nad katami. \nW dramacie „Auschwitz Tour” skupiamy się na tym po co współczesny turysta/widz odwiedza Auschwitz\, jaka jest współczesna funkcja tego miejsca i co się z nim stanie kiedy pokolenia prawdziwych naocznych świadków odejdą. \nWiek widza: 15+ \nKoprodukcja Teatru im. Ludwika Solskiego w Tarnowie\, Związku Artystów Scen Polskich ZASP – Stowarzyszenie oraz Fundacji na rzecz Rozwoju i Promocji Sztuki Współczesnej Pauza. \nProjekt sfinansowany ze środków Funduszy SKE ZASP – Program Kultura 
URL:https://kultura.tarnow.pl/wydarzenie/auschwitz-tour-3/2025-04-08/
LOCATION:Teatr im. L.Solskiego\, Mickiewicza 4\, Tarnów\, małopolskie\, 33-100\, Polska
CATEGORIES:spektakle
ATTACH;FMTTYPE=image/jpeg:https://kultura.tarnow.pl/wp-content/uploads/Wybrany-plakat-717x1024-1.jpg
GEO:50.0159214;20.987504
X-APPLE-STRUCTURED-LOCATION;VALUE=URI;X-ADDRESS=Teatr im. L.Solskiego Mickiewicza 4 Tarnów małopolskie 33-100 Polska;X-APPLE-RADIUS=500;X-TITLE=Mickiewicza 4:geo:20.987504,50.0159214
END:VEVENT
BEGIN:VEVENT
DTSTART;TZID=Europe/Warsaw:20250408T100000
DTEND;TZID=Europe/Warsaw:20250408T160000
DTSTAMP:20260423T011952
CREATED:20250305T115230Z
LAST-MODIFIED:20250305T115230Z
UID:10024581-1744106400-1744128000@kultura.tarnow.pl
SUMMARY:"Setki wykrzyczanych w głowie słów. O depresji" - wystawa fotografii
DESCRIPTION:Ogólnopolski dzień walki z depresją obchodzony jest 23 lutego\, ale osoby chorujące na depresję walczą o swoje życie każdego dnia. Wesprzyj je w tej walce. \nDepresja to nie to samo co chandra. Depresja to choroba o złożonych przyczynach (psychologicznych\, neurofizjologicznych i genetycznych\, społecznych). Nie wolno lekceważyć jej objawów. Szkodliwe jest bagatelizowanie tej choroby np. przez nazywanie Blue Monday – dniem depresyjnym – bo tu nie o ponurą pogodę chodzi i niski stan konta\, albo mówienie osobie chorej: weź się w garść! \nJeśli przez dwa tygodnie zauważasz u siebie lub bliskich (część z tych objawów): obniżony nastrój\, spadek aktywności i energii\, trudności z koncentracją\, nadmierne lub nieadekwatne poczucie winy\, beznadziejności\, zmianę apetytu lub snu\, czy nieznikające poczucie zmęczenia – poszukaj pomocy. Powiedz komuś zaufanemu jak się czujesz. Skonsultuj się ze specjalistą – psychologiem\, psychoterapeutą\, psychiatrą. Zadzwoń pod telefon zaufania dla dzieci\ni młodzieży 116 111 lub dla dorosłych 116 123 \nPomysł sesji fotograficznej i modelka: Joanna Kurek. Kuratorka\, oko i palec na spuście: Dorota Omylska. \nWystawa będzie dostępna w holu Dom.Ku do 18 kwietnia. \n 
URL:https://kultura.tarnow.pl/wydarzenie/setki-wykrzyczanych-w-glowie-slow-o-depresji-wystawa-fotografii/2025-04-08/
LOCATION:Dom Kultury Westerplatte 8a\, Westerplatte 8a\, Tarnów\, Polska - małopolskie\, 33-100\, Polska
CATEGORIES:wystawy
ORGANIZER;CN="Dom Kultury Westerplatte 8a":MAILTO:westerplatte@tck.pl
GEO:50.0273033;21.0087361
X-APPLE-STRUCTURED-LOCATION;VALUE=URI;X-ADDRESS=Dom Kultury Westerplatte 8a Westerplatte 8a Tarnów Polska - małopolskie 33-100 Polska;X-APPLE-RADIUS=500;X-TITLE=Westerplatte 8a:geo:21.0087361,50.0273033
END:VEVENT
BEGIN:VEVENT
DTSTART;TZID=Europe/Warsaw:20250408T100000
DTEND;TZID=Europe/Warsaw:20250408T170000
DTSTAMP:20260423T011952
CREATED:20250326T080156Z
LAST-MODIFIED:20250326T080156Z
UID:10024628-1744106400-1744131600@kultura.tarnow.pl
SUMMARY:Wystawa "Oczopląs"
DESCRIPTION:Tarnowskie Centrum Kultury oraz Akademia Tarnowska zapraszają do obejrzenia nowej wystawy prac dyplomowych studentów Wydziału Sztuki. Ekspozycja\, nosząca nazwę „Oczopląs”\, będzie dostępna do zobaczenia w Galerii TCK\, ukazując twórczość młodych artystów w różnorodnych formach\, z zakresu grafiki i wzornictwa. \nMiejsce: Galeria TCK (Tarnów\, Rynek 5)\nTermin: 5 – 26 kwietnia 2025 r.\nGodziny otwarcia: Poniedziałek–piątek: 10:00–18:00\, Sobota: 10:00–17:00\nWstęp wolny. \nWystawa „Oczopląs” to prezentacja tegorocznych prac dyplomowych studentów\, którzy ukończyli kierunki grafika oraz wzornictwo (dizajn). Na ekspozycji będzie można zobaczyć szeroki wachlarz realizacji\, obejmujących projektowanie produktów\, modę\, komunikację wizualną\, grafikę wydawniczą\, multimedialną i reklamową. \nJest to już dziewiąta edycja wystawy\, która powstała w ramach owocnej współpracy Wydziału Sztuki z Tarnowskim Centrum Kultury. W trakcie trwania wystawy\, w Galerii TCK\, odbędą się również obrony prac dyplomowych\, które będą miały formę otwartą\, dostępną dla szerokiej publiczności. To doskonała okazja\, by nie tylko podziwiać efekty twórczej pracy młodych artystów\, ale także uczestniczyć w ich ważnym momencie edukacyjno-artystycznego rozwoju.
URL:https://kultura.tarnow.pl/wydarzenie/wystawa-oczoplas-2/2025-04-08/
LOCATION:Tarnowskie Centrum Kultury\, Rynek 5\, Tarnów\, małopolskie\, 33-100\, Polska
CATEGORIES:wystawy
ATTACH;FMTTYPE=image/jpeg:https://kultura.tarnow.pl/wp-content/uploads/f4f575a1efac8d8668ed3ba11620ceec.jpeg
GEO:50.012155;20.9878542
X-APPLE-STRUCTURED-LOCATION;VALUE=URI;X-ADDRESS=Tarnowskie Centrum Kultury Rynek 5 Tarnów małopolskie 33-100 Polska;X-APPLE-RADIUS=500;X-TITLE=Rynek 5:geo:20.9878542,50.012155
END:VEVENT
BEGIN:VEVENT
DTSTART;TZID=Europe/Warsaw:20250408T170000
DTEND;TZID=Europe/Warsaw:20250408T183000
DTSTAMP:20260423T011952
CREATED:20250403T073215Z
LAST-MODIFIED:20250403T073215Z
UID:10024673-1744131600-1744137000@kultura.tarnow.pl
SUMMARY:Koncert akordeonowy
DESCRIPTION:
URL:https://kultura.tarnow.pl/wydarzenie/koncert-akordeonowy-4/
LOCATION:Sala Koncertowa Zespołu Szkół Muzycznych\, Lippóczy’ego 4\, Tarnów\, małopolskie\, 33-100\, Polska
CATEGORIES:koncerty
ATTACH;FMTTYPE=image/jpeg:https://kultura.tarnow.pl/wp-content/uploads/koncert-akordeonowy.jpg
ORGANIZER;CN="Zesp%C3%B3%C5%82 Szk%C3%B3%C5%82 Muzycznych":MAILTO:szkola@zsmuz.tarnow.pl
GEO:50.0205582;20.9801972
X-APPLE-STRUCTURED-LOCATION;VALUE=URI;X-ADDRESS=Sala Koncertowa Zespołu Szkół Muzycznych Lippóczy’ego 4 Tarnów małopolskie 33-100 Polska;X-APPLE-RADIUS=500;X-TITLE=Lippóczy’ego 4:geo:20.9801972,50.0205582
END:VEVENT
BEGIN:VEVENT
DTSTART;TZID=Europe/Warsaw:20250408T180000
DTEND;TZID=Europe/Warsaw:20250408T193000
DTSTAMP:20260423T011952
CREATED:20250402T064809Z
LAST-MODIFIED:20250402T064832Z
UID:10024658-1744135200-1744140600@kultura.tarnow.pl
SUMMARY:Akademia Architektury "Dobry smak w złym guście"
DESCRIPTION:Pierwsza część zajęć to autorska prezentacja na temat sposobu w jaki – poprzez historię\, w Polsce i na świecie – ewoluowało pojęcie dobrego i złego gustu\, a także czym dla rozwoju ludzkości był nurt zwany postmodernizmem. \nW drugiej części zajęć miejsce ma dyskusja\, wymiana doświadczeń dotyczących indywidualnych zapatrywań na kwestie estetyki\, a zadaniem będzie zaprojektowanie wnętrza mieszkalnego\, mebla\, ubioru dla osoby powszechnie uznawanej za popularną\, lub scenografii dla masowo odbieranego przez telewidzów widowiska rozrywkowego. Zadanie ma pomóc w świadomej dekonstrukcji procesów dostosowywania profesjonalnych projektów do powszechnych gustów. \nCzym jest Akademia Architektury? \nAkademia Architektury jest cyklem spotkań dla młodzieży\, mającym na celu uwrażliwianie na zagadnienia z zakresu urbanistyki\, architektury i wzornictwa. Dla autorów scenariusza oraz prowadzących warsztaty ważne jest\, aby inspirować do niezależnego\, krytycznego i odpowiedzialnego myślenia o naszym otoczeniu. \nJak wyglądają zajęcia? \nKażde zajęcia to oprócz przekazywanej  w formie wykładów atrakcyjnej porcji wiedzy teoretycznej\, także indywidualne lub zespołowe ćwiczenia dopasowane do omawianej tematyki. Treść zajęć dotyczy architektury\, urbanistyki\, designu oraz dziedzin pokrewnych\, takich jak: historia sztuki\, malarstwo\, grafika\, fotografia itp. \nPROWADZĄCY: \nBartłomiej Pochopień jest absolwentem Wydziału Architektury i Urbanistyki Politechniki Krakowskiej. Jako architekt współpracował z takimi twórcami jak: Marek Dunikowski\, Stanisław Niemczyk i Tomasz Konior. Autor licznych\, autorskich projektów architektonicznych. W 2017 roku otrzymał nagrodę Architektura Roku województwa śląskiego w kategorii Dom jednorodzinny\, a także wyróżnienie Młody Twórca Architektury Śląskiej. W latach 2014-2015 był odpowiedzialny za stworzenie projektu koncepcyjnego „Nowej Wystawy Głównej” w Państwowym Muzeum Auschwitz-Birkenau. Od 2016 jest silnie zaangażowany w misję edukacji architektonicznej w ramach inicjatywy Akademia Architektury\, między innymi przeprowadzając setki indywidualnych\, a także cyklicznych spotkań\, warsztatów i wykładów. W 2024 roku został stypendystą Miasta Krakowa realizując projekt Architektoniczny Elementarz Krakowa\, w 2021 wyróżniony wsparciem Ministerstwa Kultury i Dziedzictwa Narodowego w dziedzinie Sztuki Wizualne tworząc cykl pod nazwą „Kształty Małopolski”\, natomiast w roku 2020 był stypendystą Miasta Tarnowa w dziedzinie Film realizując projekt pod nazwą „Kształty Tarnowa”. W 2023 roku Akademia Architektury we współpracy z Galerią BWA w Tarnowie objęła wszystkie przedszkola i szkoły podstawowe w tym mieście programem edukacyjnym pod nazwą Architektoniczny Elementarz.
URL:https://kultura.tarnow.pl/wydarzenie/akademia-architektury-dobry-smak-w-zlym-guscie/
LOCATION:Biuro Wystaw Artystycznych\, ul. Słowackiego 1\, Tarnów\, małopolskie\, 33-100\, Polska
CATEGORIES:warsztaty
ATTACH;FMTTYPE=image/jpeg:https://kultura.tarnow.pl/wp-content/uploads/akademia-architektury-plakat-2025_lq-1.jpg
ORGANIZER;CN="Biuro Wystaw Artystycznych":MAILTO:biuro@bwa.tarnow.pl
GEO:50.0178761;20.9827521
X-APPLE-STRUCTURED-LOCATION;VALUE=URI;X-ADDRESS=Biuro Wystaw Artystycznych ul. Słowackiego 1 Tarnów małopolskie 33-100 Polska;X-APPLE-RADIUS=500;X-TITLE=ul. Słowackiego 1:geo:20.9827521,50.0178761
END:VEVENT
BEGIN:VEVENT
DTSTART;TZID=Europe/Warsaw:20250408T180000
DTEND;TZID=Europe/Warsaw:20250408T200000
DTSTAMP:20260423T011952
CREATED:20250402T070232Z
LAST-MODIFIED:20250402T070232Z
UID:10024662-1744135200-1744142400@kultura.tarnow.pl
SUMMARY:Plansza łączy. Gramy w Dom.Ku
DESCRIPTION:Gry planszowe w Domu Kultury to już tradycja\, ale zawsze jest miejsce na nowe znajomości i świeże emocje! Wpadajcie rodzinnie\, ze znajomymi albo solo – u nas zawsze znajdziecie ekipę do grania. Planszówki to idealny sposób na oderwanie się od codzienności: ćwiczą logikę\, rozwijają kreatywne myślenie i zapraszają do przeżycia przygód\, których nie znajdziecie nigdzie indziej. Kto wie\, może odkryjecie swoją nową ulubioną grę? Wstęp wolny. \n8 kwietnia (wtorek)\, godz. 18:00 – 20:00 \n 
URL:https://kultura.tarnow.pl/wydarzenie/plansza-laczy-gramy-w-dom-ku-9/
LOCATION:Dom Kultury Westerplatte 8a\, Westerplatte 8a\, Tarnów\, Polska - małopolskie\, 33-100\, Polska
CATEGORIES:spotkania
ORGANIZER;CN="Dom Kultury Westerplatte 8a":MAILTO:westerplatte@tck.pl
GEO:50.0273033;21.0087361
X-APPLE-STRUCTURED-LOCATION;VALUE=URI;X-ADDRESS=Dom Kultury Westerplatte 8a Westerplatte 8a Tarnów Polska - małopolskie 33-100 Polska;X-APPLE-RADIUS=500;X-TITLE=Westerplatte 8a:geo:21.0087361,50.0273033
END:VEVENT
END:VCALENDAR