BEGIN:VCALENDAR
VERSION:2.0
PRODID:-//kultura.tarnów - ECPv6.4.0.1//NONSGML v1.0//EN
CALSCALE:GREGORIAN
METHOD:PUBLISH
X-WR-CALNAME:kultura.tarnów
X-ORIGINAL-URL:https://kultura.tarnow.pl
X-WR-CALDESC:Wydarzenia dla
REFRESH-INTERVAL;VALUE=DURATION:PT1H
X-Robots-Tag:noindex
X-PUBLISHED-TTL:PT1H
BEGIN:VTIMEZONE
TZID:Europe/Warsaw
BEGIN:DAYLIGHT
TZOFFSETFROM:+0100
TZOFFSETTO:+0200
TZNAME:CEST
DTSTART:20250330T010000
END:DAYLIGHT
BEGIN:STANDARD
TZOFFSETFROM:+0200
TZOFFSETTO:+0100
TZNAME:CET
DTSTART:20251026T010000
END:STANDARD
END:VTIMEZONE
BEGIN:VEVENT
DTSTART;TZID=Europe/Warsaw:20250406T100000
DTEND;TZID=Europe/Warsaw:20250406T170000
DTSTAMP:20260423T011951
CREATED:20250225T092551Z
LAST-MODIFIED:20250225T092551Z
UID:10024507-1743933600-1743958800@kultura.tarnow.pl
SUMMARY:Grzegorz Hańderek - "Podmuch"
DESCRIPTION:Z technicznego punktu widzenia ta wystawa należy do grupy wyjątkowo lekkich. Jest zbiorem rysunków tworzonych bez użycia narzędzi. Główną bohaterką prac okazuje się sadza\, która wtapia się w różne powierzchnie. Zapisuje białe flagi powiewające w przestrzeni miasta\, osadza się na kartkach papieru\, unosi się w pomieszczeniach zostawiając ślady na ścianach i podłogach. \nJej użycie jako efektu procesu spalania\, buduje sieć odniesień do innych substancji cyrkulujących w przyrodzie. Pozwala na fantazjowanie o dowodach rzeczowych pozbawionych konturów. Rozproszonym archiwum w ciągłym ruchu\, dalekim od uspokajającego wyobrażenia na temat przedmiotów i ciał\, jako obiektów o określonych wymiarach. \nSypka natura sadzy zachęca do opowiadania o długim trwaniu materii\, obserwowanym w rytmie falowym\, od powolnego zagęszczania do rozproszenia. Jej rozcieranie w palcach wyznacza drogę od kruszejących skał\, które zamieniają się w glebę\, przez składające się na nią pierwiastki\, po korzystające z nich organizmy\, przekształcające się w złoża węgla\, wydobyte\, spalone i unoszące się w powietrzu. \nDziałania rysunkowe Grzegorza Hańderka to pejzaże z popiołów\, formy skrystalizowane z  resztek i pozostałości. Opowieści\, których mechanizmem napędowym jest rozkład. Zbudowane z drobin w normalnych warunkach prawie nieuchwytnych dla oka\, które w wyniku wcierania i wsączania w różne powierzchnie\, zostają na moment unieruchomione i tylko przez to stają się widoczne. \nJak wszystko co sproszkowane\, kryją w sobie potencjał ruchu. Łatwo wyobrazić sobie podmuch\, który z powrotem unosi je w powietrze. Jego siła sprawia\, że przestrzeń wypełnia się czarnym pyłem tak gęsto\, że uniemożliwia widzenie. Skazuje władzę oka na bezużyteczność. Tym samym zagraża wszystkim modelom rzeczywistości\, których głównym celem jest kategoryzowanie i potrzeba wnikliwego poznania przynoszącego jednoznaczny wynik. \nChoć moment ciemności\, kiedy popioły cyrkulują w powietrzu nie trwa długo\, przynosi inne formy myślenia. Nową gramatykę opartą na wdechu i wydechu\, próbę orientacji w przestrzeni poza kontrolą spojrzenia. Kontakt z popiołem przypomina o naszej podległości wobec sił grawitacji. Ta kłopotliwa sytuacja na szczęście szybko się rozwiewa. Pyły w końcu opadają. Choć przestają być widoczne\, nieustannie osiadają na skórze i wypełniają płuca. Pozostawiają w krajobrazie zaskakująco cienką warstwę. \nGrzegorz Hańderek (ur. 1977\, Zabrze)\nArtysta wizualny\, kurator\, nauczyciel akademicki. W swoich działaniach koncentruje się na procesach realizowanych zarówno indywidualnie – czego efektem są m.in. rysunki oraz instalacje tworzone w oparciu o cielesne doświadczenia materii – jak i kolektywnie: inicjując zdarzenia na styku sztuki\, przestrzeni społecznej i ekosystemu publicznego. Jego projekty splatają wielogłosowe doświadczenia\, ślady i formy ekspresji zarówno podmiotów ludzkich\, jak i nieludzkich\, eksplorując sztukę jako medium relacyjne. Absolwent Akademii Sztuk Pięknych i Uniwersytetu Śląskiego w Katowicach. Na ASP w Katowicach prowadzi Pracownię Interpretacji Literatury\, a od 2020 roku pełni funkcję Rektora uczelni. \n6.03 – 6.04.2025\n \nBWA Tarnów / Pałacyk Strzelecki\, ul. Słowackiego 1 \nKuratorka Marta Lisok
URL:https://kultura.tarnow.pl/wydarzenie/grzegorz-handerek-podmuch-2/2025-04-06/
LOCATION:Biuro Wystaw Artystycznych\, ul. Słowackiego 1\, Tarnów\, małopolskie\, 33-100\, Polska
CATEGORIES:wystawy
ORGANIZER;CN="Biuro Wystaw Artystycznych":MAILTO:biuro@bwa.tarnow.pl
GEO:50.0178761;20.9827521
X-APPLE-STRUCTURED-LOCATION;VALUE=URI;X-ADDRESS=Biuro Wystaw Artystycznych ul. Słowackiego 1 Tarnów małopolskie 33-100 Polska;X-APPLE-RADIUS=500;X-TITLE=ul. Słowackiego 1:geo:20.9827521,50.0178761
END:VEVENT
BEGIN:VEVENT
DTSTART;TZID=Europe/Warsaw:20250406T100000
DTEND;TZID=Europe/Warsaw:20250406T170000
DTSTAMP:20260423T011951
CREATED:20250225T093108Z
LAST-MODIFIED:20250225T093108Z
UID:10024530-1743933600-1743958800@kultura.tarnow.pl
SUMMARY:Grzegorz Kwiek - "Kserofity"
DESCRIPTION:Wystawa Kserofity porusza temat botaniki przyszłości\, kreując nową rzeczywistość przepełnioną formami na pograniczu organicznych i syntetycznych. Cielesność tych form ujawnia się w subtelnych napięciach między kształtem a fakturą\, przywołując skojarzenia z materią żywego organizmu. Studium gatunku\, którego istotą jest przetrwanie mimo zmienności klimatu\, rodzi w odbiorcy zarówno niepokój\, jak i ciekawość nad przyszłością życia na Ziemi. \nKserofity to niezwykle ozdobne rośliny przystosowane do życia w trudnych warunkach. Nieustannie narażone są na brak wody oraz ekstremalne temperatury – zarówno wysokie\, jak i niskie. Rośliny te rozprzestrzeniają się w obszarach\, w których konkurencyjne gatunki nie mają szansy na zdobycie składników odżywczych. Kseromorficzność to cecha\, która warunkuje ich przeżycie. \nGrzegorz Kwiek (ur. 1993\, Tarnów) – Absolwent Wydziału Grafiki i Sztuki Mediów Akademii Sztuk Pięknych im. Eugeniusza Gepperta we Wrocławiu (dyplom 2021). Wykładowca na Wydziale Sztuki Akademii Tarnowskiej. Pasjonat tradycyjnej fotografii oraz działań na styku mediów analogowych i cyfrowych. Tworzy w obszarze szeroko pojętych sztuk multimedialnych. \nOprawa graficzna: Joanna Tyborowska \n6.03 – 6.04.2025\nBWA Tarnów / Pałacyk Strzelecki\, ul. Słowackiego 1
URL:https://kultura.tarnow.pl/wydarzenie/grzegorz-kwiek-kserofity-2/2025-04-06/
LOCATION:Biuro Wystaw Artystycznych\, ul. Słowackiego 1\, Tarnów\, małopolskie\, 33-100\, Polska
CATEGORIES:wystawy
ORGANIZER;CN="Biuro Wystaw Artystycznych":MAILTO:biuro@bwa.tarnow.pl
GEO:50.0178761;20.9827521
X-APPLE-STRUCTURED-LOCATION;VALUE=URI;X-ADDRESS=Biuro Wystaw Artystycznych ul. Słowackiego 1 Tarnów małopolskie 33-100 Polska;X-APPLE-RADIUS=500;X-TITLE=ul. Słowackiego 1:geo:20.9827521,50.0178761
END:VEVENT
BEGIN:VEVENT
DTSTART;TZID=Europe/Warsaw:20250406T100000
DTEND;TZID=Europe/Warsaw:20250406T170000
DTSTAMP:20260423T011951
CREATED:20250331T093708Z
LAST-MODIFIED:20250331T093708Z
UID:10024649-1743933600-1743958800@kultura.tarnow.pl
SUMMARY:"Moimi oczami malowane"
DESCRIPTION:2 kwietnia – Światowy Dzień Świadomości Autyzmu \n31.03-9.04.2025\nMultimedialne Centrum Artystyczne / Wałowa 25 – oddział BWA Tarnów\nwstęp wolny \nŚroda\, 2.04.2025 – oficjalne otwarcie wystawy\n9:30 – przemarsz uczniów i nauczycieli z przedszkoli integracyjnych w Tarnowie spod pomnika gen. Bema przez Rynek i Pl. Rybny\, aż do Zakątka Spycimira Leliwity\n10:15 – plac przed MCA\, ul. Wałowa 25 – powitanie i otwarcie wystawy \nWystawa prac plastycznych dzieci z autyzmem z Przedszkola Specjalnego nr 36 „Pod Parasolem” przy SOSW oraz dzieci i młodzieży ze Specjalnego Ośrodka Szkolno-Wychowawczego w Tarnowie. \n„Moimi oczami malowane” to już szósta odsłona projektu\, który od początku ma to samo założenie – tworzone przez artystów prace malowane są w dowolnym temacie\, różnymi akcesoriami plastycznymi bez pomocy nauczyciela. To uczniowie i przedszkolaki decydują co powstanie na płótnie\, nauczyciel jest „cieniem” – JEST\, wspiera oraz dostarcza materiały. \nCelem akcji jest zwiększenie świadomości społecznej na temat autyzmu oraz zwrócenie uwagi na potrzebę większej empatii i tolerancji dla odmiennych możliwości oraz potrzeb osób ze spektrum autyzmu. \nAutor książki „Ido w Krainie Autyzmu” powiedział Jestem autystyczny w sposobie odbierania świata\, ale oni są ślepi w sposobie odbierania autyzmu. Ta wystawa oraz inne wydarzenia organizowane są po to abyśmy poszerzyli naszą wiedzę\, dostrzegli ten świat oraz bogate\, emocjonalne wnętrze ludzi w spektrum. Akceptujmy i wspierajmy! \nZaprezentowana twórczość dzieci dała im możliwość wyrażenia siebie oraz zaistnienie w środowisku lokalnym. \nW tym roku prezentujemy 56 prac\, każda z nich to opowieść. O Czym? – zapraszamy na spacer po ich wyobraźni! \nGodziny otwarcia wystawy: \nPoniedziałek 10:00-17:00\nŚroda 10:00-17:00\nCzwartek 10:00-17:00\nNiedziela 10:00-17:00
URL:https://kultura.tarnow.pl/wydarzenie/moimi-oczami-malowane-2/2025-04-06/
LOCATION:Multimedialne Centrum Artystyczne\, Wałowa 25\, Tarnów\, małopolskie\, 33-100\, Polska
CATEGORIES:wystawy
ATTACH;FMTTYPE=image/jpeg:https://kultura.tarnow.pl/wp-content/uploads/487561270_1357650042090010_6110864176521487544_n.jpg
ORGANIZER;CN="Biuro Wystaw Artystycznych":MAILTO:biuro@bwa.tarnow.pl
GEO:50.013866931068;20.987989998201
X-APPLE-STRUCTURED-LOCATION;VALUE=URI;X-ADDRESS=Multimedialne Centrum Artystyczne Wałowa 25 Tarnów małopolskie 33-100 Polska;X-APPLE-RADIUS=500;X-TITLE=Wałowa 25:geo:20.987989998201,50.013866931068
END:VEVENT
BEGIN:VEVENT
DTSTART;TZID=Europe/Warsaw:20250406T120000
DTEND;TZID=Europe/Warsaw:20250406T140000
DTSTAMP:20260423T011951
CREATED:20250320T104829Z
LAST-MODIFIED:20250324T122428Z
UID:10024618-1743940800-1743948000@kultura.tarnow.pl
SUMMARY:85. rocznica Zbrodni Katyńskiej
DESCRIPTION:Jakub Kwaśny Prezydent Tarnowa\, Małgorzata Mękal Przewodnicząca Rady Miejskiej w Tarnowie Stowarzyszenie Rodzin Katyńskich w Tarnowie zapraszają na cykl wydarzeń związanych z obchodami 85. rocznicy Zbrodni Katyńskiej. \nZbrodnia katyńska rozstrzelanie przez NKWD wiosną 1940 roku prawie 22 tys. obywateli Polski. Zbrodnia zgodnie z uchwałą Sejmu RP ma znamiona ludobójstwa i jest kwalifikowana jako zbrodnia wojenna\, zbrodnia przeciwko ludzkości\, zbrodnia przeciwko pokojowi\, zbrodnia komunistyczna. \nEgzekucji ofiar\, uznanych za „wrogów władzy sowieckiej”\, NKWD dokonywało przez strzał w tył głowy z broni krótkiej. Ofiarami zbrodni byli oficerowie Wojska Polskiego\, także pochodzący z rezerwy: naukowcy\, lekarze\, inżynierowie\, prawnicy\, nauczyciele\, urzędnicy państwowi\, przedsiębiorcy\, przedstawiciele wolnych zawodów. \n6.04. godz. 12.00\nMsza św. w Kościele xx Filipinów\nnastępnie uroczystości przy Grobie\nNieznanego Żołnierza \n7 – 11.04.\nWystawa „Ocalić od zapomnienia Golgotę Wschodu”\nDom Kultury Westerplatte \n9.04. godz. 11.00\nBieg pamięci „Katyń… 1940. Biegamy\, bo pamiętamy!”\nAleja Dębów Katyńskich \n11.04. godz. 10.00\nOkolicznościowa akademia w Domu Kultury Westerplatte przygotowana przez uczniów.\nI LO w Tarnowie \nPatronat honorowy: \nPani Urszula Augustyn Poseł na Sejm RP\nPani Izabella Sariusz – Skąpska Prezes Zarządu Federacji Rodzin Katyńskich\nPan Jakub Kwaśny Prezydent Tarnowa\nMuzeum Katyńskie – Oddział Martyrologicznego Muzeum Wojska Polskiego \nOrganizatorzy: \nStowarzyszenie Rodzin Katyńskich w Tarnowie\nUrząd Miasta Tarnowa\nDom Kultury Westerplatte \nSponsorzy: \nZIGRA Sp. z o.o.\nKU AZS PWSZ\nDECATHLON
URL:https://kultura.tarnow.pl/wydarzenie/85-rocznica-zbrodni-katynskiej/
LOCATION:Grób Nieznanego Żołnierza\, Pl. Ofiar Katynia\, Tarnów\, małopolskie\, 33-100\, Polska
CATEGORIES:uroczystości patriotyczne
ATTACH;FMTTYPE=image/jpeg:https://kultura.tarnow.pl/wp-content/uploads/DSC_8447-scaled.jpg
GEO:50.0135389;20.9859993
X-APPLE-STRUCTURED-LOCATION;VALUE=URI;X-ADDRESS=Grób Nieznanego Żołnierza Pl. Ofiar Katynia Tarnów małopolskie 33-100 Polska;X-APPLE-RADIUS=500;X-TITLE=Pl. Ofiar Katynia:geo:20.9859993,50.0135389
END:VEVENT
BEGIN:VEVENT
DTSTART;TZID=Europe/Warsaw:20250406T150000
DTEND;TZID=Europe/Warsaw:20250406T180000
DTSTAMP:20260423T011951
CREATED:20250402T070041Z
LAST-MODIFIED:20250402T070041Z
UID:10024661-1743951600-1743962400@kultura.tarnow.pl
SUMMARY:Śpiew biały i pieśni wiosenne – warsztaty ze śpiewaczką Anną Długosz
DESCRIPTION:6 kwietnia (niedziela)\, godz. 15:00-18:00 \nDawniej śpiew pełnił wiele istotnych funkcji. Służył budowaniu wspólnoty i przynależności. Służył celebrowaniu lub opłakiwaniu. Pomagał głęboko skontaktować się z tym co tu i teraz\, przeżyć to\, co aktualnie ważne. Zapraszamy na warsztat tradycyjnych pieśni związanych z wyczekiwanym nadejściem wiosny. Spotkanie rozpoczniemy ćwiczeniami oddechowymi\, uwalnianiem napięć blokujących głos\, a także technikami pomagającymi wydobyć pełnię głosu. \nWstęp płatny: 40 zł od osoby\, obowiązują zapisy: 888 655 101.\nProwadząca: Anna Długosz – jest nauczycielką śpiewu tradycyjnego\, autorką projektów związanych z muzyką tradycyjną od 2014 roku. Z pochodzenia jest Czarną Góralką z Piwnicznej Zdroju. W jej rodzinie kultywuje się tradycje śpiewacze. Uczennica Jana Bernada\, Moniki Mamińskiej\, Agnieszki Szokaluk-Gorczycy\, Tetiany Sopiłki\, Barbary Majnarić. Obecnie uczy się białego śpiewu od łemkowskiej śpiewaczki Stefanii Bortniczak. Występowała m.in. na festiwalach Najstarsze Pieśni Europy\, czy KODY.
URL:https://kultura.tarnow.pl/wydarzenie/spiew-bialy-i-piesni-wiosenne-warsztaty-ze-spiewaczka-anna-dlugosz/
LOCATION:Dom Kultury Westerplatte 8a\, Westerplatte 8a\, Tarnów\, Polska - małopolskie\, 33-100\, Polska
CATEGORIES:warsztaty
ORGANIZER;CN="Dom Kultury Westerplatte 8a":MAILTO:westerplatte@tck.pl
GEO:50.0273033;21.0087361
X-APPLE-STRUCTURED-LOCATION;VALUE=URI;X-ADDRESS=Dom Kultury Westerplatte 8a Westerplatte 8a Tarnów Polska - małopolskie 33-100 Polska;X-APPLE-RADIUS=500;X-TITLE=Westerplatte 8a:geo:21.0087361,50.0273033
END:VEVENT
BEGIN:VEVENT
DTSTART;TZID=Europe/Warsaw:20250406T170000
DTEND;TZID=Europe/Warsaw:20250406T193000
DTSTAMP:20260423T011951
CREATED:20250325T132113Z
LAST-MODIFIED:20250325T132113Z
UID:10024624-1743958800-1743967800@kultura.tarnow.pl
SUMMARY:Tarnów Gospel Day 2025
DESCRIPTION:6 kwietnia o godz. 17:00 w Sali Koncertowej Zespołu Szkół Muzycznych w Tarnowie\, w ramach kolejnej edycji wydarzenia pn. Tarnów Gospel Day wystąpią: Tarnowski Chór Gos.pl oraz Colin Williams – znakomity brytyjski wokalista\, dyrygent i instruktor. Chórowi towarzyszyć będzie sekcja instrumentalna złożona z najlepszych tarnowskich muzyków. Publiczność usłyszy kilkanaście utworów muzyki gospel w aranżacjach Bartłomieja Szułakiewicza. To będzie wieczór pełen muzycznych emocji\, od nostalgii i wzruszeń aż po energiczny i żywiołowy taniec. \nTarnowski Chór Gos.pl to zespół\, który swoim śpiewem od 22 lat nieprzerwanie głosi radosne przesłanie płynące z Ewangelii. Trzon zespołu stanowi blisko czterdziestoosobowy chór złożony z pasjonatów wspólnego śpiewania. Na czele zespołu stoi jego współzałożyciel\, kierownik muzyczny\, kompozytor i aranżer – Bartłomiej Szułakiewicz. Chórem dyryguje znana ze swojej bogatej działalności muzycznej – Katarzyna Wrona.
URL:https://kultura.tarnow.pl/wydarzenie/tarnow-gospel-day-2025/
LOCATION:Sala Koncertowa Zespołu Szkół Muzycznych\, Lippóczy’ego 4\, Tarnów\, małopolskie\, 33-100\, Polska
CATEGORIES:koncerty
ATTACH;FMTTYPE=image/jpeg:https://kultura.tarnow.pl/wp-content/uploads/480560854_1168060508661694_1640880579607822713_n.jpg
GEO:50.0205582;20.9801972
X-APPLE-STRUCTURED-LOCATION;VALUE=URI;X-ADDRESS=Sala Koncertowa Zespołu Szkół Muzycznych Lippóczy’ego 4 Tarnów małopolskie 33-100 Polska;X-APPLE-RADIUS=500;X-TITLE=Lippóczy’ego 4:geo:20.9801972,50.0205582
END:VEVENT
BEGIN:VEVENT
DTSTART;TZID=Europe/Warsaw:20250406T180000
DTEND;TZID=Europe/Warsaw:20250406T190000
DTSTAMP:20260423T011951
CREATED:20250227T094721Z
LAST-MODIFIED:20250227T134935Z
UID:10024535-1743962400-1743966000@kultura.tarnow.pl
SUMMARY:"Zamek na Czorsztynie\, czyli Bojomir i Wanda"
DESCRIPTION:„Zamek na Czorsztynie\, czyli Bojomir i Wanda” opera Karola Kurpińskiego w 240. rocznicę urodzin kompozytora. \nDziewiętnastowieczna opera Karola Kurpińskiego „Zamek na Czorsztynie” to zabawna wodewilowa opowieść przepełniona polską muzyką odnoszącą się do ducha narodowego: ludowe motywy i tańce\, melodyka\, orkiestracja. \nWielobarwne postaci prezentują dziewiętnastowieczne stereotypowe postawy przedstawicieli Rzeczypospolitej Sarmackiej (żołnierz wracający z wojny\, jego tchórzliwy sługa etc..) – pełne energii\, czasem nieco nostalgiczne sprawią\, że publiczność może liczyć na niezapomniane wrażenia w komediowym tonie. \nW burzliwą noc do pozornie opustoszałego zamku przybywa rycerz Bojomir z komicznym. tchórzliwym sługą. Pojawia się groźny właściciel zamku i goście zostają zaproszeni na wieczerzę. Łucja uprzedza podróżnych o grasujących nocą duchach. Duchem okazuje się nieszczęśliwa Wanda\, która w Bojomirze rozpoznaje zaginionego ukochanego.” \n„Zamek na Czorsztynie” w reżyserii Ryszarda Cieśli to świetna okazja by ponownie odkryć i docenić bogactwo muzyki Karola Kurpińskiego. Połączenie historycznego kontekstu z nowoczesnym podejściem sprawia\, że dzieło staje się nie tylko hołdem dla kompozytora\, ale także aktualnym\, przeżyciem artystycznym. Profesjonalne kierownictwo muzyczne Marcina Piotra Łopackiego i opieka artystyczna Ryszarda Karczykowskiego gwarantują najwyższy poziom wykonawczy. To wydarzenie z pewnością trafi do miłośników muzyki klasycznej jak i do tych\, którzy cenią innowacyjne podejście do tradycji. \n\nMuzyka: Karol Kurpiński\nLibretto: Józef Wawrzyniec Krasiński.\nReżyseria: prof. dr hab. Ryszard Cieśla\nOpieka artystyczna: prof. dr hab. Ryszard Karczykowski\nOpracowanie instrumentacji na orkiestrę kameralną: dr Marcin Piotr Łopacki\n\nObsada: \n\nWanda – Karolina Szymańska – sopran\nBojomir – Ernest Tymczyszyn – tenor\nŁucja – Estera Wityńska – mezzosopran\nNikita – Antoni Olszewski – bas\nDobrosław – Witold Żołądkiewicz – baryton\nChór i Orkiestra Rondine – przygotowanie chóru – Katarzyna Wrona\ndyrygent – Marcin Piotr Łopacki
URL:https://kultura.tarnow.pl/wydarzenie/zamek-na-czorsztynie-czyli-bojomir-i-wanda/
LOCATION:Centrum Sztuki Mościce\, Traugutta 1\, Tarnów\, małopolskie\, 33-101\, Polska
CATEGORIES:koncerty
ATTACH;FMTTYPE=image/jpeg:https://kultura.tarnow.pl/wp-content/uploads/img_c4b3ab690131197abc7ec4b4ab5214b4.jpeg
GEO:50.009833;20.92706
X-APPLE-STRUCTURED-LOCATION;VALUE=URI;X-ADDRESS=Centrum Sztuki Mościce Traugutta 1 Tarnów małopolskie 33-101 Polska;X-APPLE-RADIUS=500;X-TITLE=Traugutta 1:geo:20.92706,50.009833
END:VEVENT
BEGIN:VEVENT
DTSTART;TZID=Europe/Warsaw:20250406T190000
DTEND;TZID=Europe/Warsaw:20250406T203000
DTSTAMP:20260423T011951
CREATED:20250221T092810Z
LAST-MODIFIED:20250221T092810Z
UID:10024054-1743966000-1743971400@kultura.tarnow.pl
SUMMARY:SOLski Chór "Piosenka niejedno ma imię"
DESCRIPTION:Drogie Panie i Szanowni Panowie\, zapraszamy na wyjątkowy wieczór pełen muzycznych wspomnień! Chór SOLski przygotował dla Państwa koncert\, który udowodni\, że piosenka niejedno ma imię – a raczej… ma ich całe mnóstwo!\nPod czujnym okiem dyrygentki Weroniki Gajewskiej\, z towarzyszeniem pianisty Piotra Niedojadły\, zabrzmią znane i lubiane przeboje\, które od lat towarzyszą nam w radiu\, przy rodzinnych spotkaniach i na dansingach. Ada\, Magdalena\, Józek czy Heniek – czyje imię wyśpiewamy tym razem? Kto znajdzie w repertuarze swoją muzyczną dedykację?\nDzięki aranżacjom Bartłomieja Szułakiewicza przeniesiemy się w czasy\, gdy na parkietach królowały eleganckie walce\, skoczne twisty i nastrojowe ballady. Będzie dużo uśmiechu\, wspólnego nucenia i odrobina wzruszeń – bo przecież muzyka ma niezwykłą moc przywoływania pięknych wspomnień.\nZapraszamy serdecznie – niech ten koncert będzie okazją do spotkania\, dobrej zabawy i podróży do czasów\, gdy każda melodia miała swoją historię\, a każda piosenka – swoje imię!\n\nBilet normalny: 50 zł\, bilet grupowy od 6 osób: 40 zł/os.
URL:https://kultura.tarnow.pl/wydarzenie/solski-chor-piosenka-niejedno-ma-imie/
LOCATION:Teatr im. L.Solskiego\, Mickiewicza 4\, Tarnów\, małopolskie\, 33-100\, Polska
CATEGORIES:koncerty
ATTACH;FMTTYPE=image/jpeg:https://kultura.tarnow.pl/wp-content/uploads/480796246_1042718434548419_3112493012148475957_n.jpg
GEO:50.0159214;20.987504
X-APPLE-STRUCTURED-LOCATION;VALUE=URI;X-ADDRESS=Teatr im. L.Solskiego Mickiewicza 4 Tarnów małopolskie 33-100 Polska;X-APPLE-RADIUS=500;X-TITLE=Mickiewicza 4:geo:20.987504,50.0159214
END:VEVENT
END:VCALENDAR