BEGIN:VCALENDAR
VERSION:2.0
PRODID:-//kultura.tarnów - ECPv6.4.0.1//NONSGML v1.0//EN
CALSCALE:GREGORIAN
METHOD:PUBLISH
X-ORIGINAL-URL:https://kultura.tarnow.pl
X-WR-CALDESC:Wydarzenia dla
REFRESH-INTERVAL;VALUE=DURATION:PT1H
X-Robots-Tag:noindex
X-PUBLISHED-TTL:PT1H
BEGIN:VTIMEZONE
TZID:Europe/Warsaw
BEGIN:DAYLIGHT
TZOFFSETFROM:+0100
TZOFFSETTO:+0200
TZNAME:CEST
DTSTART:20250330T010000
END:DAYLIGHT
BEGIN:STANDARD
TZOFFSETFROM:+0200
TZOFFSETTO:+0100
TZNAME:CET
DTSTART:20251026T010000
END:STANDARD
END:VTIMEZONE
BEGIN:VEVENT
DTSTART;TZID=Europe/Warsaw:20250403T100000
DTEND;TZID=Europe/Warsaw:20250403T120000
DTSTAMP:20260423T033853
CREATED:20250402T065809Z
LAST-MODIFIED:20250402T065809Z
UID:10024659-1743674400-1743681600@kultura.tarnow.pl
SUMMARY:"Muzyka dla smyka" – zajęcia gordonowskie dla dzieci
DESCRIPTION:Zajęcia odbywają się w dwóch grupach wiekowych: godz. 10:00 0-18 miesięcy oraz godz. 11:15 18-36 miesięcy. \nRodzimy się z naturalnym talentem muzycznym – pomóżmy dzieciom go utrzymać! Zapraszamy na zajęcia umuzykalniające oparte na metodzie gordonowskiej\, które rozwijają wrażliwość muzyczną i kreatywność w sposób naturalny i pełen zabawy. Podczas spotkań dzieci wraz z opiekunem uczestniczą w zabawach muzycznych.\nWykorzystywane są melodie bez słów\, rytmiczne sekwencje i ruch\, by wspierać wszechstronny rozwój dziecka. \nWstęp jest płatny: 40 zł od uczestnika wraz z jednym opiekunem.\nObowiązują zapisy: 888 655 101\, a.radon@tck.pl Na listę zapisujemy dziecko – opiekun jest zapisany automatycznie\, jego obecność na zajęciach jest obowiązkowa. Prosimy o punktualność.\nProwadząca: Magdalena Zaranek – absolwentka muzykologii\, nauczycielka\, certyfikowana trenerka zajęć gordonowskich.
URL:https://kultura.tarnow.pl/wydarzenie/muzyka-dla-smyka-zajecia-gordonowskie-dla-dzieci-2/2025-04-03/
LOCATION:Dom Kultury Westerplatte 8a\, Westerplatte 8a\, Tarnów\, Polska - małopolskie\, 33-100\, Polska
CATEGORIES:warsztaty
ORGANIZER;CN="Dom Kultury Westerplatte 8a":MAILTO:westerplatte@tck.pl
GEO:50.0273033;21.0087361
X-APPLE-STRUCTURED-LOCATION;VALUE=URI;X-ADDRESS=Dom Kultury Westerplatte 8a Westerplatte 8a Tarnów Polska - małopolskie 33-100 Polska;X-APPLE-RADIUS=500;X-TITLE=Westerplatte 8a:geo:21.0087361,50.0273033
END:VEVENT
BEGIN:VEVENT
DTSTART;TZID=Europe/Warsaw:20250403T100000
DTEND;TZID=Europe/Warsaw:20250403T130000
DTSTAMP:20260423T033853
CREATED:20250203T140644Z
LAST-MODIFIED:20250305T110750Z
UID:10023969-1743674400-1743685200@kultura.tarnow.pl
SUMMARY:Muzyka dla smyka – zajęcia gordonowskie dla dzieci
DESCRIPTION:Rodzimy się z naturalnym talentem muzycznym – pomóżmy dzieciom go utrzymać! Zapraszamy na zajęcia umuzykalniające oparte na metodzie gordonowskiej\, które rozwijają wrażliwość muzyczną i kreatywność w sposób naturalny i pełen zabawy. Podczas spotkań dzieci wraz z opiekunem uczestniczą w zabawach muzycznych. Wykorzystywane są melodie bez słów\, rytmiczne sekwencje i ruch\, by wspierać wszechstronny rozwój dziecka. \nWstęp jest płatny: 40 zł od uczestnika wraz z jednym opiekunem. \nZajęcia odbywają się w dwóch grupach wiekowych: 0-18 miesięcy (zajęcia o godz. 10:00) i 18-36 miesięcy (zajęcia o godz. 11:15). Grupa jest ograniczona do 10 miejsc. \nObowiązują zapisy: 888 655 101\, a.radon@tck.pl Na listę zapisujemy dziecko – opiekun jest zapisany automatycznie\, jego obecność na zajęciach jest obowiązkowa. Prosimy o punktualność. \nProwadząca: Magdalena Zaranek – absolwentka muzykologii\, nauczycielka\, certyfikowana trenerka zajęć gordonowskich. \n \n 
URL:https://kultura.tarnow.pl/wydarzenie/muzyka-dla-smyka-zajecia-gordonowskie-dla-dzieci/2025-04-03/
LOCATION:Dom Kultury Westerplatte 8a\, Westerplatte 8a\, Tarnów\, Polska - małopolskie\, 33-100\, Polska
CATEGORIES:warsztaty
ATTACH;FMTTYPE=image/jpeg:https://kultura.tarnow.pl/wp-content/uploads/Pierwsza-muzyka-scaled.jpg
GEO:50.0273033;21.0087361
X-APPLE-STRUCTURED-LOCATION;VALUE=URI;X-ADDRESS=Dom Kultury Westerplatte 8a Westerplatte 8a Tarnów Polska - małopolskie 33-100 Polska;X-APPLE-RADIUS=500;X-TITLE=Westerplatte 8a:geo:21.0087361,50.0273033
END:VEVENT
BEGIN:VEVENT
DTSTART;TZID=Europe/Warsaw:20250403T100000
DTEND;TZID=Europe/Warsaw:20250403T160000
DTSTAMP:20260423T033853
CREATED:20250305T115230Z
LAST-MODIFIED:20250305T115230Z
UID:10024578-1743674400-1743696000@kultura.tarnow.pl
SUMMARY:"Setki wykrzyczanych w głowie słów. O depresji" - wystawa fotografii
DESCRIPTION:Ogólnopolski dzień walki z depresją obchodzony jest 23 lutego\, ale osoby chorujące na depresję walczą o swoje życie każdego dnia. Wesprzyj je w tej walce. \nDepresja to nie to samo co chandra. Depresja to choroba o złożonych przyczynach (psychologicznych\, neurofizjologicznych i genetycznych\, społecznych). Nie wolno lekceważyć jej objawów. Szkodliwe jest bagatelizowanie tej choroby np. przez nazywanie Blue Monday – dniem depresyjnym – bo tu nie o ponurą pogodę chodzi i niski stan konta\, albo mówienie osobie chorej: weź się w garść! \nJeśli przez dwa tygodnie zauważasz u siebie lub bliskich (część z tych objawów): obniżony nastrój\, spadek aktywności i energii\, trudności z koncentracją\, nadmierne lub nieadekwatne poczucie winy\, beznadziejności\, zmianę apetytu lub snu\, czy nieznikające poczucie zmęczenia – poszukaj pomocy. Powiedz komuś zaufanemu jak się czujesz. Skonsultuj się ze specjalistą – psychologiem\, psychoterapeutą\, psychiatrą. Zadzwoń pod telefon zaufania dla dzieci\ni młodzieży 116 111 lub dla dorosłych 116 123 \nPomysł sesji fotograficznej i modelka: Joanna Kurek. Kuratorka\, oko i palec na spuście: Dorota Omylska. \nWystawa będzie dostępna w holu Dom.Ku do 18 kwietnia. \n 
URL:https://kultura.tarnow.pl/wydarzenie/setki-wykrzyczanych-w-glowie-slow-o-depresji-wystawa-fotografii/2025-04-03/
LOCATION:Dom Kultury Westerplatte 8a\, Westerplatte 8a\, Tarnów\, Polska - małopolskie\, 33-100\, Polska
CATEGORIES:wystawy
ORGANIZER;CN="Dom Kultury Westerplatte 8a":MAILTO:westerplatte@tck.pl
GEO:50.0273033;21.0087361
X-APPLE-STRUCTURED-LOCATION;VALUE=URI;X-ADDRESS=Dom Kultury Westerplatte 8a Westerplatte 8a Tarnów Polska - małopolskie 33-100 Polska;X-APPLE-RADIUS=500;X-TITLE=Westerplatte 8a:geo:21.0087361,50.0273033
END:VEVENT
BEGIN:VEVENT
DTSTART;TZID=Europe/Warsaw:20250403T100000
DTEND;TZID=Europe/Warsaw:20250403T170000
DTSTAMP:20260423T033853
CREATED:20250225T092551Z
LAST-MODIFIED:20250225T092551Z
UID:10024505-1743674400-1743699600@kultura.tarnow.pl
SUMMARY:Grzegorz Hańderek - "Podmuch"
DESCRIPTION:Z technicznego punktu widzenia ta wystawa należy do grupy wyjątkowo lekkich. Jest zbiorem rysunków tworzonych bez użycia narzędzi. Główną bohaterką prac okazuje się sadza\, która wtapia się w różne powierzchnie. Zapisuje białe flagi powiewające w przestrzeni miasta\, osadza się na kartkach papieru\, unosi się w pomieszczeniach zostawiając ślady na ścianach i podłogach. \nJej użycie jako efektu procesu spalania\, buduje sieć odniesień do innych substancji cyrkulujących w przyrodzie. Pozwala na fantazjowanie o dowodach rzeczowych pozbawionych konturów. Rozproszonym archiwum w ciągłym ruchu\, dalekim od uspokajającego wyobrażenia na temat przedmiotów i ciał\, jako obiektów o określonych wymiarach. \nSypka natura sadzy zachęca do opowiadania o długim trwaniu materii\, obserwowanym w rytmie falowym\, od powolnego zagęszczania do rozproszenia. Jej rozcieranie w palcach wyznacza drogę od kruszejących skał\, które zamieniają się w glebę\, przez składające się na nią pierwiastki\, po korzystające z nich organizmy\, przekształcające się w złoża węgla\, wydobyte\, spalone i unoszące się w powietrzu. \nDziałania rysunkowe Grzegorza Hańderka to pejzaże z popiołów\, formy skrystalizowane z  resztek i pozostałości. Opowieści\, których mechanizmem napędowym jest rozkład. Zbudowane z drobin w normalnych warunkach prawie nieuchwytnych dla oka\, które w wyniku wcierania i wsączania w różne powierzchnie\, zostają na moment unieruchomione i tylko przez to stają się widoczne. \nJak wszystko co sproszkowane\, kryją w sobie potencjał ruchu. Łatwo wyobrazić sobie podmuch\, który z powrotem unosi je w powietrze. Jego siła sprawia\, że przestrzeń wypełnia się czarnym pyłem tak gęsto\, że uniemożliwia widzenie. Skazuje władzę oka na bezużyteczność. Tym samym zagraża wszystkim modelom rzeczywistości\, których głównym celem jest kategoryzowanie i potrzeba wnikliwego poznania przynoszącego jednoznaczny wynik. \nChoć moment ciemności\, kiedy popioły cyrkulują w powietrzu nie trwa długo\, przynosi inne formy myślenia. Nową gramatykę opartą na wdechu i wydechu\, próbę orientacji w przestrzeni poza kontrolą spojrzenia. Kontakt z popiołem przypomina o naszej podległości wobec sił grawitacji. Ta kłopotliwa sytuacja na szczęście szybko się rozwiewa. Pyły w końcu opadają. Choć przestają być widoczne\, nieustannie osiadają na skórze i wypełniają płuca. Pozostawiają w krajobrazie zaskakująco cienką warstwę. \nGrzegorz Hańderek (ur. 1977\, Zabrze)\nArtysta wizualny\, kurator\, nauczyciel akademicki. W swoich działaniach koncentruje się na procesach realizowanych zarówno indywidualnie – czego efektem są m.in. rysunki oraz instalacje tworzone w oparciu o cielesne doświadczenia materii – jak i kolektywnie: inicjując zdarzenia na styku sztuki\, przestrzeni społecznej i ekosystemu publicznego. Jego projekty splatają wielogłosowe doświadczenia\, ślady i formy ekspresji zarówno podmiotów ludzkich\, jak i nieludzkich\, eksplorując sztukę jako medium relacyjne. Absolwent Akademii Sztuk Pięknych i Uniwersytetu Śląskiego w Katowicach. Na ASP w Katowicach prowadzi Pracownię Interpretacji Literatury\, a od 2020 roku pełni funkcję Rektora uczelni. \n6.03 – 6.04.2025\n \nBWA Tarnów / Pałacyk Strzelecki\, ul. Słowackiego 1 \nKuratorka Marta Lisok
URL:https://kultura.tarnow.pl/wydarzenie/grzegorz-handerek-podmuch-2/2025-04-03/
LOCATION:Biuro Wystaw Artystycznych\, ul. Słowackiego 1\, Tarnów\, małopolskie\, 33-100\, Polska
CATEGORIES:wystawy
ORGANIZER;CN="Biuro Wystaw Artystycznych":MAILTO:biuro@bwa.tarnow.pl
GEO:50.0178761;20.9827521
X-APPLE-STRUCTURED-LOCATION;VALUE=URI;X-ADDRESS=Biuro Wystaw Artystycznych ul. Słowackiego 1 Tarnów małopolskie 33-100 Polska;X-APPLE-RADIUS=500;X-TITLE=ul. Słowackiego 1:geo:20.9827521,50.0178761
END:VEVENT
BEGIN:VEVENT
DTSTART;TZID=Europe/Warsaw:20250403T100000
DTEND;TZID=Europe/Warsaw:20250403T170000
DTSTAMP:20260423T033853
CREATED:20250225T093108Z
LAST-MODIFIED:20250225T093108Z
UID:10024528-1743674400-1743699600@kultura.tarnow.pl
SUMMARY:Grzegorz Kwiek - "Kserofity"
DESCRIPTION:Wystawa Kserofity porusza temat botaniki przyszłości\, kreując nową rzeczywistość przepełnioną formami na pograniczu organicznych i syntetycznych. Cielesność tych form ujawnia się w subtelnych napięciach między kształtem a fakturą\, przywołując skojarzenia z materią żywego organizmu. Studium gatunku\, którego istotą jest przetrwanie mimo zmienności klimatu\, rodzi w odbiorcy zarówno niepokój\, jak i ciekawość nad przyszłością życia na Ziemi. \nKserofity to niezwykle ozdobne rośliny przystosowane do życia w trudnych warunkach. Nieustannie narażone są na brak wody oraz ekstremalne temperatury – zarówno wysokie\, jak i niskie. Rośliny te rozprzestrzeniają się w obszarach\, w których konkurencyjne gatunki nie mają szansy na zdobycie składników odżywczych. Kseromorficzność to cecha\, która warunkuje ich przeżycie. \nGrzegorz Kwiek (ur. 1993\, Tarnów) – Absolwent Wydziału Grafiki i Sztuki Mediów Akademii Sztuk Pięknych im. Eugeniusza Gepperta we Wrocławiu (dyplom 2021). Wykładowca na Wydziale Sztuki Akademii Tarnowskiej. Pasjonat tradycyjnej fotografii oraz działań na styku mediów analogowych i cyfrowych. Tworzy w obszarze szeroko pojętych sztuk multimedialnych. \nOprawa graficzna: Joanna Tyborowska \n6.03 – 6.04.2025\nBWA Tarnów / Pałacyk Strzelecki\, ul. Słowackiego 1
URL:https://kultura.tarnow.pl/wydarzenie/grzegorz-kwiek-kserofity-2/2025-04-03/
LOCATION:Biuro Wystaw Artystycznych\, ul. Słowackiego 1\, Tarnów\, małopolskie\, 33-100\, Polska
CATEGORIES:wystawy
ORGANIZER;CN="Biuro Wystaw Artystycznych":MAILTO:biuro@bwa.tarnow.pl
GEO:50.0178761;20.9827521
X-APPLE-STRUCTURED-LOCATION;VALUE=URI;X-ADDRESS=Biuro Wystaw Artystycznych ul. Słowackiego 1 Tarnów małopolskie 33-100 Polska;X-APPLE-RADIUS=500;X-TITLE=ul. Słowackiego 1:geo:20.9827521,50.0178761
END:VEVENT
BEGIN:VEVENT
DTSTART;TZID=Europe/Warsaw:20250403T100000
DTEND;TZID=Europe/Warsaw:20250403T170000
DTSTAMP:20260423T033853
CREATED:20250331T093708Z
LAST-MODIFIED:20250331T093708Z
UID:10024648-1743674400-1743699600@kultura.tarnow.pl
SUMMARY:"Moimi oczami malowane"
DESCRIPTION:2 kwietnia – Światowy Dzień Świadomości Autyzmu \n31.03-9.04.2025\nMultimedialne Centrum Artystyczne / Wałowa 25 – oddział BWA Tarnów\nwstęp wolny \nŚroda\, 2.04.2025 – oficjalne otwarcie wystawy\n9:30 – przemarsz uczniów i nauczycieli z przedszkoli integracyjnych w Tarnowie spod pomnika gen. Bema przez Rynek i Pl. Rybny\, aż do Zakątka Spycimira Leliwity\n10:15 – plac przed MCA\, ul. Wałowa 25 – powitanie i otwarcie wystawy \nWystawa prac plastycznych dzieci z autyzmem z Przedszkola Specjalnego nr 36 „Pod Parasolem” przy SOSW oraz dzieci i młodzieży ze Specjalnego Ośrodka Szkolno-Wychowawczego w Tarnowie. \n„Moimi oczami malowane” to już szósta odsłona projektu\, który od początku ma to samo założenie – tworzone przez artystów prace malowane są w dowolnym temacie\, różnymi akcesoriami plastycznymi bez pomocy nauczyciela. To uczniowie i przedszkolaki decydują co powstanie na płótnie\, nauczyciel jest „cieniem” – JEST\, wspiera oraz dostarcza materiały. \nCelem akcji jest zwiększenie świadomości społecznej na temat autyzmu oraz zwrócenie uwagi na potrzebę większej empatii i tolerancji dla odmiennych możliwości oraz potrzeb osób ze spektrum autyzmu. \nAutor książki „Ido w Krainie Autyzmu” powiedział Jestem autystyczny w sposobie odbierania świata\, ale oni są ślepi w sposobie odbierania autyzmu. Ta wystawa oraz inne wydarzenia organizowane są po to abyśmy poszerzyli naszą wiedzę\, dostrzegli ten świat oraz bogate\, emocjonalne wnętrze ludzi w spektrum. Akceptujmy i wspierajmy! \nZaprezentowana twórczość dzieci dała im możliwość wyrażenia siebie oraz zaistnienie w środowisku lokalnym. \nW tym roku prezentujemy 56 prac\, każda z nich to opowieść. O Czym? – zapraszamy na spacer po ich wyobraźni! \nGodziny otwarcia wystawy: \nPoniedziałek 10:00-17:00\nŚroda 10:00-17:00\nCzwartek 10:00-17:00\nNiedziela 10:00-17:00
URL:https://kultura.tarnow.pl/wydarzenie/moimi-oczami-malowane-2/2025-04-03/
LOCATION:Multimedialne Centrum Artystyczne\, Wałowa 25\, Tarnów\, małopolskie\, 33-100\, Polska
CATEGORIES:wystawy
ATTACH;FMTTYPE=image/jpeg:https://kultura.tarnow.pl/wp-content/uploads/487561270_1357650042090010_6110864176521487544_n.jpg
ORGANIZER;CN="Biuro Wystaw Artystycznych":MAILTO:biuro@bwa.tarnow.pl
GEO:50.013866931068;20.987989998201
X-APPLE-STRUCTURED-LOCATION;VALUE=URI;X-ADDRESS=Multimedialne Centrum Artystyczne Wałowa 25 Tarnów małopolskie 33-100 Polska;X-APPLE-RADIUS=500;X-TITLE=Wałowa 25:geo:20.987989998201,50.013866931068
END:VEVENT
BEGIN:VEVENT
DTSTART;TZID=Europe/Warsaw:20250403T180000
DTEND;TZID=Europe/Warsaw:20250403T210000
DTSTAMP:20260423T033853
CREATED:20241212T094755Z
LAST-MODIFIED:20250303T114746Z
UID:10024060-1743703200-1743714000@kultura.tarnow.pl
SUMMARY:„Azoty Fiction” Łukasz Czuj
DESCRIPTION:W „Azoty Fiction” twórcy zapraszają widzów do pełnej humoru\, groteski i muzyki opowieści\, która choć osadzona w realiach epoki i lokalnym\, tarnowskim kontekście\, jest wytworem wyobraźni. Akcja spektaklu rozgrywa się w roku 1994 w tarnowskim kombinacie AZOTY. Jesteśmy już w wolnej Polsce\, nadchodzi czas prywatyzacji\, zakład pogrążony w długach\, czeka niepewna przyszłość. Ale oto przybywa tajemniczy urzędnik z Ministerstwa i nagle pojawia się nadzieja na zmiany. Może dotrą do Mościc bogaci inwestorzy\, a los zakładu i jego pracowników odmieni się? Rozpoczyna się wielka gra o przetrwanie Zakładu. Kim są tajemniczy inwestorzy? Czy wszystko zakończy się happy endem?\nGaleria barwnych postaci\, pełne humoru piosenki oraz dynamiczna muzyka budują akcję tego pop-kulturowego widowiska\, w którym nostalgia za burzliwymi latami 90 miesza się z cytatami i odniesieniami do muzyki\, filmu\, polityki czy literatury. W tle cały czas pojawia się Tarnów\, autentyczne miejsca i prawdziwe postaci.\n\nAkcja spektaklu rozgrywa się w rytm pełnych humoru piosenek napisanych przez Michała Chludzińskiego (teksty) i Marcina Partykę (muzyka). Pobrzmiewają w nich echa przebojów z lat 90. Zarówno autorzy scenariusza (Alfred Kawula & Łukasz Czuj)\, jak i twórcy warstwy muzycznej oraz scenograf (Elżbieta Rokita) bawią się cytatami z epoki\, dokonując swoistego remixu nostalgicznych motywów z niedalekiej przeszłości. Rytm widowiska współtworzy choreografia (Jarosław Staniek)\, w której znajdziemy nawiązania do teledysków z lat 90.\n\nKlamrą opowieści jest historia współczesnej\, młodej dziewczyny\, która wraca do rodzinnego domu w Tarnowie i odnajduje album ze zdjęciami swojej matki. Zatrzymane w kadrach ujęcia stają się punktem wyjścia dla kolejnych rozdziałów widowiska. Bohaterka\, urodzona w roku 1994\, szuka odpowiedzi na pytanie kim była jej matka i jakie zostawiła jej dziedzictwo? W końcu nasza Polska\, ta z roku 2024 wciąż wyrasta z doświadczeń tamtych lat. Czasów\, gdy każdy chciał założyć swoją firmę\, gdy wszyscy zachłysnęli się nowym kapitalizmem.\n(nawiązanie w tytule do filmu „Pulp Fiction” z roku 1994 jest nieprzypadkowe :-))\nWszystkie postacie są całkowicie fikcyjne. Choć wiele zdarzeń mogło tak wyglądać.\n\nW spektaklu zobaczymy niemal cały zespół aktorski Teatru w Tarnowie oraz zespół muzyczny pod kierownictwem Filipa Kota.\n3 i 4 kwietnia (czwartek\, piątek) godz. 18.00 oraz 5 kwietnia (sobota) godz. 17.00\, Duża Scena\nCzas trwania: 2h 50min\nCeny biletów od kwietnia: 55-70 zł\nhttps://teatr.tarnow.pl/spektakle/azoty-fiction/
URL:https://kultura.tarnow.pl/wydarzenie/azoty-fiction-lukasz-czuj/2025-04-03/
LOCATION:Teatr im. L.Solskiego\, Mickiewicza 4\, Tarnów\, małopolskie\, 33-100\, Polska
CATEGORIES:spektakle
GEO:50.0159214;20.987504
X-APPLE-STRUCTURED-LOCATION;VALUE=URI;X-ADDRESS=Teatr im. L.Solskiego Mickiewicza 4 Tarnów małopolskie 33-100 Polska;X-APPLE-RADIUS=500;X-TITLE=Mickiewicza 4:geo:20.987504,50.0159214
END:VEVENT
BEGIN:VEVENT
DTSTART;TZID=Europe/Warsaw:20250403T190000
DTEND;TZID=Europe/Warsaw:20250403T203000
DTSTAMP:20260423T033853
CREATED:20250218T110610Z
LAST-MODIFIED:20250218T110610Z
UID:10024019-1743706800-1743712200@kultura.tarnow.pl
SUMMARY:Koncert Kuby Badacha
DESCRIPTION:Sprzedaż biletów rusza 19 lutego o godzinie 14:00\, w kasie i online. \nKuba Badach to jeden z najbardziej wszechstronnych artystów polskiej sceny muzycznej. Wokalista\, kompozytor i producent muzyczny\, od lat zachwyca swoim talentem zarówno jako solista\, jak i lider takich projektów jak Poluzjanci czy „Tribute to Andrzej Zaucha”. Jego muzyka to unikalne połączenie jazzowej finezji\, soulowej głębi i popowej przystępności\, które przyciągają fanów o różnorodnych muzycznych gustach.\nZdobywca wielu nagród\, w tym Fryderyków\, Kuba Badach jest ceniony za niesamowitą charyzmę sceniczną i emocjonalne interpretacje\, które pozostają z widzami na długo po zakończeniu koncertu. \nW 2025 roku artysta powraca z nowym albumem „Radio Edit”\, który wyznacza kolejny etap w jego muzycznej drodze. Aby uczcić premierę krążka\, artysta wyrusza w trasę koncertową\, która zapowiada się jako jedno z najważniejszych wydarzeń muzycznych nadchodzącego roku. \nPodczas koncertów artyście towarzyszyć będą wybitni muzycy: \n\nMichał Kapczuk – bas\nDamian Kurasz – gitara\nWojciech Fedkowicz – perkusja\nDominik Wania – instrumenty klawiszowe\n\n Czas trwania: 70 minut
URL:https://kultura.tarnow.pl/wydarzenie/koncert-kuby-badacha/
LOCATION:Centrum Sztuki Mościce\, Traugutta 1\, Tarnów\, małopolskie\, 33-101\, Polska
CATEGORIES:koncerty
ATTACH;FMTTYPE=image/jpeg:https://kultura.tarnow.pl/wp-content/uploads/img_02b6911f9ed21af45a82bbabad1a13f5-e1739876876528.jpeg
GEO:50.009833;20.92706
X-APPLE-STRUCTURED-LOCATION;VALUE=URI;X-ADDRESS=Centrum Sztuki Mościce Traugutta 1 Tarnów małopolskie 33-101 Polska;X-APPLE-RADIUS=500;X-TITLE=Traugutta 1:geo:20.92706,50.009833
END:VEVENT
END:VCALENDAR