BEGIN:VCALENDAR
VERSION:2.0
PRODID:-//kultura.tarnów - ECPv6.4.0.1//NONSGML v1.0//EN
CALSCALE:GREGORIAN
METHOD:PUBLISH
X-WR-CALNAME:kultura.tarnów
X-ORIGINAL-URL:https://kultura.tarnow.pl
X-WR-CALDESC:Wydarzenia dla
REFRESH-INTERVAL;VALUE=DURATION:PT1H
X-Robots-Tag:noindex
X-PUBLISHED-TTL:PT1H
BEGIN:VTIMEZONE
TZID:Europe/Warsaw
BEGIN:DAYLIGHT
TZOFFSETFROM:+0100
TZOFFSETTO:+0200
TZNAME:CEST
DTSTART:20250330T010000
END:DAYLIGHT
BEGIN:STANDARD
TZOFFSETFROM:+0200
TZOFFSETTO:+0100
TZNAME:CET
DTSTART:20251026T010000
END:STANDARD
END:VTIMEZONE
BEGIN:VEVENT
DTSTART;TZID=Europe/Warsaw:20250329T090000
DTEND;TZID=Europe/Warsaw:20250329T160000
DTSTAMP:20260423T042107
CREATED:20250226T134249Z
LAST-MODIFIED:20250226T134249Z
UID:10024533-1743238800-1743264000@kultura.tarnow.pl
SUMMARY:Wymiana książek
DESCRIPTION:W ostatni piątek i sobotę marca nie lada gratka czeka miłośników czytania w naszym mieście. W Czytelni Czasopism Miejskiej Biblioteki Publicznej w Tarnowie będzie bowiem miała miejsce bezpłatna akcja wymiany książek. \n\n\n\n\n\n\n\n\n\nOdbywać będzie się ona w piątek\, 28 marca w godz. 9-17 oraz w sobotę\, 29 marca od godz. 9 do 16. Jej idea jest bardzo prosta – jedna przyniesiona książka podlega wymianie na jedną\, dostępną na miejscu. Dzięki projektowi można będzie pozbyć się zalegających na półkach tomów i wymienić je na nowe\, równie interesujące pozycje. Wymiana bazuje na zasadach bookcrossingu i ma na celu aktywne promowanie czytelnictwa\, wzajemną integrację między czytelnikami oraz działanie proekologiczne – danie już raz przeczytanym tytułom drugiego życia i umożliwienie im wejścia do ponownego obiegu. \nSpotkanie jest jednym z punktów projektu społecznego TARgi TARnów\, realizowanego przez uczniów II Liceum Ogólnokształcącego w Tarnowie w ramach ogólnopolskiej olimpiady „Zwolnieni z teorii”. Jego celem jest promowanie czytelnictwa\, szerzenie idei dzielenia się książkami oraz przeciwdziałanie marnowaniu się książek. \nWydarzenie realizowane jest przy wsparciu Urzędu Miasta Tarnowa oraz Miejskiej Biblioteki Publicznej w Tarnowie.
URL:https://kultura.tarnow.pl/wydarzenie/wymiana-ksiazek/2025-03-29/
LOCATION:Czytelnia Czasopism Bieżących\, ul. Krakowska 4 (parter)\, Tarnów\, 33-100\, Polska
CATEGORIES:spotkania
END:VEVENT
BEGIN:VEVENT
DTSTART;TZID=Europe/Warsaw:20250329T100000
DTEND;TZID=Europe/Warsaw:20250329T170000
DTSTAMP:20260423T042107
CREATED:20250220T114701Z
LAST-MODIFIED:20250220T114701Z
UID:10024050-1743242400-1743267600@kultura.tarnow.pl
SUMMARY:„Hotel” – fotografie Krzysztofa Gołucha
DESCRIPTION:Zapraszamy wszystkich miłośników fotografii i sztuki do udziału w wydarzeniu\, które pozwoli spojrzeć na codzienność z innej perspektywy.\nWystawa Krzysztofa Gołucha jest efektem pięcioletniego projektu fotograficznego realizowanego w Zakładzie Aktywności Zawodowej Św. Marcina\, prowadzonego przez Caritas Archidiecezji Katowickiej. Fotografie z cyklu „Hotel” ukazują codzienną pracę osób z niepełnosprawnościami\, skłaniając do refleksji nad ludzkim przeznaczeniem. Statyczne postacie na zdjęciach emanują spokojem i ponadczasowością\, a kompozycje nawiązują do malarstwa Edwarda Hoppera. Jak zauważa profesor Vladimír Birgus\, autor balansuje między klasycznym dokumentem a inscenizowaną twórczością\, tworząc przemyślane i czyste kompozycje.\nKrzysztof Gołuch to artysta\, pedagog i doktor sztuki\, absolwent Instytutu Twórczej Fotografii Uniwersytetu Śląskiego w Opawie. Członek Polskiego Związku Artystów Fotografików specjalizuje się w fotografii dokumentalnej\, koncentrując się na tematyce życia osób z niepełnosprawnościami. Za swoją działalność został uhonorowany m.in. medalem papieskim Pro Ecclesia et Pontifice oraz Srebrnym Krzyżem Zasługi.⠀Ekspozycja będzie dostępna w dniach 8-29 marca 2025 r.\nGodziny otwarcia:dni powszednie 10:00–18:00soboty 10:00–17:00\nBilety: 7 zł (normalny) i 5 zł (ulgowy)
URL:https://kultura.tarnow.pl/wydarzenie/hotel-fotografie-krzysztofa-golucha-2/2025-03-29/
LOCATION:Tarnowskie Centrum Kultury\, Rynek 5\, Tarnów\, małopolskie\, 33-100\, Polska
CATEGORIES:wystawy
ATTACH;FMTTYPE=image/jpeg:https://kultura.tarnow.pl/wp-content/uploads/29d3da1e82e96263f8e59daa85312393-1.jpeg
GEO:50.012155;20.9878542
X-APPLE-STRUCTURED-LOCATION;VALUE=URI;X-ADDRESS=Tarnowskie Centrum Kultury Rynek 5 Tarnów małopolskie 33-100 Polska;X-APPLE-RADIUS=500;X-TITLE=Rynek 5:geo:20.9878542,50.012155
END:VEVENT
BEGIN:VEVENT
DTSTART;TZID=Europe/Warsaw:20250329T110000
DTEND;TZID=Europe/Warsaw:20250329T130000
DTSTAMP:20260423T042107
CREATED:20250305T115733Z
LAST-MODIFIED:20250305T115733Z
UID:10024590-1743246000-1743253200@kultura.tarnow.pl
SUMMARY:Spotkanie dla miejskich ogrodników
DESCRIPTION:Spotkanie dla miejskich ogrodników – wymiana nasion i wykład Joanny Albin o permakulturze w mieście \nPociąga Cię ogrodnictwo lub praktykujesz taką formę spędzania wolnego czasu? Chcesz jeść zdrowe warzywa i mieszkać w zielonym mieście? Podczas wykładu prowadząca poruszy kilka tematów: \nCzym jest permakultura i dlaczego bywa łączona z ekologią i ogrodnictwem? \nWytwarzanie własnej żywności w mini i mikro skali – jak to robić i dlaczego warto? \nMiejskie ogrody społeczne – budowanie relacji i aktywizacja sąsiedzka przez wspólne tworzenie i zarządzanie przestrzenią \nProjektowanie permakulturowe w przestrzeni publicznej – zapobieganie podtopieniom i zielona infrastruktura – od czego zacząć? \nW ramach spotkania odbędzie się wymiana nasion. \nProwadząca: Joanna Albin jestem projektantką i popularyzatorką permakultury. Prowadzi warsztaty edukacyjne z kompostowania\, technik ogrodowych i projektowania. Jest twórczynią ogrodu społecznego w Tuchowie\, prowadzi siedlisko w Jodłówce Tuchowskiej. Założycielka grupy Fb – Permakultura Tarnów.
URL:https://kultura.tarnow.pl/wydarzenie/spotkanie-dla-miejskich-ogrodnikow/
LOCATION:Dom Kultury Westerplatte 8a\, Westerplatte 8a\, Tarnów\, Polska - małopolskie\, 33-100\, Polska
CATEGORIES:spotkania
ATTACH;FMTTYPE=image/jpeg:https://kultura.tarnow.pl/wp-content/uploads/permakultura_marzec.jpg
ORGANIZER;CN="Dom Kultury Westerplatte 8a":MAILTO:westerplatte@tck.pl
GEO:50.0273033;21.0087361
X-APPLE-STRUCTURED-LOCATION;VALUE=URI;X-ADDRESS=Dom Kultury Westerplatte 8a Westerplatte 8a Tarnów Polska - małopolskie 33-100 Polska;X-APPLE-RADIUS=500;X-TITLE=Westerplatte 8a:geo:21.0087361,50.0273033
END:VEVENT
BEGIN:VEVENT
DTSTART;TZID=Europe/Warsaw:20250329T180000
DTEND;TZID=Europe/Warsaw:20250329T200000
DTSTAMP:20260423T042107
CREATED:20250203T101251Z
LAST-MODIFIED:20250203T101251Z
UID:10023964-1743271200-1743278400@kultura.tarnow.pl
SUMMARY:Bogusław Schaeffer "Próby"
DESCRIPTION:Zainteresowanie Bogusława Schaeffera tematem teatru bierze się zapewne z jego fascynacją światem sztuki w ogóle. Ten wyrosły z muzyki tekst – autor był kompozytorem – opowiada historię próby teatralnej\, (przerwanej epizodem sennym)\, próby\, w której czwórka aktorów i reżyser poszukują rozwiązań dla spektaklu\, który ma powstać\, poszukują formy\, która byłaby przez nich wszystkich akceptowana.\nSztuka ta nie ma fabuły w tradycyjnym rozumieniu tego słowa\, fabułą jest to\, co danego wieczoru zdarzy się między wykonawcami na scenie. Inaczej mówiąc; sztuka nie opowiada anegdoty o artystach\, oni sami dla siebie są anegdotą\, a narracja ta będzie na tyle ciekawą\, na ile interesująco aktorzy będą potrafili o sobie opowiedzieć. Jest więc to sztuka o aktorach\, o ich pracy (temat wielekroć u Schaeffera poruszany)\, ale przede wszystkim o kondycji człowieka żyjącego w coraz większym chaosie dzisiejszego świata.\nZa pozornym bezsensem działań aktorów kryją się portrety artystów\, polityków\, intelektualistów; może po prostu całego społeczeństwa\, portrety podszyte kompleksami\, kabotyńskimi minami\, pozorną wymianą myśli\, nacechowane nieufnością\, nonszalancją\, kłótniami o przywództwo i sporami o własną wybitność.\nSztuka ma w sobie duży ładunek humoru\, bez którego trudno byłoby ten temat opowiedzieć; byłby zapewne nieznośnie ponury. Do grania sztuk Schaeffera potrzeba aktorów\, którzy mają poczucie humoru\, którzy nie tylko rozumieją stopień zdeformowania dzisiejszego świata i rozproszenia myśli ludzkiej\, ale którzy potrafią – nazwijmy to w ten sposób – śmiechem rozproszyć mroki współczesności. Ta cecha aktorów i reżysera musi się przecież rymować z wyjątkowym poczuciem humoru autora. Schaeffer nie boi się ośmieszyć swoich bohaterów – śmiech u niego jest rodzajem terapii i dla aktorów i – mam nadzieję – dla widza.\nW adaptacji\, oprócz tekstu „Prób”\, wykorzystano fragmenty następujących sztuk tego autora: „Kwartetu dla czterech aktorów”\, „Audiencji III dla aktora i aktorki”\, „Mroków”\, „Kaczo” i „Aktora”. Mikołaj Grabowski \nReżyseria\, adaptacja tekstu\, opracowanie muzyczne\, scenografia i kostiumy: Mikołaj Grabowski\nInspicjentka\, sufler: Aleksandra Stach\nObsada: Matylda Baczyńska\, Dominika Markuszewska\, Paweł Plewa oraz gościnnie Mikołaj Grabowski i Maciej Małysa. \nPokazy przedpremierowe: 27\, 28 marca (czwartek\, piątek) godz. 18.00\nPremiera 29 marca (sobota) godz. 18.00\n30 marca (niedziela) godz. 18.00\, Duża Scena
URL:https://kultura.tarnow.pl/wydarzenie/boguslaw-schaeffer-proby/2025-03-29/
LOCATION:Teatr im. L.Solskiego\, Mickiewicza 4\, Tarnów\, małopolskie\, 33-100\, Polska
CATEGORIES:spektakle
ATTACH;FMTTYPE=image/jpeg:https://kultura.tarnow.pl/wp-content/uploads/PROBY-www.jpg
GEO:50.0159214;20.987504
X-APPLE-STRUCTURED-LOCATION;VALUE=URI;X-ADDRESS=Teatr im. L.Solskiego Mickiewicza 4 Tarnów małopolskie 33-100 Polska;X-APPLE-RADIUS=500;X-TITLE=Mickiewicza 4:geo:20.987504,50.0159214
END:VEVENT
BEGIN:VEVENT
DTSTART;TZID=Europe/Warsaw:20250329T190000
DTEND;TZID=Europe/Warsaw:20250329T210000
DTSTAMP:20260423T042107
CREATED:20250314T084605Z
LAST-MODIFIED:20250314T084605Z
UID:10024605-1743274800-1743282000@kultura.tarnow.pl
SUMMARY:Bluesowa noc z Rockomotive
DESCRIPTION:Zespół Rockomotive powstał w 2003 roku z inicjatywy bluesowego gitarzysty Jarosława Nasalskiego\, współzałożyciela zespołów BLUSTRO (Jarocin 1988\, Rawa Blues 1988-1991) oraz RAUT (Rawa Blues 1995). Repertuar Rockomotive jest całkowicie autorski i mieści się w stylistyce rockowo-bluesowej. Zespół zajął trzecie miejsce na 24 edycji Festiwalu Rawa Blues\, zdobył Grand Prix na 7 Festiwalu Muzycznym im. Ryśka Riedla oraz został laureatem małej sceny 37 Rawa Blues Festival. W 2023 roku Rockomotive ukończył 20 lat i dalej cieszy się muzyką regularnie koncertując. W skład zespołu wchodzą muzycy z Górnośląsko-Zagłębiowskiej Metropolii.\nAlbum Słowa Przegrane to przede wszystkim podsumowanie ponad 20 letniej działalności zespołu. To muzyczna opowieść o mijającym czasie\, niespełnionych marzeniach i poszukiwaniu sensu w codziennym życiu. Teksty utworów poruszają tematy\, które dotykają każdego – tęsknotę\, samotność\, rozczarowanie\, ale też nadzieję na odnalezienie własnej drogi. Słowa Przegrane to zbiór osobistych opowieści\, w których każdy może odnaleźć cząstkę siebie. To obraz wędrowca szukającego swojego miejsca w świecie\, gdzie blues i rock wciąż pozostają najlepszym lekarstwem na życiowe rozterki.a„Chcemy poprowadzić słuchacza przez historie opowiedziane bez zbędnych ozdobników – szczerze\, z nutą nostalgii i świadomością\, że życie to nie tylko zwycięstwa\, ale i porażki\, które kształtują naszą wrażliwość.”\nNa koncercie będzie możliwość zapoznania się z materiałem z płyty jak również z utworami niepublikowanymi z repertuaru zespołu.\n\nDATA: 29/03/2025 rMIEJSCE: Maranto VIBE\, Tarnów ul. Wałowa 26START: 19:00BILETY: 40 zł\nREZERWACJA MIEJSC – 605 654 924
URL:https://kultura.tarnow.pl/wydarzenie/bluesowa-noc-z-rockomotive/
LOCATION:Maranto Vibe\, Wałowa 26\, Tarnów\, Małopolska\, 33-100
CATEGORIES:koncerty
END:VEVENT
END:VCALENDAR