BEGIN:VCALENDAR
VERSION:2.0
PRODID:-//kultura.tarnów - ECPv6.4.0.1//NONSGML v1.0//EN
CALSCALE:GREGORIAN
METHOD:PUBLISH
X-ORIGINAL-URL:https://kultura.tarnow.pl
X-WR-CALDESC:Wydarzenia dla
REFRESH-INTERVAL;VALUE=DURATION:PT1H
X-Robots-Tag:noindex
X-PUBLISHED-TTL:PT1H
BEGIN:VTIMEZONE
TZID:Europe/Warsaw
BEGIN:DAYLIGHT
TZOFFSETFROM:+0100
TZOFFSETTO:+0200
TZNAME:CEST
DTSTART:20250330T010000
END:DAYLIGHT
BEGIN:STANDARD
TZOFFSETFROM:+0200
TZOFFSETTO:+0100
TZNAME:CET
DTSTART:20251026T010000
END:STANDARD
END:VTIMEZONE
BEGIN:VEVENT
DTSTART;TZID=Europe/Warsaw:20250322T100000
DTEND;TZID=Europe/Warsaw:20250322T170000
DTSTAMP:20260423T045720
CREATED:20250220T114701Z
LAST-MODIFIED:20250220T114701Z
UID:10024044-1742637600-1742662800@kultura.tarnow.pl
SUMMARY:„Hotel” – fotografie Krzysztofa Gołucha
DESCRIPTION:Zapraszamy wszystkich miłośników fotografii i sztuki do udziału w wydarzeniu\, które pozwoli spojrzeć na codzienność z innej perspektywy.\nWystawa Krzysztofa Gołucha jest efektem pięcioletniego projektu fotograficznego realizowanego w Zakładzie Aktywności Zawodowej Św. Marcina\, prowadzonego przez Caritas Archidiecezji Katowickiej. Fotografie z cyklu „Hotel” ukazują codzienną pracę osób z niepełnosprawnościami\, skłaniając do refleksji nad ludzkim przeznaczeniem. Statyczne postacie na zdjęciach emanują spokojem i ponadczasowością\, a kompozycje nawiązują do malarstwa Edwarda Hoppera. Jak zauważa profesor Vladimír Birgus\, autor balansuje między klasycznym dokumentem a inscenizowaną twórczością\, tworząc przemyślane i czyste kompozycje.\nKrzysztof Gołuch to artysta\, pedagog i doktor sztuki\, absolwent Instytutu Twórczej Fotografii Uniwersytetu Śląskiego w Opawie. Członek Polskiego Związku Artystów Fotografików specjalizuje się w fotografii dokumentalnej\, koncentrując się na tematyce życia osób z niepełnosprawnościami. Za swoją działalność został uhonorowany m.in. medalem papieskim Pro Ecclesia et Pontifice oraz Srebrnym Krzyżem Zasługi.⠀Ekspozycja będzie dostępna w dniach 8-29 marca 2025 r.\nGodziny otwarcia:dni powszednie 10:00–18:00soboty 10:00–17:00\nBilety: 7 zł (normalny) i 5 zł (ulgowy)
URL:https://kultura.tarnow.pl/wydarzenie/hotel-fotografie-krzysztofa-golucha-2/2025-03-22/
LOCATION:Tarnowskie Centrum Kultury\, Rynek 5\, Tarnów\, małopolskie\, 33-100\, Polska
CATEGORIES:wystawy
ATTACH;FMTTYPE=image/jpeg:https://kultura.tarnow.pl/wp-content/uploads/29d3da1e82e96263f8e59daa85312393-1.jpeg
GEO:50.012155;20.9878542
X-APPLE-STRUCTURED-LOCATION;VALUE=URI;X-ADDRESS=Tarnowskie Centrum Kultury Rynek 5 Tarnów małopolskie 33-100 Polska;X-APPLE-RADIUS=500;X-TITLE=Rynek 5:geo:20.9878542,50.012155
END:VEVENT
BEGIN:VEVENT
DTSTART;TZID=Europe/Warsaw:20250322T160000
DTEND;TZID=Europe/Warsaw:20250322T210000
DTSTAMP:20260423T045720
CREATED:20250206T072137Z
LAST-MODIFIED:20250206T072137Z
UID:10023991-1742659200-1742677200@kultura.tarnow.pl
SUMMARY:Kabaret Młodych Panów: Z żartami nie ma żartów - 20-lecie
DESCRIPTION:FunFest – Festiwal humoru \n22 marca 2025\, godz. 16:00 i 19:00 \nW 2025 roku Kabaret Młodych Panów obchodzi 20-lecie działalności artystycznej. Dwie dekady pełne występów\, niesamowitych podróży i zaskakujących zwrotów akcji zaowocowały ogromną popularnością i sympatią wśród widzów. \nZ okazji 20-lecia\, Kabaret Młodych Panów przygotował dla swoich fanów coś wyjątkowego – nowy premierowy program: „Z żartami nie ma żartów”. \nProgram ten jest hołdem dla dotychczasowej drogi artystycznej i jednocześnie zaproszeniem do wspólnego świętowania tego wyjątkowego jubileuszu. W najnowszym programie widzowie będą mieli okazję ponownie spotkać się z ulubionymi postaciami\, które na przestrzeni lat wywoływały najwięcej śmiechu i wzruszeń. Nie zabraknie także momentów pożegnań z postaciami\, które na zawsze zapiszą się w historii kabaretu. \nProgram zapowiada się jako wyjątkowa mieszanka satyry\, inteligentnego humoru i ostrej obserwacji otaczającego nas świata. Kabaret Młodych Panów po raz kolejny będzie udowadniał\, że humor\, to potężna broń z którą nie ma żartów.\n„Nie spoczywamy na laurach” – mówią artyści\, zapewniając\, że w programie „Z żartami nie ma żartów” widzowie zobaczą wyłącznie premierowy materiał. Panowie obiecują dalszy rozwój i ciągłe poszukiwanie nowych form wyrazu artystycznego. \nKabaret Młodych Panów zaprasza wszystkich na wspólne świętowanie 20-lecia na scenie. „Z żartami nie ma żartów” to nie tylko podsumowanie dotychczasowej kariery\, ale również obietnica dalszych lat pełnych humoru\, refleksji i doskonałej zabawy. \n\n\nWystąpią: Mateusz Banaszkiewicz\, Bartosz Demczuk\, Łukasz Kaczmarczyk\, Robert Królczyk \n\n\nBilety: 140 zł\, 130 zł
URL:https://kultura.tarnow.pl/wydarzenie/kabaret-mlodych-panow-z-zartami-nie-ma-zartow-20-lecie/
LOCATION:Centrum Sztuki Mościce\, Traugutta 1\, Tarnów\, małopolskie\, 33-101\, Polska
CATEGORIES:kabarety
ATTACH;FMTTYPE=image/jpeg:https://kultura.tarnow.pl/wp-content/uploads/img_3bb79b6918f9a00bee1090c2ffabf089.jpeg
GEO:50.009833;20.92706
X-APPLE-STRUCTURED-LOCATION;VALUE=URI;X-ADDRESS=Centrum Sztuki Mościce Traugutta 1 Tarnów małopolskie 33-101 Polska;X-APPLE-RADIUS=500;X-TITLE=Traugutta 1:geo:20.92706,50.009833
END:VEVENT
BEGIN:VEVENT
DTSTART;TZID=Europe/Warsaw:20250322T190000
DTEND;TZID=Europe/Warsaw:20250322T210000
DTSTAMP:20260423T045720
CREATED:20250128T130226Z
LAST-MODIFIED:20250128T130226Z
UID:10023930-1742670000-1742677200@kultura.tarnow.pl
SUMMARY:Dżem
DESCRIPTION:Zapraszamy na sentymentalną podróż po rockowych wspomnieniach i dźwiękach bluesa z zespołem Dżem. \nIch piosenki zna chyba każdy\, a możliwość zaśpiewania ich razem z zespołem na żywo to gwarancja niezapomnianych emocji! Na tym koncercie trzeba być\, poczuć muzykę i klimat by przekonać się\, że to jeden z najlepszych koncertów w Waszym życiu. Dżem z nowym wokalistą – Sebastianem Riedlem. Mówi się o nich „polscy Rolling Stonesi”… I faktycznie – coś w tym jest. Choćby ze względu na źródła muzyki\, żonglowanie stylami\, konsekwencję. Ze względu na staż\, pod względem którego coraz mniej mają równych. Ze względu na nie harcerski tryb życia oczywiście też. No i ze względu na skomplikowane\, nie wolne od dramatów dzieje… Dżem – polski zespół muzyczny grający muzykę z pogranicza rocka i bluesa\, który w 1973 roku założyli bracia Adam i Beno Otrębowie oraz Paweł Berger. Zaliczany do najważniejszych zespołów w historii polskiej muzyki rockowo-bluesowej. Dżem wystąpi w składzie: Sebastian Riedel – śpiew (od 2024) Adam Otręba – gitara (1973-1982\, od 1983) Benedykt „Beno” Otręba – gitara basowa\, śpiew (1973-1976\, od 1980) Jerzy Styczyński – gitara (1979-1981\, od 1981) Zbigniew Szczerbiński – perkusja (od 1992) Janusz Borzucki – instrumenty klawiszowe (od 2005).
URL:https://kultura.tarnow.pl/wydarzenie/dzem/
LOCATION:Arena Jaskółka Tarnów\, ul. Traugutta 3B\, Tarnów\, Polska - małopolskie\, 33-101\, Polska
CATEGORIES:koncerty
GEO:50.009086;20.929684
X-APPLE-STRUCTURED-LOCATION;VALUE=URI;X-ADDRESS=Arena Jaskółka Tarnów ul. Traugutta 3B Tarnów Polska - małopolskie 33-101 Polska;X-APPLE-RADIUS=500;X-TITLE=ul. Traugutta 3B:geo:20.929684,50.009086
END:VEVENT
BEGIN:VEVENT
DTSTART;TZID=Europe/Warsaw:20250322T200000
DTEND;TZID=Europe/Warsaw:20250322T213000
DTSTAMP:20260423T045720
CREATED:20250313T130440Z
LAST-MODIFIED:20250321T104340Z
UID:10024604-1742673600-1742679000@kultura.tarnow.pl
SUMMARY:BaiKA - koncert
DESCRIPTION:Projekt muzyczny Piotra Banacha\, założyciela zespołów m.in. Hey i Indios Bravos\, gitarzysty\, kompozytora\, producenta ( IB\, Hey\, „puk\, puk” K. Nosowskiej\, Ludzie mili) oraz wokalistki i kompozytorki Katarzyny Figaj\, występującej pod scenicznym pseudonimem Kafi Ficaj. \nPoznali się w 2015 roku. Współpracują w oparciu o ideę DIY – zrób to sam\, komponując\, nagrywając\, produkując i koncertując od 2016. Do tej pory wydali jedną płytę koncertową (RK+) i dwie studyjne (Byty Zależne\, Zdecydowana Mniejszość). W dwuosobowym składzie grywają zarówno w bardzo małych\, kameralnych klubach\, a nawet w domach i ogrodach\, na średnich scenach oraz na dużych festiwalach takich jak Jarocin Festiwal\, czy Pol’and’Rock festiwal. \nUnikatowe zjawisko na polskiej scenie muzycznej.
URL:https://kultura.tarnow.pl/wydarzenie/baika-koncert/
LOCATION:Whiplash Music Bar\, Wałowa 2\, 33-100 Tarnów\, Polska - małopolskie\, 33-100\, Poland
CATEGORIES:koncerty
ATTACH;FMTTYPE=image/jpeg:https://kultura.tarnow.pl/wp-content/uploads/b0e7d34b-c3e1-4abc-b222-d73982a93d7c-scaled.jpg
END:VEVENT
END:VCALENDAR