BEGIN:VCALENDAR
VERSION:2.0
PRODID:-//kultura.tarnów - ECPv6.4.0.1//NONSGML v1.0//EN
CALSCALE:GREGORIAN
METHOD:PUBLISH
X-ORIGINAL-URL:https://kultura.tarnow.pl
X-WR-CALDESC:Wydarzenia dla
REFRESH-INTERVAL;VALUE=DURATION:PT1H
X-Robots-Tag:noindex
X-PUBLISHED-TTL:PT1H
BEGIN:VTIMEZONE
TZID:Europe/Warsaw
BEGIN:DAYLIGHT
TZOFFSETFROM:+0100
TZOFFSETTO:+0200
TZNAME:CEST
DTSTART:20250330T010000
END:DAYLIGHT
BEGIN:STANDARD
TZOFFSETFROM:+0200
TZOFFSETTO:+0100
TZNAME:CET
DTSTART:20251026T010000
END:STANDARD
END:VTIMEZONE
BEGIN:VEVENT
DTSTART;TZID=Europe/Warsaw:20250317T100000
DTEND;TZID=Europe/Warsaw:20250317T160000
DTSTAMP:20260423T045619
CREATED:20250305T115230Z
LAST-MODIFIED:20250305T115230Z
UID:10024565-1742205600-1742227200@kultura.tarnow.pl
SUMMARY:"Setki wykrzyczanych w głowie słów. O depresji" - wystawa fotografii
DESCRIPTION:Ogólnopolski dzień walki z depresją obchodzony jest 23 lutego\, ale osoby chorujące na depresję walczą o swoje życie każdego dnia. Wesprzyj je w tej walce. \nDepresja to nie to samo co chandra. Depresja to choroba o złożonych przyczynach (psychologicznych\, neurofizjologicznych i genetycznych\, społecznych). Nie wolno lekceważyć jej objawów. Szkodliwe jest bagatelizowanie tej choroby np. przez nazywanie Blue Monday – dniem depresyjnym – bo tu nie o ponurą pogodę chodzi i niski stan konta\, albo mówienie osobie chorej: weź się w garść! \nJeśli przez dwa tygodnie zauważasz u siebie lub bliskich (część z tych objawów): obniżony nastrój\, spadek aktywności i energii\, trudności z koncentracją\, nadmierne lub nieadekwatne poczucie winy\, beznadziejności\, zmianę apetytu lub snu\, czy nieznikające poczucie zmęczenia – poszukaj pomocy. Powiedz komuś zaufanemu jak się czujesz. Skonsultuj się ze specjalistą – psychologiem\, psychoterapeutą\, psychiatrą. Zadzwoń pod telefon zaufania dla dzieci\ni młodzieży 116 111 lub dla dorosłych 116 123 \nPomysł sesji fotograficznej i modelka: Joanna Kurek. Kuratorka\, oko i palec na spuście: Dorota Omylska. \nWystawa będzie dostępna w holu Dom.Ku do 18 kwietnia. \n 
URL:https://kultura.tarnow.pl/wydarzenie/setki-wykrzyczanych-w-glowie-slow-o-depresji-wystawa-fotografii/2025-03-17/
LOCATION:Dom Kultury Westerplatte 8a\, Westerplatte 8a\, Tarnów\, Polska - małopolskie\, 33-100\, Polska
CATEGORIES:wystawy
ORGANIZER;CN="Dom Kultury Westerplatte 8a":MAILTO:westerplatte@tck.pl
GEO:50.0273033;21.0087361
X-APPLE-STRUCTURED-LOCATION;VALUE=URI;X-ADDRESS=Dom Kultury Westerplatte 8a Westerplatte 8a Tarnów Polska - małopolskie 33-100 Polska;X-APPLE-RADIUS=500;X-TITLE=Westerplatte 8a:geo:21.0087361,50.0273033
END:VEVENT
BEGIN:VEVENT
DTSTART;TZID=Europe/Warsaw:20250317T100000
DTEND;TZID=Europe/Warsaw:20250317T170000
DTSTAMP:20260423T045619
CREATED:20250220T114701Z
LAST-MODIFIED:20250220T114701Z
UID:10024039-1742205600-1742230800@kultura.tarnow.pl
SUMMARY:„Hotel” – fotografie Krzysztofa Gołucha
DESCRIPTION:Zapraszamy wszystkich miłośników fotografii i sztuki do udziału w wydarzeniu\, które pozwoli spojrzeć na codzienność z innej perspektywy.\nWystawa Krzysztofa Gołucha jest efektem pięcioletniego projektu fotograficznego realizowanego w Zakładzie Aktywności Zawodowej Św. Marcina\, prowadzonego przez Caritas Archidiecezji Katowickiej. Fotografie z cyklu „Hotel” ukazują codzienną pracę osób z niepełnosprawnościami\, skłaniając do refleksji nad ludzkim przeznaczeniem. Statyczne postacie na zdjęciach emanują spokojem i ponadczasowością\, a kompozycje nawiązują do malarstwa Edwarda Hoppera. Jak zauważa profesor Vladimír Birgus\, autor balansuje między klasycznym dokumentem a inscenizowaną twórczością\, tworząc przemyślane i czyste kompozycje.\nKrzysztof Gołuch to artysta\, pedagog i doktor sztuki\, absolwent Instytutu Twórczej Fotografii Uniwersytetu Śląskiego w Opawie. Członek Polskiego Związku Artystów Fotografików specjalizuje się w fotografii dokumentalnej\, koncentrując się na tematyce życia osób z niepełnosprawnościami. Za swoją działalność został uhonorowany m.in. medalem papieskim Pro Ecclesia et Pontifice oraz Srebrnym Krzyżem Zasługi.⠀Ekspozycja będzie dostępna w dniach 8-29 marca 2025 r.\nGodziny otwarcia:dni powszednie 10:00–18:00soboty 10:00–17:00\nBilety: 7 zł (normalny) i 5 zł (ulgowy)
URL:https://kultura.tarnow.pl/wydarzenie/hotel-fotografie-krzysztofa-golucha-2/2025-03-17/
LOCATION:Tarnowskie Centrum Kultury\, Rynek 5\, Tarnów\, małopolskie\, 33-100\, Polska
CATEGORIES:wystawy
ATTACH;FMTTYPE=image/jpeg:https://kultura.tarnow.pl/wp-content/uploads/29d3da1e82e96263f8e59daa85312393-1.jpeg
GEO:50.012155;20.9878542
X-APPLE-STRUCTURED-LOCATION;VALUE=URI;X-ADDRESS=Tarnowskie Centrum Kultury Rynek 5 Tarnów małopolskie 33-100 Polska;X-APPLE-RADIUS=500;X-TITLE=Rynek 5:geo:20.9878542,50.012155
END:VEVENT
BEGIN:VEVENT
DTSTART;TZID=Europe/Warsaw:20250317T100000
DTEND;TZID=Europe/Warsaw:20250317T170000
DTSTAMP:20260423T045619
CREATED:20250225T082816Z
LAST-MODIFIED:20250225T082816Z
UID:10024477-1742205600-1742230800@kultura.tarnow.pl
SUMMARY:"Stan przejściowy"
DESCRIPTION:To\, co zwiemy początkiem\, to często jest kresem\,\nA dojście do kresu oznacza początek.\nKres jest tam\, skąd wyruszamy (…) [1]. \nSłowa Thomasa Eliota prawdopodobnie najlepiej oddają ideę wystawy\, która zrodziła się spontanicznie z potrzeby opowiedzenia o kwestiach\, które dotykają spraw granicznych: spotkania się z obrazami\, które jako zapis kodują\, porządkują\, utrwalają silne przeżycia oraz z inspiracji historiami będącymi świadectwami powrotu do życia. Stany przejściowe to opowieści o momentach rozpostartych pomiędzy starym a nowym\, identyfikowane jako zejście pod ziemię. To stany\, w których chwilowo zamierają sprawy rutyny\, a jednostka znajduje się w zawieszeniu\, rozdarta między przeszłością a teraźniejszością\, w progu\, w przedwiośniu\, pomiędzy zamrożeniem a wybudzeniem\, postem a odrodzeniem.\nVictor Turner wskazywał\, że rytuały liminalne\, czyli rytuały odbywające się w „przestrzeni pomiędzy”\, pomagają przejść przez trudne zmiany i odnaleźć nową tożsamość [2]. Jak pisał Pontalis: „poprzez symboliczną „przestrzeń przejściową” żywotna iskra osoby personalizuje się i zamieszkuje w ciele i rzeczywistości” [3]. Taką przestrzeń tworzą rytuały w tym między innymi sztuka – także jej nieustające archetypowe poszukiwania………………… . . . . .  .   .   .    .    .     .         .              . \n1  T. S. Eliot\, Little Gidding\, w.: Tenże\, Cztery kwartety\, tłum. K. Boczkowski\, Wydawnictwo Współczesne\, Warszawa 1988\n2  Aneta Gajda Boryczko – psychoterapeutka Gestalt\, https://www.facebook.com/gestaltanetagajdaboryczko [dostęp: 17.02.2025]\n3  D. Kalsched\, Trauma i dusza\, przeł. M. Kalinowska\, Instytut Studiów Kulturowych Raven\, Czeladź 2022 \n2 – 27.03.2025\nMultimedialne Centrum Artystyczne / Wałowa 25 – oddział BWA Tarnów \nWernisaż wystawy w niedzielę 2.03.2025\, g. 15:00. \nArtyści i artystki: Bartłomiej Bałut\, Tomasz Bielecki\, Agnieszka Bartak-Lisikiewicz\, Dominika Borek\, Agnieszka Pawłowska-Górska\, Zbigniew Pozarzycki \nKuratorki: Dominika Borek\, Agnieszka Pawłowska-Górska \nOprawa graficzna: Dominika Borek
URL:https://kultura.tarnow.pl/wydarzenie/stan-przejsciowy-2/2025-03-17/
LOCATION:Multimedialne Centrum Artystyczne\, Wałowa 25\, Tarnów\, małopolskie\, 33-100\, Polska
CATEGORIES:wystawy
ATTACH;FMTTYPE=image/jpeg:https://kultura.tarnow.pl/wp-content/uploads/481170334_1181430847323587_6521894495346367637_n.jpg
ORGANIZER;CN="Biuro Wystaw Artystycznych":MAILTO:biuro@bwa.tarnow.pl
GEO:50.013866931068;20.987989998201
X-APPLE-STRUCTURED-LOCATION;VALUE=URI;X-ADDRESS=Multimedialne Centrum Artystyczne Wałowa 25 Tarnów małopolskie 33-100 Polska;X-APPLE-RADIUS=500;X-TITLE=Wałowa 25:geo:20.987989998201,50.013866931068
END:VEVENT
END:VCALENDAR