BEGIN:VCALENDAR
VERSION:2.0
PRODID:-//kultura.tarnów - ECPv6.4.0.1//NONSGML v1.0//EN
CALSCALE:GREGORIAN
METHOD:PUBLISH
X-ORIGINAL-URL:https://kultura.tarnow.pl
X-WR-CALDESC:Wydarzenia dla
REFRESH-INTERVAL;VALUE=DURATION:PT1H
X-Robots-Tag:noindex
X-PUBLISHED-TTL:PT1H
BEGIN:VTIMEZONE
TZID:Europe/Warsaw
BEGIN:DAYLIGHT
TZOFFSETFROM:+0100
TZOFFSETTO:+0200
TZNAME:CEST
DTSTART:20250330T010000
END:DAYLIGHT
BEGIN:STANDARD
TZOFFSETFROM:+0200
TZOFFSETTO:+0100
TZNAME:CET
DTSTART:20251026T010000
END:STANDARD
END:VTIMEZONE
BEGIN:VEVENT
DTSTART;TZID=Europe/Warsaw:20250316T100000
DTEND;TZID=Europe/Warsaw:20250316T170000
DTSTAMP:20260423T190847
CREATED:20250225T082816Z
LAST-MODIFIED:20250225T082816Z
UID:10024476-1742119200-1742144400@kultura.tarnow.pl
SUMMARY:"Stan przejściowy"
DESCRIPTION:To\, co zwiemy początkiem\, to często jest kresem\,\nA dojście do kresu oznacza początek.\nKres jest tam\, skąd wyruszamy (…) [1]. \nSłowa Thomasa Eliota prawdopodobnie najlepiej oddają ideę wystawy\, która zrodziła się spontanicznie z potrzeby opowiedzenia o kwestiach\, które dotykają spraw granicznych: spotkania się z obrazami\, które jako zapis kodują\, porządkują\, utrwalają silne przeżycia oraz z inspiracji historiami będącymi świadectwami powrotu do życia. Stany przejściowe to opowieści o momentach rozpostartych pomiędzy starym a nowym\, identyfikowane jako zejście pod ziemię. To stany\, w których chwilowo zamierają sprawy rutyny\, a jednostka znajduje się w zawieszeniu\, rozdarta między przeszłością a teraźniejszością\, w progu\, w przedwiośniu\, pomiędzy zamrożeniem a wybudzeniem\, postem a odrodzeniem.\nVictor Turner wskazywał\, że rytuały liminalne\, czyli rytuały odbywające się w „przestrzeni pomiędzy”\, pomagają przejść przez trudne zmiany i odnaleźć nową tożsamość [2]. Jak pisał Pontalis: „poprzez symboliczną „przestrzeń przejściową” żywotna iskra osoby personalizuje się i zamieszkuje w ciele i rzeczywistości” [3]. Taką przestrzeń tworzą rytuały w tym między innymi sztuka – także jej nieustające archetypowe poszukiwania………………… . . . . .  .   .   .    .    .     .         .              . \n1  T. S. Eliot\, Little Gidding\, w.: Tenże\, Cztery kwartety\, tłum. K. Boczkowski\, Wydawnictwo Współczesne\, Warszawa 1988\n2  Aneta Gajda Boryczko – psychoterapeutka Gestalt\, https://www.facebook.com/gestaltanetagajdaboryczko [dostęp: 17.02.2025]\n3  D. Kalsched\, Trauma i dusza\, przeł. M. Kalinowska\, Instytut Studiów Kulturowych Raven\, Czeladź 2022 \n2 – 27.03.2025\nMultimedialne Centrum Artystyczne / Wałowa 25 – oddział BWA Tarnów \nWernisaż wystawy w niedzielę 2.03.2025\, g. 15:00. \nArtyści i artystki: Bartłomiej Bałut\, Tomasz Bielecki\, Agnieszka Bartak-Lisikiewicz\, Dominika Borek\, Agnieszka Pawłowska-Górska\, Zbigniew Pozarzycki \nKuratorki: Dominika Borek\, Agnieszka Pawłowska-Górska \nOprawa graficzna: Dominika Borek
URL:https://kultura.tarnow.pl/wydarzenie/stan-przejsciowy-2/2025-03-16/
LOCATION:Multimedialne Centrum Artystyczne\, Wałowa 25\, Tarnów\, małopolskie\, 33-100\, Polska
CATEGORIES:wystawy
ATTACH;FMTTYPE=image/jpeg:https://kultura.tarnow.pl/wp-content/uploads/481170334_1181430847323587_6521894495346367637_n.jpg
ORGANIZER;CN="Biuro Wystaw Artystycznych":MAILTO:biuro@bwa.tarnow.pl
GEO:50.013866931068;20.987989998201
X-APPLE-STRUCTURED-LOCATION;VALUE=URI;X-ADDRESS=Multimedialne Centrum Artystyczne Wałowa 25 Tarnów małopolskie 33-100 Polska;X-APPLE-RADIUS=500;X-TITLE=Wałowa 25:geo:20.987989998201,50.013866931068
END:VEVENT
BEGIN:VEVENT
DTSTART;TZID=Europe/Warsaw:20250316T100000
DTEND;TZID=Europe/Warsaw:20250316T170000
DTSTAMP:20260423T190847
CREATED:20250225T092551Z
LAST-MODIFIED:20250225T092551Z
UID:10024492-1742119200-1742144400@kultura.tarnow.pl
SUMMARY:Grzegorz Hańderek - "Podmuch"
DESCRIPTION:Z technicznego punktu widzenia ta wystawa należy do grupy wyjątkowo lekkich. Jest zbiorem rysunków tworzonych bez użycia narzędzi. Główną bohaterką prac okazuje się sadza\, która wtapia się w różne powierzchnie. Zapisuje białe flagi powiewające w przestrzeni miasta\, osadza się na kartkach papieru\, unosi się w pomieszczeniach zostawiając ślady na ścianach i podłogach. \nJej użycie jako efektu procesu spalania\, buduje sieć odniesień do innych substancji cyrkulujących w przyrodzie. Pozwala na fantazjowanie o dowodach rzeczowych pozbawionych konturów. Rozproszonym archiwum w ciągłym ruchu\, dalekim od uspokajającego wyobrażenia na temat przedmiotów i ciał\, jako obiektów o określonych wymiarach. \nSypka natura sadzy zachęca do opowiadania o długim trwaniu materii\, obserwowanym w rytmie falowym\, od powolnego zagęszczania do rozproszenia. Jej rozcieranie w palcach wyznacza drogę od kruszejących skał\, które zamieniają się w glebę\, przez składające się na nią pierwiastki\, po korzystające z nich organizmy\, przekształcające się w złoża węgla\, wydobyte\, spalone i unoszące się w powietrzu. \nDziałania rysunkowe Grzegorza Hańderka to pejzaże z popiołów\, formy skrystalizowane z  resztek i pozostałości. Opowieści\, których mechanizmem napędowym jest rozkład. Zbudowane z drobin w normalnych warunkach prawie nieuchwytnych dla oka\, które w wyniku wcierania i wsączania w różne powierzchnie\, zostają na moment unieruchomione i tylko przez to stają się widoczne. \nJak wszystko co sproszkowane\, kryją w sobie potencjał ruchu. Łatwo wyobrazić sobie podmuch\, który z powrotem unosi je w powietrze. Jego siła sprawia\, że przestrzeń wypełnia się czarnym pyłem tak gęsto\, że uniemożliwia widzenie. Skazuje władzę oka na bezużyteczność. Tym samym zagraża wszystkim modelom rzeczywistości\, których głównym celem jest kategoryzowanie i potrzeba wnikliwego poznania przynoszącego jednoznaczny wynik. \nChoć moment ciemności\, kiedy popioły cyrkulują w powietrzu nie trwa długo\, przynosi inne formy myślenia. Nową gramatykę opartą na wdechu i wydechu\, próbę orientacji w przestrzeni poza kontrolą spojrzenia. Kontakt z popiołem przypomina o naszej podległości wobec sił grawitacji. Ta kłopotliwa sytuacja na szczęście szybko się rozwiewa. Pyły w końcu opadają. Choć przestają być widoczne\, nieustannie osiadają na skórze i wypełniają płuca. Pozostawiają w krajobrazie zaskakująco cienką warstwę. \nGrzegorz Hańderek (ur. 1977\, Zabrze)\nArtysta wizualny\, kurator\, nauczyciel akademicki. W swoich działaniach koncentruje się na procesach realizowanych zarówno indywidualnie – czego efektem są m.in. rysunki oraz instalacje tworzone w oparciu o cielesne doświadczenia materii – jak i kolektywnie: inicjując zdarzenia na styku sztuki\, przestrzeni społecznej i ekosystemu publicznego. Jego projekty splatają wielogłosowe doświadczenia\, ślady i formy ekspresji zarówno podmiotów ludzkich\, jak i nieludzkich\, eksplorując sztukę jako medium relacyjne. Absolwent Akademii Sztuk Pięknych i Uniwersytetu Śląskiego w Katowicach. Na ASP w Katowicach prowadzi Pracownię Interpretacji Literatury\, a od 2020 roku pełni funkcję Rektora uczelni. \n6.03 – 6.04.2025\n \nBWA Tarnów / Pałacyk Strzelecki\, ul. Słowackiego 1 \nKuratorka Marta Lisok
URL:https://kultura.tarnow.pl/wydarzenie/grzegorz-handerek-podmuch-2/2025-03-16/
LOCATION:Biuro Wystaw Artystycznych\, ul. Słowackiego 1\, Tarnów\, małopolskie\, 33-100\, Polska
CATEGORIES:wystawy
ORGANIZER;CN="Biuro Wystaw Artystycznych":MAILTO:biuro@bwa.tarnow.pl
GEO:50.0178761;20.9827521
X-APPLE-STRUCTURED-LOCATION;VALUE=URI;X-ADDRESS=Biuro Wystaw Artystycznych ul. Słowackiego 1 Tarnów małopolskie 33-100 Polska;X-APPLE-RADIUS=500;X-TITLE=ul. Słowackiego 1:geo:20.9827521,50.0178761
END:VEVENT
BEGIN:VEVENT
DTSTART;TZID=Europe/Warsaw:20250316T100000
DTEND;TZID=Europe/Warsaw:20250316T170000
DTSTAMP:20260423T190847
CREATED:20250225T093108Z
LAST-MODIFIED:20250225T093108Z
UID:10024515-1742119200-1742144400@kultura.tarnow.pl
SUMMARY:Grzegorz Kwiek - "Kserofity"
DESCRIPTION:Wystawa Kserofity porusza temat botaniki przyszłości\, kreując nową rzeczywistość przepełnioną formami na pograniczu organicznych i syntetycznych. Cielesność tych form ujawnia się w subtelnych napięciach między kształtem a fakturą\, przywołując skojarzenia z materią żywego organizmu. Studium gatunku\, którego istotą jest przetrwanie mimo zmienności klimatu\, rodzi w odbiorcy zarówno niepokój\, jak i ciekawość nad przyszłością życia na Ziemi. \nKserofity to niezwykle ozdobne rośliny przystosowane do życia w trudnych warunkach. Nieustannie narażone są na brak wody oraz ekstremalne temperatury – zarówno wysokie\, jak i niskie. Rośliny te rozprzestrzeniają się w obszarach\, w których konkurencyjne gatunki nie mają szansy na zdobycie składników odżywczych. Kseromorficzność to cecha\, która warunkuje ich przeżycie. \nGrzegorz Kwiek (ur. 1993\, Tarnów) – Absolwent Wydziału Grafiki i Sztuki Mediów Akademii Sztuk Pięknych im. Eugeniusza Gepperta we Wrocławiu (dyplom 2021). Wykładowca na Wydziale Sztuki Akademii Tarnowskiej. Pasjonat tradycyjnej fotografii oraz działań na styku mediów analogowych i cyfrowych. Tworzy w obszarze szeroko pojętych sztuk multimedialnych. \nOprawa graficzna: Joanna Tyborowska \n6.03 – 6.04.2025\nBWA Tarnów / Pałacyk Strzelecki\, ul. Słowackiego 1
URL:https://kultura.tarnow.pl/wydarzenie/grzegorz-kwiek-kserofity-2/2025-03-16/
LOCATION:Biuro Wystaw Artystycznych\, ul. Słowackiego 1\, Tarnów\, małopolskie\, 33-100\, Polska
CATEGORIES:wystawy
ORGANIZER;CN="Biuro Wystaw Artystycznych":MAILTO:biuro@bwa.tarnow.pl
GEO:50.0178761;20.9827521
X-APPLE-STRUCTURED-LOCATION;VALUE=URI;X-ADDRESS=Biuro Wystaw Artystycznych ul. Słowackiego 1 Tarnów małopolskie 33-100 Polska;X-APPLE-RADIUS=500;X-TITLE=ul. Słowackiego 1:geo:20.9827521,50.0178761
END:VEVENT
BEGIN:VEVENT
DTSTART;TZID=Europe/Warsaw:20250316T160000
DTEND;TZID=Europe/Warsaw:20250316T173000
DTSTAMP:20260423T190847
CREATED:20250303T120930Z
LAST-MODIFIED:20250303T120930Z
UID:10024541-1742140800-1742146200@kultura.tarnow.pl
SUMMARY:Krogulski - tarnowski Mozart
DESCRIPTION:Zapraszamy na wyjątkowy koncert upamiętniający 200. rocznicę pierwszego publicznego recitalu wybitnego tarnowskiego twórcy\, Józefa Władysława Krogulskiego w Tarnowie\, rozpoczynającego jego artystyczną trasę koncertową (występ miał miejsce dokładnie 16 marca 1825 roku).Kompozytor pomimo bardzo młodego wieku zachwycał niezwykłą wirtuozerią w grze na fortepianie\, co przyjmowane było entuzjastycznie przez publiczność oklaskującą go na jego koncertach.\nWydarzenie to podkreśla także rozpoczynający się rok jubileuszowy 210 rocznicy urodzin „tarnowskiego Mozarta”\, dlatego też w programie niniejszego koncertu znajdą się dwa kameralne dzieła;\n\nKwartety fortepianowe W. A. Mozarta oraz J. W. Krogulskiego:W.A.Mozart: Kwartet fortepianowy g-moll KV 478J.W.Krogulski: Kwartet fotepianowy D-dur op. 2\n\nWykonawcy:Jagoda Prucnal – Podgórska – skrzypcePaweł Łukasik – altówkaJacek Podgórski – wiolonczelaJoanna Łukasik – fortepian\n\nOrganizatorzy:\nUrząd Miasta TarnowaTarnowskie Centrum KulturyRada Osiedla StarówkaPolska Fundacja Kultury i Rozwoju\nProjekt finansowany z budżetu Miasta Tarnowa\n\nPatronat honorowy:\nPrezydenta Miasta Tarnowa Jakuba KwaśnegoPrzewodniczącej Rady Miejskiej w Tarnowie Małgorzaty Mękal
URL:https://kultura.tarnow.pl/wydarzenie/krogulski-tarnowski-mozart/
LOCATION:Sala Lustrzana\, Wałowa 10\, Tarnów\, małopolskie\, 33-100\, Polska
CATEGORIES:koncerty
ATTACH;FMTTYPE=image/jpeg:https://kultura.tarnow.pl/wp-content/uploads/481246693_944001817920603_1723279085251661351_n.jpg
GEO:50.0133339;20.9861448
X-APPLE-STRUCTURED-LOCATION;VALUE=URI;X-ADDRESS=Sala Lustrzana Wałowa 10 Tarnów małopolskie 33-100 Polska;X-APPLE-RADIUS=500;X-TITLE=Wałowa 10:geo:20.9861448,50.0133339
END:VEVENT
BEGIN:VEVENT
DTSTART;TZID=Europe/Warsaw:20250316T180000
DTEND;TZID=Europe/Warsaw:20250316T193000
DTSTAMP:20260423T190847
CREATED:20250227T094339Z
LAST-MODIFIED:20250227T094339Z
UID:10024534-1742148000-1742153400@kultura.tarnow.pl
SUMMARY:Ryan Wang - recital fortepianowy
DESCRIPTION:Wybitny pedagog prof. Marian Rybicki\, dyrektor artystyczny Stowarzyszenia Animato w Paryżu zaprasza do sali koncertowej Zespołu Szkół Muzycznych w Tarnowie na kolejny recital fortepianowy. Tym razem publiczność będzie miała okazję posłuchać wyjątkowego pianisty pochodzącego z Kanady Ryana Wanga. Kiedyś okrzyknięty „cudownym dzieckiem”\, obecnie utytułowany nastoletni artysta zaprezentuje dzieła F. Chopina\, G. Faure\, F. Liszta i B. Bartoka. Koncert odbędzie się 16 marca 2025 roku o godzinie 18.00. Bilety na wydarzenie w cenie 30 zł będą dostępne w sekretariacie Szkoły Muzycznej od 10 marca.
URL:https://kultura.tarnow.pl/wydarzenie/ryan-wang-recital-fortepianowy/
LOCATION:Sala Koncertowa Zespołu Szkół Muzycznych\, Lippóczy’ego 4\, Tarnów\, małopolskie\, 33-100\, Polska
CATEGORIES:koncerty
ATTACH;FMTTYPE=image/jpeg:https://kultura.tarnow.pl/wp-content/uploads/plakat_RYAN-WANG-scaled.jpg
ORGANIZER;CN="Zesp%C3%B3%C5%82 Szk%C3%B3%C5%82 Muzycznych":MAILTO:szkola@zsmuz.tarnow.pl
GEO:50.0205582;20.9801972
X-APPLE-STRUCTURED-LOCATION;VALUE=URI;X-ADDRESS=Sala Koncertowa Zespołu Szkół Muzycznych Lippóczy’ego 4 Tarnów małopolskie 33-100 Polska;X-APPLE-RADIUS=500;X-TITLE=Lippóczy’ego 4:geo:20.9801972,50.0205582
END:VEVENT
BEGIN:VEVENT
DTSTART;TZID=Europe/Warsaw:20250316T180000
DTEND;TZID=Europe/Warsaw:20250316T200000
DTSTAMP:20260423T190847
CREATED:20250203T095148Z
LAST-MODIFIED:20250203T095148Z
UID:10023947-1742148000-1742155200@kultura.tarnow.pl
SUMMARY:Sławomir Mrożek "Tango"
DESCRIPTION:reż. E. Wojtaszek \nKlasyka polskiej literatury spod znaku absurdalnego humoru. Rodzina w dramacie Mrożka to soczewka\, w której odbijają się wciąż aktualne niepokoje\, napięcia\, międzypokoleniowe konflikty i mechanizmy historii. Panuje w niej „bezwład\, entropia i anarchia”. Świat naznaczony jest brakiem zasad i rozkładem wartości\, a całkowita niemoc inteligencji toruje drogę do władzy prymitywnej\, brutalnej sile. Napisana ponad pół wieku temu groteskowa tragikomedia “nie chce się zestarzeć” i z przenikliwością oraz poczuciem humoru opisuje także nasze czasy. Zawsze znajdzie się jakiś Artur\, który za wszelką cenę próbuje przywrócić porządek zastanego świata i jakiś Edek\, który czai się tuż za plecami tego pierwszego. \n13 i 14 marca (czwartek\, piątek) godz. 10.00 oraz 15 i 16 marca (sobota\, niedziela) godz. 18.00 Duża Scena \nBilety 40-60 zł \nhttps://teatr.tarnow.pl/spektakle/spektakle-spektakle/tango/
URL:https://kultura.tarnow.pl/wydarzenie/slawomir-mrozek-tango-2/2025-03-16/
LOCATION:Teatr im. L.Solskiego\, Mickiewicza 4\, Tarnów\, małopolskie\, 33-100\, Polska
CATEGORIES:spektakle
ATTACH;FMTTYPE=image/jpeg:https://kultura.tarnow.pl/wp-content/uploads/Tango-www-1.jpg
GEO:50.0159214;20.987504
X-APPLE-STRUCTURED-LOCATION;VALUE=URI;X-ADDRESS=Teatr im. L.Solskiego Mickiewicza 4 Tarnów małopolskie 33-100 Polska;X-APPLE-RADIUS=500;X-TITLE=Mickiewicza 4:geo:20.987504,50.0159214
END:VEVENT
BEGIN:VEVENT
DTSTART;TZID=Europe/Warsaw:20250316T190000
DTEND;TZID=Europe/Warsaw:20250316T210000
DTSTAMP:20260423T190847
CREATED:20250127T103200Z
LAST-MODIFIED:20250127T103328Z
UID:10023910-1742151600-1742158800@kultura.tarnow.pl
SUMMARY:Ania Szlagowska - Pierwsza Płyta Na Żywo Tour
DESCRIPTION:Ania Szlagowska – artystka z nowosądecką charyzmą. Od czternastego roku życia jej ulubionym zajęciem jest pisanie utworów. Alt pop z wpływami jazzu i folkloru. W październiku 2024 r. ukazał się jej debiutancki album „Pierwsza Płyta”. Pochodzi z gór\, ale uwielbia morze. Kocha koncertować (i jeździć pociągiem). \nKocham pociągi. „Pierwsza Płyta” to podróż TLK z Gdyni Głównej do Warszawy Centralnej przez Oslo i Nowy Sącz. To historia relacji najpierw przyjacielskiej\, potem romantycznej\, która z góry jest skazana na porażkę\, a mimo wszystko kończy się szczęśliwie – każdy idzie w swoją stronę\, ciesząc się wzajemnie ze szczęścia tej drugiej\, bliskiej niegdyś osoby. Pośrednimi stacjami są opowieści o relacji z rodzicami\, potrzebie ciszy i spokoju w erze niekończącej się “to do list”\, oraz zderzeniu z nowym środowiskiem\, w którym trudno się odnaleźć. Wychowałam się w Karpatach w Beskidzie Sądeckim i jestem przesiąknięta folklorem\, z którego zaczęłam twórczo czerpać wraz ze wzrostem mojej muzycznej świadomości. Niewiele mnie tak porusza jak prawda i pewna prostota muzyki ludowej\, dlatego wplatam zaśpiewy do moich piosenek. \n – opowiada o albumie Ania. \n“Pierwsza Płyta” to indie pop z wpływami folku i jazzu\, nieoczywiste harmonie\, wiele warstw wokali\, żywe instrumenty (gitara\, wiolonczela\, skrzypce\, bas\, saksofon\, perkusja\, fortepian\, cymbałki)\, ale również elektronika odgrywająca bardzo ważną rolę. Album porównywalny stylistyczną swobodą do Vito Bambino\, charakterem do „Grandy” Brodki\, brzmieniem do artystek takich jak Jorja Smith i Yebba. \nWażna jest dla niej jakość muzyki na żywo\, dlatego swój zespół złożyła z uznanych muzyków\, których twórczość ją inspiruje – gra z Miłoszem Olenieckim (P.Unity\, Miętha)\, Pawłem Stachowiakiem (Wuja HZG\, EABS\, Błoto) i Oskarem Augustynem (AWGS\, Miętha). Występowali na takich scenach jak Męskie Granie\, Letnia Scena by Kayax\, NEXT FEST\, Letnie Brzmienia\, Great September. Anię niejednokrotnie można było też usłyszeć w warszawskim klubie jazzowym Jassmine. \nKoncert: Ania Szlagowska – Pierwsza Płyta Na Żywo Tour\nData i godzina: 16.03.2025 r.\, godz. 19.00\nMiejsce: Piwnice TCK (Tarnów\, Rynek 5)\nBilety: 45 zł (dostępne online na stronie www.tck.pl oraz w Biurze Obsługi TCK od 22.01.25)\nOrganizator: Tarnowskie Centrum Kultury \nZapytana o proces powstawania muzyki\, Ania Szlagowska odpowiada następująco: \nMoim największym szczęściem są ludzie\, z którymi stworzyłam ten projekt. Miałam zaszczyt współpracować z Mariuszem Obijalskim\, którego twórczość i wrażliwość znałam dzięki Fisz Emade Tworzywo\, Albo Inaczej\, sanah\, Margaret. Jest współautorem pięciu z dwunastu utworów na płycie\, a nasza podróż zaczęła się od tego\, że po prostu wysłałam mu zdobytym mailem demo z pytaniem\, czy może zechciałby mi pomóc z produkcją.\nKolejnym producentem\, z którym chciałam spotkać się w studio już od liceum\, jest znany wielu z jazzowego środowiska – Kuba Więcek. Napisaliśmy kilka piosenek\, z których dwie\, zupełnie od siebie różne\, znajdą się na płycie. W międzyczasie bardzo się zaprzyjaźniliśmy.\nW gimnazjum byłam fanką zespołu The Dumplings\, śpiewałam ich piosenki na różnych konkursach. Tym bardziej teraz się cieszę\, że po wielu latach\, kiedy poznaliśmy się z Kubą Karasiem\, spontanicznie podczas rozmowy stwierdziliśmy\, że musimy tę rozmowę zamknąć we wspólnej piosence. Bardzo zależało mi\, żeby ten utwór był dialogiem\, więc jestem wdzięczna Kubie\, że oprócz produkcji wyjątkowo postanowił również zaśpiewać.\nDo współpracy z Dawidem Płonką doszło dzięki koncertowi Bitaminy\, gdzie Dawid wraz z siostrą Dominiką grali support. Tak mnie zachwyciły jego produkcje\, że po koncercie odnalazłam go w tłumie i zaproponowałam stworzenie czegoś razem.\n“Last but not least” jedyna\, ale za to jaka producentka! Z Gabrielą Cichy – ciiicho nagrałyśmy bardzo dla mnie ważny utwór “spokój w ciele” zamykający zarówno album\, jak i relację\, o której już pisałam.
URL:https://kultura.tarnow.pl/wydarzenie/ania-szlagowska-pierwsza-plyta-na-zywo-tour/
LOCATION:Tarnowskie Centrum Kultury\, Rynek 5\, Tarnów\, małopolskie\, 33-100\, Polska
CATEGORIES:koncerty
ATTACH;FMTTYPE=image/jpeg:https://kultura.tarnow.pl/wp-content/uploads/5419a06496e407a4b95bf86156ec9907.jpeg
GEO:50.012155;20.9878542
X-APPLE-STRUCTURED-LOCATION;VALUE=URI;X-ADDRESS=Tarnowskie Centrum Kultury Rynek 5 Tarnów małopolskie 33-100 Polska;X-APPLE-RADIUS=500;X-TITLE=Rynek 5:geo:20.9878542,50.012155
END:VEVENT
END:VCALENDAR