BEGIN:VCALENDAR
VERSION:2.0
PRODID:-//kultura.tarnów - ECPv6.4.0.1//NONSGML v1.0//EN
CALSCALE:GREGORIAN
METHOD:PUBLISH
X-ORIGINAL-URL:https://kultura.tarnow.pl
X-WR-CALDESC:Wydarzenia dla
REFRESH-INTERVAL;VALUE=DURATION:PT1H
X-Robots-Tag:noindex
X-PUBLISHED-TTL:PT1H
BEGIN:VTIMEZONE
TZID:Europe/Warsaw
BEGIN:DAYLIGHT
TZOFFSETFROM:+0100
TZOFFSETTO:+0200
TZNAME:CEST
DTSTART:20250330T010000
END:DAYLIGHT
BEGIN:STANDARD
TZOFFSETFROM:+0200
TZOFFSETTO:+0100
TZNAME:CET
DTSTART:20251026T010000
END:STANDARD
END:VTIMEZONE
BEGIN:VEVENT
DTSTART;TZID=Europe/Warsaw:20250315T100000
DTEND;TZID=Europe/Warsaw:20250315T170000
DTSTAMP:20260423T101932
CREATED:20250220T114701Z
LAST-MODIFIED:20250220T114701Z
UID:10024038-1742032800-1742058000@kultura.tarnow.pl
SUMMARY:„Hotel” – fotografie Krzysztofa Gołucha
DESCRIPTION:Zapraszamy wszystkich miłośników fotografii i sztuki do udziału w wydarzeniu\, które pozwoli spojrzeć na codzienność z innej perspektywy.\nWystawa Krzysztofa Gołucha jest efektem pięcioletniego projektu fotograficznego realizowanego w Zakładzie Aktywności Zawodowej Św. Marcina\, prowadzonego przez Caritas Archidiecezji Katowickiej. Fotografie z cyklu „Hotel” ukazują codzienną pracę osób z niepełnosprawnościami\, skłaniając do refleksji nad ludzkim przeznaczeniem. Statyczne postacie na zdjęciach emanują spokojem i ponadczasowością\, a kompozycje nawiązują do malarstwa Edwarda Hoppera. Jak zauważa profesor Vladimír Birgus\, autor balansuje między klasycznym dokumentem a inscenizowaną twórczością\, tworząc przemyślane i czyste kompozycje.\nKrzysztof Gołuch to artysta\, pedagog i doktor sztuki\, absolwent Instytutu Twórczej Fotografii Uniwersytetu Śląskiego w Opawie. Członek Polskiego Związku Artystów Fotografików specjalizuje się w fotografii dokumentalnej\, koncentrując się na tematyce życia osób z niepełnosprawnościami. Za swoją działalność został uhonorowany m.in. medalem papieskim Pro Ecclesia et Pontifice oraz Srebrnym Krzyżem Zasługi.⠀Ekspozycja będzie dostępna w dniach 8-29 marca 2025 r.\nGodziny otwarcia:dni powszednie 10:00–18:00soboty 10:00–17:00\nBilety: 7 zł (normalny) i 5 zł (ulgowy)
URL:https://kultura.tarnow.pl/wydarzenie/hotel-fotografie-krzysztofa-golucha-2/2025-03-15/
LOCATION:Tarnowskie Centrum Kultury\, Rynek 5\, Tarnów\, małopolskie\, 33-100\, Polska
CATEGORIES:wystawy
ATTACH;FMTTYPE=image/jpeg:https://kultura.tarnow.pl/wp-content/uploads/29d3da1e82e96263f8e59daa85312393-1.jpeg
GEO:50.012155;20.9878542
X-APPLE-STRUCTURED-LOCATION;VALUE=URI;X-ADDRESS=Tarnowskie Centrum Kultury Rynek 5 Tarnów małopolskie 33-100 Polska;X-APPLE-RADIUS=500;X-TITLE=Rynek 5:geo:20.9878542,50.012155
END:VEVENT
BEGIN:VEVENT
DTSTART;TZID=Europe/Warsaw:20250315T110000
DTEND;TZID=Europe/Warsaw:20250315T180000
DTSTAMP:20260423T101932
CREATED:20250306T133407Z
LAST-MODIFIED:20250306T133407Z
UID:10024592-1742036400-1742061600@kultura.tarnow.pl
SUMMARY:177. rocznica wybuchu Wiosny Ludów
DESCRIPTION:
URL:https://kultura.tarnow.pl/wydarzenie/177-rocznica-wybuchu-wiosny-ludow/
LOCATION:Sala Koncertowa Zespołu Szkół Muzycznych\, Lippóczy’ego 4\, Tarnów\, małopolskie\, 33-100\, Polska
CATEGORIES:koncerty,uroczystości patriotyczne
ATTACH;FMTTYPE=image/jpeg:https://kultura.tarnow.pl/wp-content/uploads/marcius15-PL-scaled.jpg
GEO:50.0205582;20.9801972
X-APPLE-STRUCTURED-LOCATION;VALUE=URI;X-ADDRESS=Sala Koncertowa Zespołu Szkół Muzycznych Lippóczy’ego 4 Tarnów małopolskie 33-100 Polska;X-APPLE-RADIUS=500;X-TITLE=Lippóczy’ego 4:geo:20.9801972,50.0205582
END:VEVENT
BEGIN:VEVENT
DTSTART;TZID=Europe/Warsaw:20250315T173000
DTEND;TZID=Europe/Warsaw:20250315T193000
DTSTAMP:20260423T101932
CREATED:20250213T090828Z
LAST-MODIFIED:20250213T090828Z
UID:10024015-1742059800-1742067000@kultura.tarnow.pl
SUMMARY:Koncert Małe TGD - Dzień Dziecka przez cały rok
DESCRIPTION:Każdy z nas nosi w sobie szczerą\, dziecięcą radość… dlatego warto celebrować ją wspólnie z najmłodszymi! Małe TGD to najpopularniejszy zespół dziecięcy w Polsce wykonujący muzykę pop z ponadczasowym przesłaniem. Grupa koncertuje od wielu lat\, a w 2024 roku\, po raz pierwszy w historii\, przygotowała niesamowite widowisko muzyczne i wyruszyła w wielką trasę koncertową. Na widzów czeka niezapomniany show\, który udowodni\, że Dzień Dziecka może trwać cały rok! \nW 2017 roku grupa Małe TGD wydała debiutancką płytę „Góry do góry”\, a w 2019 ukazał się drugi album – pt. „Wyspa skarbów”. Dwa lata później\, w okresie pandemii\, pojawiła się płyta „Online”. Wszystkie utwory zespołu Małe TGD to porywające\, energiczne i pełne radości piosenki\, które w lekki i przyjemny sposób przekazują ważne treści. \nNa początku 2020 roku album „Wyspa skarbów” został nominowany do Fryderyka w kategorii muzyka dziecięca i młodzieżowa. Zespół Małe TGD może pochwalić się współpracą ze znanymi artystami\, m.in. z Roksaną Węgiel. \nNajwiększy hit Małego TGD to z pewnością utwór „Góry do góry”\, rozpoczynający się słowami „Piękny świat przemierzasz po maleńku […]”. Teledysk do tego utworu zgromadził już ponad 100 milionów wyświetleń na YouTube! \nDzieciaki koncertują na żywo\, a każdy występ Małego TGD to mnóstwo skocznych utworów\, przebojowych fraz i wyjątkowe dziecięce głosy. \nW 2024 roku Małe TGD wyruszyło w swoją pierwszą trasę koncertową pod nazwą „Dzień Dziecka przez cały rok”. Z tej okazji został przygotowany niezwykły show\, pełen efektów specjalnych i wizualizacji. Dzięki temu udział w koncercie Małego TGD stanie się niezapomnianym przeżyciem zarówno dla dzieci\, jak i dorosłych. \n \n 
URL:https://kultura.tarnow.pl/wydarzenie/koncert-male-tgd-dzien-dziecka-przez-caly-rok/
LOCATION:Hala Sportowo – Widowiskowa Pałacu Młodzieży\, Gumniska 28\, Tarnów\, małopolskie\, 33-100
CATEGORIES:koncerty
ATTACH;FMTTYPE=image/jpeg:https://kultura.tarnow.pl/wp-content/uploads/TGD.jpg
GEO:50.0086904;21.0004286
X-APPLE-STRUCTURED-LOCATION;VALUE=URI;X-ADDRESS=Hala Sportowo – Widowiskowa Pałacu Młodzieży Gumniska 28 Tarnów małopolskie 33-100;X-APPLE-RADIUS=500;X-TITLE=Gumniska 28:geo:21.0004286,50.0086904
END:VEVENT
BEGIN:VEVENT
DTSTART;TZID=Europe/Warsaw:20250315T180000
DTEND;TZID=Europe/Warsaw:20250315T200000
DTSTAMP:20260423T101932
CREATED:20250203T095148Z
LAST-MODIFIED:20250203T095148Z
UID:10023946-1742061600-1742068800@kultura.tarnow.pl
SUMMARY:Sławomir Mrożek "Tango"
DESCRIPTION:reż. E. Wojtaszek \nKlasyka polskiej literatury spod znaku absurdalnego humoru. Rodzina w dramacie Mrożka to soczewka\, w której odbijają się wciąż aktualne niepokoje\, napięcia\, międzypokoleniowe konflikty i mechanizmy historii. Panuje w niej „bezwład\, entropia i anarchia”. Świat naznaczony jest brakiem zasad i rozkładem wartości\, a całkowita niemoc inteligencji toruje drogę do władzy prymitywnej\, brutalnej sile. Napisana ponad pół wieku temu groteskowa tragikomedia “nie chce się zestarzeć” i z przenikliwością oraz poczuciem humoru opisuje także nasze czasy. Zawsze znajdzie się jakiś Artur\, który za wszelką cenę próbuje przywrócić porządek zastanego świata i jakiś Edek\, który czai się tuż za plecami tego pierwszego. \n13 i 14 marca (czwartek\, piątek) godz. 10.00 oraz 15 i 16 marca (sobota\, niedziela) godz. 18.00 Duża Scena \nBilety 40-60 zł \nhttps://teatr.tarnow.pl/spektakle/spektakle-spektakle/tango/
URL:https://kultura.tarnow.pl/wydarzenie/slawomir-mrozek-tango-2/2025-03-15/
LOCATION:Teatr im. L.Solskiego\, Mickiewicza 4\, Tarnów\, małopolskie\, 33-100\, Polska
CATEGORIES:spektakle
ATTACH;FMTTYPE=image/jpeg:https://kultura.tarnow.pl/wp-content/uploads/Tango-www-1.jpg
GEO:50.0159214;20.987504
X-APPLE-STRUCTURED-LOCATION;VALUE=URI;X-ADDRESS=Teatr im. L.Solskiego Mickiewicza 4 Tarnów małopolskie 33-100 Polska;X-APPLE-RADIUS=500;X-TITLE=Mickiewicza 4:geo:20.987504,50.0159214
END:VEVENT
END:VCALENDAR