BEGIN:VCALENDAR
VERSION:2.0
PRODID:-//kultura.tarnów - ECPv6.4.0.1//NONSGML v1.0//EN
CALSCALE:GREGORIAN
METHOD:PUBLISH
X-ORIGINAL-URL:https://kultura.tarnow.pl
X-WR-CALDESC:Wydarzenia dla
REFRESH-INTERVAL;VALUE=DURATION:PT1H
X-Robots-Tag:noindex
X-PUBLISHED-TTL:PT1H
BEGIN:VTIMEZONE
TZID:Europe/Warsaw
BEGIN:DAYLIGHT
TZOFFSETFROM:+0100
TZOFFSETTO:+0200
TZNAME:CEST
DTSTART:20250330T010000
END:DAYLIGHT
BEGIN:STANDARD
TZOFFSETFROM:+0200
TZOFFSETTO:+0100
TZNAME:CET
DTSTART:20251026T010000
END:STANDARD
END:VTIMEZONE
BEGIN:VEVENT
DTSTART;TZID=Europe/Warsaw:20250309T100000
DTEND;TZID=Europe/Warsaw:20250309T170000
DTSTAMP:20260424T091904
CREATED:20250225T082816Z
LAST-MODIFIED:20250225T082816Z
UID:10024472-1741514400-1741539600@kultura.tarnow.pl
SUMMARY:"Stan przejściowy"
DESCRIPTION:To\, co zwiemy początkiem\, to często jest kresem\,\nA dojście do kresu oznacza początek.\nKres jest tam\, skąd wyruszamy (…) [1]. \nSłowa Thomasa Eliota prawdopodobnie najlepiej oddają ideę wystawy\, która zrodziła się spontanicznie z potrzeby opowiedzenia o kwestiach\, które dotykają spraw granicznych: spotkania się z obrazami\, które jako zapis kodują\, porządkują\, utrwalają silne przeżycia oraz z inspiracji historiami będącymi świadectwami powrotu do życia. Stany przejściowe to opowieści o momentach rozpostartych pomiędzy starym a nowym\, identyfikowane jako zejście pod ziemię. To stany\, w których chwilowo zamierają sprawy rutyny\, a jednostka znajduje się w zawieszeniu\, rozdarta między przeszłością a teraźniejszością\, w progu\, w przedwiośniu\, pomiędzy zamrożeniem a wybudzeniem\, postem a odrodzeniem.\nVictor Turner wskazywał\, że rytuały liminalne\, czyli rytuały odbywające się w „przestrzeni pomiędzy”\, pomagają przejść przez trudne zmiany i odnaleźć nową tożsamość [2]. Jak pisał Pontalis: „poprzez symboliczną „przestrzeń przejściową” żywotna iskra osoby personalizuje się i zamieszkuje w ciele i rzeczywistości” [3]. Taką przestrzeń tworzą rytuały w tym między innymi sztuka – także jej nieustające archetypowe poszukiwania………………… . . . . .  .   .   .    .    .     .         .              . \n1  T. S. Eliot\, Little Gidding\, w.: Tenże\, Cztery kwartety\, tłum. K. Boczkowski\, Wydawnictwo Współczesne\, Warszawa 1988\n2  Aneta Gajda Boryczko – psychoterapeutka Gestalt\, https://www.facebook.com/gestaltanetagajdaboryczko [dostęp: 17.02.2025]\n3  D. Kalsched\, Trauma i dusza\, przeł. M. Kalinowska\, Instytut Studiów Kulturowych Raven\, Czeladź 2022 \n2 – 27.03.2025\nMultimedialne Centrum Artystyczne / Wałowa 25 – oddział BWA Tarnów \nWernisaż wystawy w niedzielę 2.03.2025\, g. 15:00. \nArtyści i artystki: Bartłomiej Bałut\, Tomasz Bielecki\, Agnieszka Bartak-Lisikiewicz\, Dominika Borek\, Agnieszka Pawłowska-Górska\, Zbigniew Pozarzycki \nKuratorki: Dominika Borek\, Agnieszka Pawłowska-Górska \nOprawa graficzna: Dominika Borek
URL:https://kultura.tarnow.pl/wydarzenie/stan-przejsciowy-2/2025-03-09/
LOCATION:Multimedialne Centrum Artystyczne\, Wałowa 25\, Tarnów\, małopolskie\, 33-100\, Polska
CATEGORIES:wystawy
ATTACH;FMTTYPE=image/jpeg:https://kultura.tarnow.pl/wp-content/uploads/481170334_1181430847323587_6521894495346367637_n.jpg
ORGANIZER;CN="Biuro Wystaw Artystycznych":MAILTO:biuro@bwa.tarnow.pl
GEO:50.013866931068;20.987989998201
X-APPLE-STRUCTURED-LOCATION;VALUE=URI;X-ADDRESS=Multimedialne Centrum Artystyczne Wałowa 25 Tarnów małopolskie 33-100 Polska;X-APPLE-RADIUS=500;X-TITLE=Wałowa 25:geo:20.987989998201,50.013866931068
END:VEVENT
BEGIN:VEVENT
DTSTART;TZID=Europe/Warsaw:20250309T100000
DTEND;TZID=Europe/Warsaw:20250309T170000
DTSTAMP:20260424T091904
CREATED:20250225T092551Z
LAST-MODIFIED:20250225T092551Z
UID:10024487-1741514400-1741539600@kultura.tarnow.pl
SUMMARY:Grzegorz Hańderek - "Podmuch"
DESCRIPTION:Z technicznego punktu widzenia ta wystawa należy do grupy wyjątkowo lekkich. Jest zbiorem rysunków tworzonych bez użycia narzędzi. Główną bohaterką prac okazuje się sadza\, która wtapia się w różne powierzchnie. Zapisuje białe flagi powiewające w przestrzeni miasta\, osadza się na kartkach papieru\, unosi się w pomieszczeniach zostawiając ślady na ścianach i podłogach. \nJej użycie jako efektu procesu spalania\, buduje sieć odniesień do innych substancji cyrkulujących w przyrodzie. Pozwala na fantazjowanie o dowodach rzeczowych pozbawionych konturów. Rozproszonym archiwum w ciągłym ruchu\, dalekim od uspokajającego wyobrażenia na temat przedmiotów i ciał\, jako obiektów o określonych wymiarach. \nSypka natura sadzy zachęca do opowiadania o długim trwaniu materii\, obserwowanym w rytmie falowym\, od powolnego zagęszczania do rozproszenia. Jej rozcieranie w palcach wyznacza drogę od kruszejących skał\, które zamieniają się w glebę\, przez składające się na nią pierwiastki\, po korzystające z nich organizmy\, przekształcające się w złoża węgla\, wydobyte\, spalone i unoszące się w powietrzu. \nDziałania rysunkowe Grzegorza Hańderka to pejzaże z popiołów\, formy skrystalizowane z  resztek i pozostałości. Opowieści\, których mechanizmem napędowym jest rozkład. Zbudowane z drobin w normalnych warunkach prawie nieuchwytnych dla oka\, które w wyniku wcierania i wsączania w różne powierzchnie\, zostają na moment unieruchomione i tylko przez to stają się widoczne. \nJak wszystko co sproszkowane\, kryją w sobie potencjał ruchu. Łatwo wyobrazić sobie podmuch\, który z powrotem unosi je w powietrze. Jego siła sprawia\, że przestrzeń wypełnia się czarnym pyłem tak gęsto\, że uniemożliwia widzenie. Skazuje władzę oka na bezużyteczność. Tym samym zagraża wszystkim modelom rzeczywistości\, których głównym celem jest kategoryzowanie i potrzeba wnikliwego poznania przynoszącego jednoznaczny wynik. \nChoć moment ciemności\, kiedy popioły cyrkulują w powietrzu nie trwa długo\, przynosi inne formy myślenia. Nową gramatykę opartą na wdechu i wydechu\, próbę orientacji w przestrzeni poza kontrolą spojrzenia. Kontakt z popiołem przypomina o naszej podległości wobec sił grawitacji. Ta kłopotliwa sytuacja na szczęście szybko się rozwiewa. Pyły w końcu opadają. Choć przestają być widoczne\, nieustannie osiadają na skórze i wypełniają płuca. Pozostawiają w krajobrazie zaskakująco cienką warstwę. \nGrzegorz Hańderek (ur. 1977\, Zabrze)\nArtysta wizualny\, kurator\, nauczyciel akademicki. W swoich działaniach koncentruje się na procesach realizowanych zarówno indywidualnie – czego efektem są m.in. rysunki oraz instalacje tworzone w oparciu o cielesne doświadczenia materii – jak i kolektywnie: inicjując zdarzenia na styku sztuki\, przestrzeni społecznej i ekosystemu publicznego. Jego projekty splatają wielogłosowe doświadczenia\, ślady i formy ekspresji zarówno podmiotów ludzkich\, jak i nieludzkich\, eksplorując sztukę jako medium relacyjne. Absolwent Akademii Sztuk Pięknych i Uniwersytetu Śląskiego w Katowicach. Na ASP w Katowicach prowadzi Pracownię Interpretacji Literatury\, a od 2020 roku pełni funkcję Rektora uczelni. \n6.03 – 6.04.2025\n \nBWA Tarnów / Pałacyk Strzelecki\, ul. Słowackiego 1 \nKuratorka Marta Lisok
URL:https://kultura.tarnow.pl/wydarzenie/grzegorz-handerek-podmuch-2/2025-03-09/
LOCATION:Biuro Wystaw Artystycznych\, ul. Słowackiego 1\, Tarnów\, małopolskie\, 33-100\, Polska
CATEGORIES:wystawy
ORGANIZER;CN="Biuro Wystaw Artystycznych":MAILTO:biuro@bwa.tarnow.pl
GEO:50.0178761;20.9827521
X-APPLE-STRUCTURED-LOCATION;VALUE=URI;X-ADDRESS=Biuro Wystaw Artystycznych ul. Słowackiego 1 Tarnów małopolskie 33-100 Polska;X-APPLE-RADIUS=500;X-TITLE=ul. Słowackiego 1:geo:20.9827521,50.0178761
END:VEVENT
BEGIN:VEVENT
DTSTART;TZID=Europe/Warsaw:20250309T100000
DTEND;TZID=Europe/Warsaw:20250309T170000
DTSTAMP:20260424T091904
CREATED:20250225T093108Z
LAST-MODIFIED:20250225T093108Z
UID:10024510-1741514400-1741539600@kultura.tarnow.pl
SUMMARY:Grzegorz Kwiek - "Kserofity"
DESCRIPTION:Wystawa Kserofity porusza temat botaniki przyszłości\, kreując nową rzeczywistość przepełnioną formami na pograniczu organicznych i syntetycznych. Cielesność tych form ujawnia się w subtelnych napięciach między kształtem a fakturą\, przywołując skojarzenia z materią żywego organizmu. Studium gatunku\, którego istotą jest przetrwanie mimo zmienności klimatu\, rodzi w odbiorcy zarówno niepokój\, jak i ciekawość nad przyszłością życia na Ziemi. \nKserofity to niezwykle ozdobne rośliny przystosowane do życia w trudnych warunkach. Nieustannie narażone są na brak wody oraz ekstremalne temperatury – zarówno wysokie\, jak i niskie. Rośliny te rozprzestrzeniają się w obszarach\, w których konkurencyjne gatunki nie mają szansy na zdobycie składników odżywczych. Kseromorficzność to cecha\, która warunkuje ich przeżycie. \nGrzegorz Kwiek (ur. 1993\, Tarnów) – Absolwent Wydziału Grafiki i Sztuki Mediów Akademii Sztuk Pięknych im. Eugeniusza Gepperta we Wrocławiu (dyplom 2021). Wykładowca na Wydziale Sztuki Akademii Tarnowskiej. Pasjonat tradycyjnej fotografii oraz działań na styku mediów analogowych i cyfrowych. Tworzy w obszarze szeroko pojętych sztuk multimedialnych. \nOprawa graficzna: Joanna Tyborowska \n6.03 – 6.04.2025\nBWA Tarnów / Pałacyk Strzelecki\, ul. Słowackiego 1
URL:https://kultura.tarnow.pl/wydarzenie/grzegorz-kwiek-kserofity-2/2025-03-09/
LOCATION:Biuro Wystaw Artystycznych\, ul. Słowackiego 1\, Tarnów\, małopolskie\, 33-100\, Polska
CATEGORIES:wystawy
ORGANIZER;CN="Biuro Wystaw Artystycznych":MAILTO:biuro@bwa.tarnow.pl
GEO:50.0178761;20.9827521
X-APPLE-STRUCTURED-LOCATION;VALUE=URI;X-ADDRESS=Biuro Wystaw Artystycznych ul. Słowackiego 1 Tarnów małopolskie 33-100 Polska;X-APPLE-RADIUS=500;X-TITLE=ul. Słowackiego 1:geo:20.9827521,50.0178761
END:VEVENT
BEGIN:VEVENT
DTSTART;TZID=Europe/Warsaw:20250309T100000
DTEND;TZID=Europe/Warsaw:20250309T200000
DTSTAMP:20260424T091904
CREATED:20250204T103117Z
LAST-MODIFIED:20250204T103117Z
UID:10023985-1741514400-1741550400@kultura.tarnow.pl
SUMMARY:Jarmark Kaziukowy
DESCRIPTION:Rękodzieło\, regionalne przysmaki a może zabawy dla najmłodszych? Te i inne rzeczy czekać będą na mieszkańców na tarnowskim rynku. W drugi weekend marca (7-9.03) odbędzie się tam Jarmark Kaziukowy. \n\n\n\n\n\n\nOficjalne otwarcie będzie miało miejsce w piątek\, 7 marca. O godzinie 12 ruszy sprzedaż na stoiskach z rękodziełem\, pamiątkami i regionalnymi przysmakami. Godzinę później organizatorzy częstować będą przechodniów tortem z okazji urodzin Tarnowa. Przygotowano też szereg atrakcji dla najmłodszych\, jak malowanie figurek\, plecenie kolorowych warkoczyków czy zabawa na dmuchańcach. Starsi natomiast będą mogli wziąć udział w konkursie wiedzy o Tarnowie. \nSobota otworzy się ponownie jarmarkiem\, tym razem towarzyszyć mu będzie Dj na żywo\, namiot animacyjny oraz pochód Kaziukowy. Podczas tego ostatniego przez rynek przejdą połykacze ognia\, szczudlarze i kuglarze. \nPodczas ostatniego dnia jarmarku (niedziela) na najmłodszych czekać będą warsztaty i animacje\, a także dmuchańce i kolejka Drago.
URL:https://kultura.tarnow.pl/wydarzenie/jarmark-kaziukowy/2025-03-09/
LOCATION:Rynek\, Tarnów\, małopolskie\, 33-100\, Polska
CATEGORIES:festiwale
ATTACH;FMTTYPE=image/png:https://kultura.tarnow.pl/wp-content/uploads/Program-Kaziuki-Tranow.png
GEO:50.0121011;20.9858407
END:VEVENT
BEGIN:VEVENT
DTSTART;TZID=Europe/Warsaw:20250309T180000
DTEND;TZID=Europe/Warsaw:20250309T210000
DTSTAMP:20260424T091904
CREATED:20250307T102858Z
LAST-MODIFIED:20250307T102858Z
UID:10024595-1741543200-1741554000@kultura.tarnow.pl
SUMMARY:„następny” spektakl muzyczny
DESCRIPTION:Zapraszamy na premierę spektaklu „następny” na podstawie utworów Jacques’a Brela w reżyserii Dominiki Migoń-Madury w najmniejszej scenie świata!\nSpektakl o godz. 18.00 i 19.00\nKażdy z nas jest wyjątkowy i niepowtarzalny. nasze sukcesy\, ale i porażki wydają się być jedyne w swoim rodzaju. podążające własnym torem. jednak w pewnym momencie naszej życiowej drogi zdajemy sobie sprawę z tego\, że jesteśmy po prostu – następni. Możemy zatem utożsamiać swoje historie z tymi\, które przeżyli nasi przyjaciele\, ale i zupełnie obcy nam ludzie.\n„że być następnym niżPoprzednim lepiej jest.”\n„Następny” to muzyczna opowieść zbudowana na dobrze znanych wielu miłośnikom piosenki poetyckiej i aktorskiej utworach nietuzinkowego twórcy jakim był Jacques Brel w tłumaczeniach mistrza – Wojciecha Młynarskiego.Zatem następni\, którzy za Brela się biorą i którzy chcą pokazać jego wrażliwość w nieco inny niż zazwyczaj sposób. tym razem z wielogłosu historii belgijskiego barda stworzona zostanie jedna opowieść. O miłości\, tęsknocie\, rozstaniach i powrotach. zwyczajnie. prosto. bez zbędnego patosu i elegancji.\n\n\n8 marca 2025 r.\, 20.00Najmniejsza scena świata | Rynek 9/5 w Tarnowie\nRezerwacja miejsc: w wiadomości na fb lub pod numerem 731 443 970 (pamiętajcie\, że jesteśmy najmniejszą sceną i mamy bardzo mało wolnych miejsc!)50 zł – bilet normalny30 zł – bilet dla uczniów i studentów\nWystępują: dawid mik i Filip KotScenariusz\, reżyseria i plastyka przestrzeni: Dominika Migoń-Madura
URL:https://kultura.tarnow.pl/wydarzenie/nastepny-spektakl-muzyczny/2025-03-09/
LOCATION:Najmniejsza Scena Świata\, Rynek 9/5\, Tarnów\, 33-100
CATEGORIES:spektakle
ATTACH;FMTTYPE=image/jpeg:https://kultura.tarnow.pl/wp-content/uploads/482087423_1204152518384053_4188995721094421999_n.jpg
ORGANIZER;CN="Najmniejsza Scena %C5%9Awiata":MAILTO:najmniejszascenaswiata@gmail.com
END:VEVENT
BEGIN:VEVENT
DTSTART;TZID=Europe/Warsaw:20250309T190000
DTEND;TZID=Europe/Warsaw:20250309T210000
DTSTAMP:20260424T091904
CREATED:20250107T081337Z
LAST-MODIFIED:20250107T081337Z
UID:10023800-1741546800-1741554000@kultura.tarnow.pl
SUMMARY:Ania Wyszkoni "Wszystkiego najlepszego"
DESCRIPTION:Wszystkiego najlepszego – wypowiadamy te słowa niemal codziennie składając komuś życzenia\, pozdrawiając przez telefon lub po prostu życząc dobrego dnia. W tych słowach jest zawarte wszystko\, co chcemy przekazać drugiej osobie. Na pozór banalne\, ale jeśli są wypowiedziane szczerze\, to mogą mieć dla drugiego człowieka dużą wartość. „Wszystkiego najlepszego” to piosenka i kolejny singiel z mojej najlepszej płyty „Z cegieł i łez”. I jedna z najważniejszych na tej płycie. Wszystkiego najlepszego to kontynuacja mojej ukochanej trasy koncertowej „Z cegieł i łez”. Z nową oprawą i nieco zmienionym repertuarem. Jak zwykle nie zabraknie Waszych ulubionych przebojów i niespodzianek\, którymi lubię Was zaskakiwać na każdej nowej trasie. Podczas trasy Wszystkiego najlepszego… pokażę Wam przygotowania do mojego koncertu. Wystarczy przyjść odpowiednio wcześniej i mieć przy sobie dobry nastrój. O wszystko\, co najlepsze\, zadbam ja i mój najlepszy zespół. To będzie najlepsza jesień i zima… bądźcie ze mną. Wszystkiego najlepszego – Ania Wyszkoni. \nCzytaj więcej na: https://www.kupbilecik.pl/imprezy/136549/tarnow/anna.wyszkoni/
URL:https://kultura.tarnow.pl/wydarzenie/ania-wyszkoni-wszystkiego-najlepszego-2/
LOCATION:Hala Sportowo – Widowiskowa Pałacu Młodzieży\, Gumniska 28\, Tarnów\, małopolskie\, 33-100
CATEGORIES:koncerty
ATTACH;FMTTYPE=image/jpeg:https://kultura.tarnow.pl/wp-content/uploads/471139957_120217682831840196_5133392156865223130_n.jpg
GEO:50.0086904;21.0004286
X-APPLE-STRUCTURED-LOCATION;VALUE=URI;X-ADDRESS=Hala Sportowo – Widowiskowa Pałacu Młodzieży Gumniska 28 Tarnów małopolskie 33-100;X-APPLE-RADIUS=500;X-TITLE=Gumniska 28:geo:21.0004286,50.0086904
END:VEVENT
END:VCALENDAR