BEGIN:VCALENDAR
VERSION:2.0
PRODID:-//kultura.tarnów - ECPv6.4.0.1//NONSGML v1.0//EN
CALSCALE:GREGORIAN
METHOD:PUBLISH
X-WR-CALNAME:kultura.tarnów
X-ORIGINAL-URL:https://kultura.tarnow.pl
X-WR-CALDESC:Wydarzenia dla
REFRESH-INTERVAL;VALUE=DURATION:PT1H
X-Robots-Tag:noindex
X-PUBLISHED-TTL:PT1H
BEGIN:VTIMEZONE
TZID:Europe/Warsaw
BEGIN:DAYLIGHT
TZOFFSETFROM:+0100
TZOFFSETTO:+0200
TZNAME:CEST
DTSTART:20250330T010000
END:DAYLIGHT
BEGIN:STANDARD
TZOFFSETFROM:+0200
TZOFFSETTO:+0100
TZNAME:CET
DTSTART:20251026T010000
END:STANDARD
END:VTIMEZONE
BEGIN:VEVENT
DTSTART;TZID=Europe/Warsaw:20250305T080000
DTEND;TZID=Europe/Warsaw:20250305T170000
DTSTAMP:20260423T214217
CREATED:20250224T135414Z
LAST-MODIFIED:20250224T135414Z
UID:10024453-1741161600-1741194000@kultura.tarnow.pl
SUMMARY:„Najcenniejsze zabytki papierowe i pergaminowe  w zbiorach Muzeum Ziemi Tarnowskiej”
DESCRIPTION:Na co dzień są ukryte przed światłem i bardzo rzadko prezentowane. Teraz będzie można je zobaczyć na nowej wystawie „Najcenniejsze zabytki papierowe i pergaminowe w zbiorach Muzeum Ziemi Tarnowskiej”. Wernisaż odbędzie się w poniedziałek 3 marca o godzinie 17:00 w siedzibie muzeum przy Rynku 3.  \nNa ekspozycji realizowanej w ramach cyklu „Skarby Muzeum Ziemi Tarnowskiej” zaprezentowane zostaną niezwykle cenne i unikatowe zabytki rękopiśmienne\, które zachwycają nie tylko swoją wartością historyczną\, ale także bogactwem treści i artystycznym wykonaniem. \nPoczątki tej kolekcji sięgają 1927 roku\, kiedy to do Muzeum Miasta Tarnowa trafił imponujący zbiór archiwalny liczący ponad pół tysiąca obiektów. Wśród nich znalazły się pergaminowe i papierowe dyplomy rękopiśmienne\, z których najstarszy\, pochodzący z 1419 r.\, będzie można podziwiać na wystawie. \nNa ekspozycji nie zabraknie także ksiąg miejskich\, królewskich nadań i przywilejów oraz dokumentów związanych z kluczowymi postaciami w historii Tarnowa. Zwiedzający będą mieli okazję zapoznać się z pamiątkami po znamienitych rodach\, właścicielach miasta – Tarnowskich\, Zasławskich\, Ostrogskich czy Sanguszkach. \nTo wyjątkowa okazja\, by zobaczyć skarby zgromadzone w zbiorach Muzeum Ziemi Tarnowskiej – dokumenty\, które stanowią fundament zbiorów muzealnego Działu Historii. Ze względu na konieczność ochrony delikatnych eksponatów\, wystawa będzie dostępna dla zwiedzających tylko do końca marca. \nWystawa jest realizowana w ramach obchodów 1000-lecia Królestwa Polskiego.
URL:https://kultura.tarnow.pl/wydarzenie/najcenniejsze-zabytki-papierowe-i-pergaminowe-w-zbiorach-muzeum-ziemi-tarnowskiej-2/2025-03-05/
LOCATION:Siedziba Muzeum Ziemi Tarnowskiej\, Rynek 3\, Tarnów\, małopolskie\, 33-100
CATEGORIES:wystawy
ATTACH;FMTTYPE=image/jpeg:https://kultura.tarnow.pl/wp-content/uploads/plakat-dokumenty_wystawa-scaled.jpg
GEO:50.0122989;20.9877958
X-APPLE-STRUCTURED-LOCATION;VALUE=URI;X-ADDRESS=Siedziba Muzeum Ziemi Tarnowskiej Rynek 3 Tarnów małopolskie 33-100;X-APPLE-RADIUS=500;X-TITLE=Rynek 3:geo:20.9877958,50.0122989
END:VEVENT
BEGIN:VEVENT
DTSTART;TZID=Europe/Warsaw:20250305T090000
DTEND;TZID=Europe/Warsaw:20250305T150000
DTSTAMP:20260423T214217
CREATED:20250116T072850Z
LAST-MODIFIED:20250116T072850Z
UID:10023871-1741165200-1741186800@kultura.tarnow.pl
SUMMARY:„Wizerunki wybitnych Polaków na monetach i banknotach Narodowego Banku Polskiego”
DESCRIPTION:Wzbudzają zachwyt u kolekcjonerów na całym świecie\, a niektóre warte są nawet kilkadziesiąt tysięcy złotych. Muzeum Ziemi Tarnowskiej zaprasza na wystawę „Wizerunki wybitnych Polaków na monetach i banknotach Narodowego Banku Polskiego”.  \nNa nowej wystawie zaprezentowanych zostanie ponad 200 obiektów. W większości są to monety i banknoty kolekcjonerskie. Na szczególną uwagę zasługuje kolekcja „Skarby Stanisława Augusta”. Obejmuje ona do dzisiaj 23 srebrne monety wzorowane na medalach zamówionych przez Stanisława Augusta Poniatowskiego\, które upamiętniają polskich władców. Ponadto można będzie zobaczyć serie monet poświęcone polskim podróżnikom\, malarzom\, aktorkom oraz prezentujące tematy indywidulane. Zaprezentowana zostanie też moneta będąca swoistym „białym krukiem”\, bo została zaprojektowana z okazji 600. rocznicy powstania Uniwersytetu Jagiellońskiego\, a z powodu błędu na awersie jest wyjątkowo cenna. Ekspozycję uzupełnią najnowsze nabytki Muzeum w tym banknot polimerowy oraz moneta wyemitowane z okazji 550. rocznicy urodzin Mikołaja Kopernika. \nDodajmy\, że w tym roku Muzeum Ziemi Tarnowskiej obchodzi 45. rocznicę nawiązania współpracy z Narodowym Bankiem Polskim. Od 1980 r. regularne przekazy wzbogacają kolekcję numizmatyczną Muzeum. \nWystawę będzie można oglądać do 30 marca 2025 r.
URL:https://kultura.tarnow.pl/wydarzenie/wizerunki-wybitnych-polakow-na-monetach-i-banknotach-narodowego-banku-polskiego-2/2025-03-05/
LOCATION:Muzeum Ziemi Tarnowskiej\, Rynek 3\, Tarnów\, małopolskie\, 33-100\, Polska
CATEGORIES:wystawy
ATTACH;FMTTYPE=image/jpeg:https://kultura.tarnow.pl/wp-content/uploads/Plakat-NBP-media-scaled.jpg
GEO:50.0122989;20.9877958
X-APPLE-STRUCTURED-LOCATION;VALUE=URI;X-ADDRESS=Muzeum Ziemi Tarnowskiej Rynek 3 Tarnów małopolskie 33-100 Polska;X-APPLE-RADIUS=500;X-TITLE=Rynek 3:geo:20.9877958,50.0122989
END:VEVENT
BEGIN:VEVENT
DTSTART;TZID=Europe/Warsaw:20250305T100000
DTEND;TZID=Europe/Warsaw:20250305T160000
DTSTAMP:20260423T214217
CREATED:20250305T115230Z
LAST-MODIFIED:20250305T115230Z
UID:10024557-1741168800-1741190400@kultura.tarnow.pl
SUMMARY:"Setki wykrzyczanych w głowie słów. O depresji" - wystawa fotografii
DESCRIPTION:Ogólnopolski dzień walki z depresją obchodzony jest 23 lutego\, ale osoby chorujące na depresję walczą o swoje życie każdego dnia. Wesprzyj je w tej walce. \nDepresja to nie to samo co chandra. Depresja to choroba o złożonych przyczynach (psychologicznych\, neurofizjologicznych i genetycznych\, społecznych). Nie wolno lekceważyć jej objawów. Szkodliwe jest bagatelizowanie tej choroby np. przez nazywanie Blue Monday – dniem depresyjnym – bo tu nie o ponurą pogodę chodzi i niski stan konta\, albo mówienie osobie chorej: weź się w garść! \nJeśli przez dwa tygodnie zauważasz u siebie lub bliskich (część z tych objawów): obniżony nastrój\, spadek aktywności i energii\, trudności z koncentracją\, nadmierne lub nieadekwatne poczucie winy\, beznadziejności\, zmianę apetytu lub snu\, czy nieznikające poczucie zmęczenia – poszukaj pomocy. Powiedz komuś zaufanemu jak się czujesz. Skonsultuj się ze specjalistą – psychologiem\, psychoterapeutą\, psychiatrą. Zadzwoń pod telefon zaufania dla dzieci\ni młodzieży 116 111 lub dla dorosłych 116 123 \nPomysł sesji fotograficznej i modelka: Joanna Kurek. Kuratorka\, oko i palec na spuście: Dorota Omylska. \nWystawa będzie dostępna w holu Dom.Ku do 18 kwietnia. \n 
URL:https://kultura.tarnow.pl/wydarzenie/setki-wykrzyczanych-w-glowie-slow-o-depresji-wystawa-fotografii/2025-03-05/
LOCATION:Dom Kultury Westerplatte 8a\, Westerplatte 8a\, Tarnów\, Polska - małopolskie\, 33-100\, Polska
CATEGORIES:wystawy
ORGANIZER;CN="Dom Kultury Westerplatte 8a":MAILTO:westerplatte@tck.pl
GEO:50.0273033;21.0087361
X-APPLE-STRUCTURED-LOCATION;VALUE=URI;X-ADDRESS=Dom Kultury Westerplatte 8a Westerplatte 8a Tarnów Polska - małopolskie 33-100 Polska;X-APPLE-RADIUS=500;X-TITLE=Westerplatte 8a:geo:21.0087361,50.0273033
END:VEVENT
BEGIN:VEVENT
DTSTART;TZID=Europe/Warsaw:20250305T100000
DTEND;TZID=Europe/Warsaw:20250305T170000
DTSTAMP:20260423T214217
CREATED:20250225T082816Z
LAST-MODIFIED:20250225T082816Z
UID:10024470-1741168800-1741194000@kultura.tarnow.pl
SUMMARY:"Stan przejściowy"
DESCRIPTION:To\, co zwiemy początkiem\, to często jest kresem\,\nA dojście do kresu oznacza początek.\nKres jest tam\, skąd wyruszamy (…) [1]. \nSłowa Thomasa Eliota prawdopodobnie najlepiej oddają ideę wystawy\, która zrodziła się spontanicznie z potrzeby opowiedzenia o kwestiach\, które dotykają spraw granicznych: spotkania się z obrazami\, które jako zapis kodują\, porządkują\, utrwalają silne przeżycia oraz z inspiracji historiami będącymi świadectwami powrotu do życia. Stany przejściowe to opowieści o momentach rozpostartych pomiędzy starym a nowym\, identyfikowane jako zejście pod ziemię. To stany\, w których chwilowo zamierają sprawy rutyny\, a jednostka znajduje się w zawieszeniu\, rozdarta między przeszłością a teraźniejszością\, w progu\, w przedwiośniu\, pomiędzy zamrożeniem a wybudzeniem\, postem a odrodzeniem.\nVictor Turner wskazywał\, że rytuały liminalne\, czyli rytuały odbywające się w „przestrzeni pomiędzy”\, pomagają przejść przez trudne zmiany i odnaleźć nową tożsamość [2]. Jak pisał Pontalis: „poprzez symboliczną „przestrzeń przejściową” żywotna iskra osoby personalizuje się i zamieszkuje w ciele i rzeczywistości” [3]. Taką przestrzeń tworzą rytuały w tym między innymi sztuka – także jej nieustające archetypowe poszukiwania………………… . . . . .  .   .   .    .    .     .         .              . \n1  T. S. Eliot\, Little Gidding\, w.: Tenże\, Cztery kwartety\, tłum. K. Boczkowski\, Wydawnictwo Współczesne\, Warszawa 1988\n2  Aneta Gajda Boryczko – psychoterapeutka Gestalt\, https://www.facebook.com/gestaltanetagajdaboryczko [dostęp: 17.02.2025]\n3  D. Kalsched\, Trauma i dusza\, przeł. M. Kalinowska\, Instytut Studiów Kulturowych Raven\, Czeladź 2022 \n2 – 27.03.2025\nMultimedialne Centrum Artystyczne / Wałowa 25 – oddział BWA Tarnów \nWernisaż wystawy w niedzielę 2.03.2025\, g. 15:00. \nArtyści i artystki: Bartłomiej Bałut\, Tomasz Bielecki\, Agnieszka Bartak-Lisikiewicz\, Dominika Borek\, Agnieszka Pawłowska-Górska\, Zbigniew Pozarzycki \nKuratorki: Dominika Borek\, Agnieszka Pawłowska-Górska \nOprawa graficzna: Dominika Borek
URL:https://kultura.tarnow.pl/wydarzenie/stan-przejsciowy-2/2025-03-05/
LOCATION:Multimedialne Centrum Artystyczne\, Wałowa 25\, Tarnów\, małopolskie\, 33-100\, Polska
CATEGORIES:wystawy
ATTACH;FMTTYPE=image/jpeg:https://kultura.tarnow.pl/wp-content/uploads/481170334_1181430847323587_6521894495346367637_n.jpg
ORGANIZER;CN="Biuro Wystaw Artystycznych":MAILTO:biuro@bwa.tarnow.pl
GEO:50.013866931068;20.987989998201
X-APPLE-STRUCTURED-LOCATION;VALUE=URI;X-ADDRESS=Multimedialne Centrum Artystyczne Wałowa 25 Tarnów małopolskie 33-100 Polska;X-APPLE-RADIUS=500;X-TITLE=Wałowa 25:geo:20.987989998201,50.013866931068
END:VEVENT
END:VCALENDAR