BEGIN:VCALENDAR
VERSION:2.0
PRODID:-//kultura.tarnów - ECPv6.4.0.1//NONSGML v1.0//EN
CALSCALE:GREGORIAN
METHOD:PUBLISH
X-ORIGINAL-URL:https://kultura.tarnow.pl
X-WR-CALDESC:Wydarzenia dla
REFRESH-INTERVAL;VALUE=DURATION:PT1H
X-Robots-Tag:noindex
X-PUBLISHED-TTL:PT1H
BEGIN:VTIMEZONE
TZID:Europe/Warsaw
BEGIN:DAYLIGHT
TZOFFSETFROM:+0100
TZOFFSETTO:+0200
TZNAME:CEST
DTSTART:20250330T010000
END:DAYLIGHT
BEGIN:STANDARD
TZOFFSETFROM:+0200
TZOFFSETTO:+0100
TZNAME:CET
DTSTART:20251026T010000
END:STANDARD
END:VTIMEZONE
BEGIN:VEVENT
DTSTART;TZID=Europe/Warsaw:20250224T183000
DTEND;TZID=Europe/Warsaw:20250224T193000
DTSTAMP:20260424T050628
CREATED:20250218T111521Z
LAST-MODIFIED:20250218T111810Z
UID:10024020-1740421800-1740425400@kultura.tarnow.pl
SUMMARY:Wernisaże Dzień po Dniu - edycja siódma
DESCRIPTION:Od pierwszej edycji cyklu „Wernisaże dzień po dniu” minęło już parę lat i nie zwalniamy tempa\, każdego roku dwukrotnie zapełniając cały tydzień wernisażami wystaw fotograficznych. Za kilka dni rozpocznie się jego siódma odsłona. Od 24 lutego do 1 marca 2025 roku w Galerii TCK zaprezentujemy 10 wystaw indywidualnych oraz 1 wystawę zbiorową. \nCharakter cyklu pozostaje niezmienny – każda wystawa potrwa od wernisażu do demontażu (godzina 15:00 następnego dnia). O tym\, dlaczego tak właśnie jest\, opowiada Tomasz Sobczak – koordynator Pracowni Fotograficznej i pomysłodawca cyklu: \n(…) kontrowersyjna formuła zmusza fanów fotografii do uczestnictwa w otwarciu wystawy\, bo z definicji „żyje” ona tylko jeden dzień. Docierały do mnie głosy\, że to za krótko\, że nie zdążę zobaczyć\, że tak nie można. Jednak formuła jednodniowa pozostaje niezmienna. Nie od dziś wiadomo\, że na wernisażach wystaw dzieje się najwięcej. Ciekawe rozmowy\, spotkania\, obcowanie z autorem i innymi osobami. Wspomniana formuła ma zatem nieść także przesłanie\, że warto przychodzić na wernisaże! \nWystawy są dostępne od momentu wernisażu do dnia następnego (w godz. 10:00-15:00)\, wstęp bezpłatny \n24 lutego (poniedziałek)\, godzina 18:30\nTomasz Milcewicz  „Szepty strumieni”\nKrzysiek Madej „Cerkiewne banie i krzyże – kontynuacja” \n25 lutego (wtorek)\, godzina 18:30\nBeata Opałka  „Tajemnica w ogrodzie”\nEla Szyzdek „Nie widać po mnie” \n26 lutego (środa)\, godzina 18:30\nGabrysia Półkoszek „Mroźne Subtelności”\nEwa Serafińska „Namaste. O samotności w tłumie” \n27 lutego (czwartek)\, godzina 18:30\nMonika Fryś-Żurek „Florą pisane”\nBogdan Litwora„Shinjuku vs Shinjuku” \n28 lutego (piątek)\, godzina 18:30\nPaweł Wadas „28 minut zanim wyląduje”\nRafał Koścień „Merdopolis” \n1 marca (sobota)\, godzina 18:30\n„Pociąg zwany fotografia” – zbiorowa wystawa uczestników grupy podstawowej Pracowni Fotograficznej TCK\nAutorzy: Gabriela Bielawska\, Wiktoria Dobrzyńska\, Joanna Judasz\, Justyna Kuta\, Agata Malinowska-Dudek\, Agata Marszałek\, Gabriela Sowińska\, Piotr Ścieński\, Olga Ślipek\, Marek Tumiłowicz\, Wioletta Warzecha\, Maciej Zaszczudłowicz. \nCykl wernisaży jest pewnego rodzaju podsumowaniem i prezentacją działań Pracowni Fotograficznej działającej w Tarnowskim Centrum Kultury. Zajęcia prowadzone przez profesjonalistów z Tarnowskiego Towarzystwa Fotograficznego oraz osób zaprzyjaźnionych prowadzone są w trzech grupach: początkującej\, zaawansowanej oraz dziecięcej. Zapraszamy do zapisów na nowy semestr – w Biurze Obsługi TCK (Rynek 5\, Tarnów). Kliknij tutaj po więcej informacji.
URL:https://kultura.tarnow.pl/wydarzenie/wernisaze-dzien-po-dniu-edycja-siodma/2025-02-24/
LOCATION:Tarnowskie Centrum Kultury\, Rynek 5\, Tarnów\, małopolskie\, 33-100\, Polska
CATEGORIES:wernisaże
ATTACH;FMTTYPE=image/jpeg:https://kultura.tarnow.pl/wp-content/uploads/888db5ba8afac40ccc1d5d4918d08bfd.jpeg
GEO:50.012155;20.9878542
X-APPLE-STRUCTURED-LOCATION;VALUE=URI;X-ADDRESS=Tarnowskie Centrum Kultury Rynek 5 Tarnów małopolskie 33-100 Polska;X-APPLE-RADIUS=500;X-TITLE=Rynek 5:geo:20.9878542,50.012155
END:VEVENT
END:VCALENDAR