BEGIN:VCALENDAR
VERSION:2.0
PRODID:-//kultura.tarnów - ECPv6.4.0.1//NONSGML v1.0//EN
CALSCALE:GREGORIAN
METHOD:PUBLISH
X-ORIGINAL-URL:https://kultura.tarnow.pl
X-WR-CALDESC:Wydarzenia dla
REFRESH-INTERVAL;VALUE=DURATION:PT1H
X-Robots-Tag:noindex
X-PUBLISHED-TTL:PT1H
BEGIN:VTIMEZONE
TZID:Europe/Warsaw
BEGIN:DAYLIGHT
TZOFFSETFROM:+0100
TZOFFSETTO:+0200
TZNAME:CEST
DTSTART:20250330T010000
END:DAYLIGHT
BEGIN:STANDARD
TZOFFSETFROM:+0200
TZOFFSETTO:+0100
TZNAME:CET
DTSTART:20251026T010000
END:STANDARD
END:VTIMEZONE
BEGIN:VEVENT
DTSTART;TZID=Europe/Warsaw:20250222T100000
DTEND;TZID=Europe/Warsaw:20250222T120000
DTSTAMP:20260425T130739
CREATED:20250204T073737Z
LAST-MODIFIED:20250204T073737Z
UID:10023973-1740218400-1740225600@kultura.tarnow.pl
SUMMARY:Mozaikowy kot – warsztaty dla dzieci 5-7 lat z rodzicami
DESCRIPTION:Czy kot musi być bury? Absolutnie nie! Podczas warsztatów zapoznamy się z techniką papierowej mozaiki i wykonamy kolorowy obrazek z kotem\, do powieszenia lub postawienia. Będziemy ćwiczyć precyzję\, dokładność i dopasowywać zestawienia kolorystyczne. Warsztaty poprowadzi Agnieszka Szułakiewicz. \nWstęp płatny: 25 zł od uczestnika – zapisujemy dziecko\, obecność opiekuna jest obowiązkowa. Zapisy: 14 696 51 00\, 888 655 101.
URL:https://kultura.tarnow.pl/wydarzenie/mozaikowy-kot-warsztaty-dla-dzieci-5-7-lat-z-rodzicami/
LOCATION:Dom Kultury Westerplatte 8a\, Westerplatte 8a\, Tarnów\, Polska - małopolskie\, 33-100\, Polska
CATEGORIES:warsztaty
ORGANIZER;CN="Dom Kultury Westerplatte 8a":MAILTO:westerplatte@tck.pl
GEO:50.0273033;21.0087361
X-APPLE-STRUCTURED-LOCATION;VALUE=URI;X-ADDRESS=Dom Kultury Westerplatte 8a Westerplatte 8a Tarnów Polska - małopolskie 33-100 Polska;X-APPLE-RADIUS=500;X-TITLE=Westerplatte 8a:geo:21.0087361,50.0273033
END:VEVENT
BEGIN:VEVENT
DTSTART;TZID=Europe/Warsaw:20250222T170000
DTEND;TZID=Europe/Warsaw:20250222T190000
DTSTAMP:20260425T130739
CREATED:20241212T101930Z
LAST-MODIFIED:20241212T101930Z
UID:10023370-1740243600-1740250800@kultura.tarnow.pl
SUMMARY:Marian Hemar "Piękna Lucynda" reż. E. Pietrowiak
DESCRIPTION:Młoda wdowa Lucynda ma dwóch adoratorów – podupadającego finansowo Hrabiego Adama oraz bogatego Magnata Faworskiego. Mężczyźni starają się o rękę Lucyndy\, prześcigają się w uwodzeniu jej i obdarzają licznymi podarunkami. Którego z panów poślubi Lucynda?\nBłyskotliwe piosenki i pełna humoru fabuła\, wyraziste postaci i nowoczesna oprawa muzyczna oraz wizualna pomogą widzom w podróży z XXI wieku w rzeczywistość arystokratycznych intryg.\n21 lutego (piątek) godz. 10:00\,\n22 lutego (sobota) godz.17.00\n23 lutego (niedziela) godz. 17:00\, Duża Scena\nBilety 25-60 zł\nhttps://teatr.tarnow.pl/spektakle/spektakle-spektakle/piekna-lucynda/\n\n\nCREATOR: gd-jpeg v1.0 (using IJG JPEG v80)\, quality = 75
URL:https://kultura.tarnow.pl/wydarzenie/marian-hemar-piekna-lucynda-rez-e-pietrowiak/2025-02-22/
LOCATION:Teatr im. L.Solskiego\, Mickiewicza 4\, Tarnów\, małopolskie\, 33-100\, Polska
CATEGORIES:spektakle
ATTACH;FMTTYPE=image/jpeg:https://kultura.tarnow.pl/wp-content/uploads/piekna-lucynda-www-1.jpg
GEO:50.0159214;20.987504
X-APPLE-STRUCTURED-LOCATION;VALUE=URI;X-ADDRESS=Teatr im. L.Solskiego Mickiewicza 4 Tarnów małopolskie 33-100 Polska;X-APPLE-RADIUS=500;X-TITLE=Mickiewicza 4:geo:20.987504,50.0159214
END:VEVENT
END:VCALENDAR