BEGIN:VCALENDAR
VERSION:2.0
PRODID:-//kultura.tarnów - ECPv6.4.0.1//NONSGML v1.0//EN
CALSCALE:GREGORIAN
METHOD:PUBLISH
X-WR-CALNAME:kultura.tarnów
X-ORIGINAL-URL:https://kultura.tarnow.pl
X-WR-CALDESC:Wydarzenia dla
REFRESH-INTERVAL;VALUE=DURATION:PT1H
X-Robots-Tag:noindex
X-PUBLISHED-TTL:PT1H
BEGIN:VTIMEZONE
TZID:Europe/Warsaw
BEGIN:DAYLIGHT
TZOFFSETFROM:+0100
TZOFFSETTO:+0200
TZNAME:CEST
DTSTART:20250330T010000
END:DAYLIGHT
BEGIN:STANDARD
TZOFFSETFROM:+0200
TZOFFSETTO:+0100
TZNAME:CET
DTSTART:20251026T010000
END:STANDARD
END:VTIMEZONE
BEGIN:VEVENT
DTSTART;TZID=Europe/Warsaw:20250212T090000
DTEND;TZID=Europe/Warsaw:20250212T150000
DTSTAMP:20260424T053832
CREATED:20250116T072850Z
LAST-MODIFIED:20250116T072850Z
UID:10023859-1739350800-1739372400@kultura.tarnow.pl
SUMMARY:„Wizerunki wybitnych Polaków na monetach i banknotach Narodowego Banku Polskiego”
DESCRIPTION:Wzbudzają zachwyt u kolekcjonerów na całym świecie\, a niektóre warte są nawet kilkadziesiąt tysięcy złotych. Muzeum Ziemi Tarnowskiej zaprasza na wystawę „Wizerunki wybitnych Polaków na monetach i banknotach Narodowego Banku Polskiego”.  \nNa nowej wystawie zaprezentowanych zostanie ponad 200 obiektów. W większości są to monety i banknoty kolekcjonerskie. Na szczególną uwagę zasługuje kolekcja „Skarby Stanisława Augusta”. Obejmuje ona do dzisiaj 23 srebrne monety wzorowane na medalach zamówionych przez Stanisława Augusta Poniatowskiego\, które upamiętniają polskich władców. Ponadto można będzie zobaczyć serie monet poświęcone polskim podróżnikom\, malarzom\, aktorkom oraz prezentujące tematy indywidulane. Zaprezentowana zostanie też moneta będąca swoistym „białym krukiem”\, bo została zaprojektowana z okazji 600. rocznicy powstania Uniwersytetu Jagiellońskiego\, a z powodu błędu na awersie jest wyjątkowo cenna. Ekspozycję uzupełnią najnowsze nabytki Muzeum w tym banknot polimerowy oraz moneta wyemitowane z okazji 550. rocznicy urodzin Mikołaja Kopernika. \nDodajmy\, że w tym roku Muzeum Ziemi Tarnowskiej obchodzi 45. rocznicę nawiązania współpracy z Narodowym Bankiem Polskim. Od 1980 r. regularne przekazy wzbogacają kolekcję numizmatyczną Muzeum. \nWystawę będzie można oglądać do 30 marca 2025 r.
URL:https://kultura.tarnow.pl/wydarzenie/wizerunki-wybitnych-polakow-na-monetach-i-banknotach-narodowego-banku-polskiego-2/2025-02-12/
LOCATION:Muzeum Ziemi Tarnowskiej\, Rynek 3\, Tarnów\, małopolskie\, 33-100\, Polska
CATEGORIES:wystawy
ATTACH;FMTTYPE=image/jpeg:https://kultura.tarnow.pl/wp-content/uploads/Plakat-NBP-media-scaled.jpg
GEO:50.0122989;20.9877958
X-APPLE-STRUCTURED-LOCATION;VALUE=URI;X-ADDRESS=Muzeum Ziemi Tarnowskiej Rynek 3 Tarnów małopolskie 33-100 Polska;X-APPLE-RADIUS=500;X-TITLE=Rynek 3:geo:20.9877958,50.0122989
END:VEVENT
BEGIN:VEVENT
DTSTART;TZID=Europe/Warsaw:20250212T100000
DTEND;TZID=Europe/Warsaw:20250212T170000
DTSTAMP:20260424T053832
CREATED:20250103T141050Z
LAST-MODIFIED:20250103T141050Z
UID:10023426-1739354400-1739379600@kultura.tarnow.pl
SUMMARY:Zbigniew Furman 'Męskie rozmowy"
DESCRIPTION:Tarnowskie Centrum Kultury serdecznie zaprasza na wystawę fotografii autorstwa Zbigniewa Furmana\, specjalistę fotografii socjologicznej oraz portretowej. \nZbigniew Furman\nUrodził się w Krakowie w połowie ubiegłego stulecia. Zawodową przygodę z fotografią rozpoczął ok 1970 roku. Zaś pracę fotoreportera zaczynał w redakcji „Życia Warszawy” w roku 1973. W latach 1979 -81 pracował w tyg. Razem. W stanie wojennym prowadził zakład fotograficzny a następnie studio fotografii reklamowej. Przez wiele lat uprawiał fotografię modową współpracując z największymi polskimi firmami odzieżowymi oraz pismami poświęconymi modzie. Współpracował od pierwszego numeru z Życiem / z kropką /\, z którego przeszedł do tyg. Wprost gdzie przez 11 lat kierował działem fotografii. Od 2008 pracował przez 7 lat w Muzeum Powstania Warszawskiego. Laureat wielu konkursów fotograficznych\, autor 24 wystaw indywidualnych i współautor wielu wystaw zbiorowych. Juror w najbardziej znaczących konkursach fotograficznych. Od wielu lat członek Związku Polskich Artystów Fotografików. Działa w zarządzie Sekcji Dzieł Fotograficznych ZAiKSu. \nWystawa prezentowana w Galerii TCK\, od 16 stycznia do 15 lutego 2025 r.\, więcej informacji na stronie: https://tck.pl/wydarzenia/264\,wystawa-meskie-rozmowy\nBilety: 7 zł (normalny) i 5 zł (ulgowy). Ekspozycja czynna od poniedziałku do piątku\, w godz. 10:00-18:00 oraz w soboty w godz. 10:00-17:00.
URL:https://kultura.tarnow.pl/wydarzenie/zbigniew-furman-meskie-rozmowy-2/2025-02-12/
LOCATION:Tarnowskie Centrum Kultury\, Rynek 5\, Tarnów\, małopolskie\, 33-100\, Polska
CATEGORIES:wystawy
ATTACH;FMTTYPE=image/jpeg:https://kultura.tarnow.pl/wp-content/uploads/7181144607ef2c40278239ff409b7a18.jpeg
GEO:50.012155;20.9878542
X-APPLE-STRUCTURED-LOCATION;VALUE=URI;X-ADDRESS=Tarnowskie Centrum Kultury Rynek 5 Tarnów małopolskie 33-100 Polska;X-APPLE-RADIUS=500;X-TITLE=Rynek 5:geo:20.9878542,50.012155
END:VEVENT
BEGIN:VEVENT
DTSTART;TZID=Europe/Warsaw:20250212T100000
DTEND;TZID=Europe/Warsaw:20250212T170000
DTSTAMP:20260424T053832
CREATED:20250127T104243Z
LAST-MODIFIED:20250127T104243Z
UID:10023915-1739354400-1739379600@kultura.tarnow.pl
SUMMARY:Magdalena Hlawacz "Mama mówiła odpocznij"
DESCRIPTION:Drzemka zamiast wernisażu. \nKuratorka: Agnieszka Dela-Kropiowska \nXXI wiek jawi się jako epoka ludzi zmęczonych. O zjawisku „wyczerpania” piszą filozofowie\, socjolożki\, psychologowie. Bez zbędnych teorii\, coraz częściej odczuwamy ten stan sami – w naszym codziennym życiu. Trudno jednoznacznie sprecyzować gdzie tkwi źródło „zmęczenia”. W poprzednich dekadach łatwiej można było wskazać winowajcę; był nim wymagający dyrektor zakładu\, w którym przyszło nam pracować\, innym razem wyczerpywała nas sytuacja ekonomiczna kraju czy międzynawowe konflikty. \nZdaje się\, że w obecnym wieku\, sami jesteśmy sobie winni\, tocząc nieustanną wojnę z własnym „ja”. Żyjemy w społeczeństwie z utrwalanym mottem życiowym\, że wszystko zależy tylko od nas i możemy osiągnąć wiele\, wykonując kolejne etapy ciągłego rozwoju”. Każde marzenie jest „w zasięgu ręki”\, wystarczy tylko chcieć. Informacja „możesz wszystko okazała się zgubna dla naszego organizmu\, który bez narzuconych zewnętrznych norm i zakazów\, poddaje się wewnętrznemu strażnikowi – własnemu „ja”. Ten okazuje się groźniejszy niż niejeden z historycznych dyktatorów. Jako „managerowie samych siebie” wymyśliliśmy nową formę odpoczynku\, która ma sens tylko w kontekście wcześniej wykonanej pracy. Odpoczynek stał się elementem obowiązkowym w naszym codziennym życiu. Jest precyzyjnie zaplanowany\, mając swoje ukryte cele; powinien być aktywny (bo ważne jest dbanie zdrowie)\, powinien być produktywny (bo ważny jest rozwój osobisty)\, powinien być szczególny (bo bez sensu robić coś\, co nie ma celu). Żyjemy w cieniu powinności pracy i odpoczynku\, koncentrując się wyjątkowo wyraźnie na wewnętrznym głosie\, który ciągle od nas wymaga lepszego „ja”. \nArtystka w odpowiedzi na problematykę wyczerpania namalowała słowa i zwroty\, które wydają się niejednoznaczne: „Odpuszczenie”\, „Rozgrzeszenie”\, „Kołdra odciążeniowa” czy „Nic nie szkodzi” chcąc przywrócić rzeczywistość naturalnemu biegowi rzeczy\, gdzie odpoczynek ma w sobie element lekkości i spokoju (a nie samorozwoju). W poszukiwaniu równowagi\, przywołuje słowa pełne troski\, wypowiadane przez najbliższe osoby: „Dziecko\, odpocznij”. Ich prostota może stać się jedynym ratunkiem dla zmęczonej rzeczywistości. \nWystawa i proces jej przygotowań to praca dla Magdaleny Hlawacz – zawodowej artystki. Autorka zamiast wernisażu – klasycznego\, uroczystego otwarcia wystawy\, który jest ważnym elementem systemu – obiegu sztuki w galeriach\, zachęca nas do drzemki. Prosi\, abyśmy zostali w domu i odpoczęli. Drzemka ma w sobie coś naturalnego\, nie musi przechodzić wszystkich faz „właściwego” snu\, może być kilkuminutowym „zatrzymaniem” organizmu\, wymykającym się pracy i aktywnemu odpoczywaniu. Jest obiecująco bezproduktywna. \n* Pisząc notatkę do wystawy\, kuratorka inspirowała się książką: Byung-Chul Han\, Społeczeństwo zmęczenia i inne eseje\, Warszawa 2022 \nPokaz jest Nagrodą BWA Tarnów przyznaną Artystce przez dyrektorkę BWA Tarnów Ewę Łączyńską-Widz w opolskim „Salonie wiosennym 2021” (Galeria Sztuki Współczesnej w Opolu\, 2021). \nOprawa graficzna: Katarzyna Mular \nPartner wystawy: Galeria Sztuki Współczesnej w Opolu \nMagdalena Hlawacz (ur. 1976 w Opolu) – polska artystka wizualna\, projektantka graficzna i akademiczka\, profesorka Uniwersytetu Opolskiego. Absolwentka Wydziału Malarstwa i Rzeźby Akademii Sztuk Pięknych we Wrocławiu\, gdzie w 2001 r. obroniła dyplom w zakresie malarstwa (w pracowni prof. Nicola Naskowa). W 2008 r. zdobyła tytuł doktory sztuki na tym samym wydziale. W 2015 r. uzyskała habilitację na Wydziale Grafiki i Sztuki Mediów tej samej uczelni. Jest Dyrektorką Instytutu Sztuk Wizualnych na Wydziale Sztuki Uniwersytetu Opolskiego. Artystka zajmuje się malarstwem\, fotografią\, rysunkiem i grafiką oraz bada związki zachodzące między różnymi mediami\, często działając na pograniczu dyscyplin. \n6 – 28.02.2025\nBWA Tarnów / Pałacyk Strzelecki\, ul. Słowackiego 1
URL:https://kultura.tarnow.pl/wydarzenie/magdalena-hlawacz-mama-mowila-odpocznij/2025-02-12/
LOCATION:Biuro Wystaw Artystycznych\, ul. Słowackiego 1\, Tarnów\, małopolskie\, 33-100\, Polska
CATEGORIES:wystawy
ORGANIZER;CN="Biuro Wystaw Artystycznych":MAILTO:biuro@bwa.tarnow.pl
GEO:50.0178761;20.9827521
X-APPLE-STRUCTURED-LOCATION;VALUE=URI;X-ADDRESS=Biuro Wystaw Artystycznych ul. Słowackiego 1 Tarnów małopolskie 33-100 Polska;X-APPLE-RADIUS=500;X-TITLE=ul. Słowackiego 1:geo:20.9827521,50.0178761
END:VEVENT
BEGIN:VEVENT
DTSTART;TZID=Europe/Warsaw:20250212T160000
DTEND;TZID=Europe/Warsaw:20250212T173000
DTSTAMP:20260424T053832
CREATED:20250206T110010Z
LAST-MODIFIED:20250206T110010Z
UID:10023999-1739376000-1739381400@kultura.tarnow.pl
SUMMARY:Velo Toskania - wystawy fotografii Marka Cieszkowskiego
DESCRIPTION:Velo Toskania \nWernisaż wystawy fotografii Marka Cieszkowskiego \nFilia nr 9 MBP “Krzyż”\, przy ul. Krzyskiej 116 \n—> 12 lutego 2025 r. (środa)\, o godzinie 16:00\nWystawa zorganizowana została w ramach współpracy z Tarnowskim Towarzystwem Fotograficznym. \nCzynna do 08.03.2025 r. \n \nMAREK CIESZKOWSKI o sobie:\nMoja przygoda z fotografią zaczęła się jeszcze pod koniec lat 60.\, kiedy to na szkolnym konkursie wygrałem aparat Ami\, niezwykle popularne wówczas urządzenie na błonę 6×6 cm. Były to czasy „głębokiego analogu”\, ale bakcyl połknięty w podstawówce przetrwał do cyfrowego dnia dzisiejszego! Niemal od razu zainteresowałem się samodzielnym wywoływaniem czarno-białych filmów i robieniem odbitek. Spędziłem w ciemniach wiele setek\, a może tysięcy godzin. Rozwĳałem tę pasję w szkole średniej i na studiach. Zajmowałem się wówczas głównie fotografią reportażową\, dokumentując wydarzenia uczelniane i życie studenckie\, a także fotografią rodzinną. Co trwało nadal po rozpoczęciu pracy\, założeniu rodziny i przyjściu dzieci na świat.\nW latach 1991-2020 przebywałem zawodowo w Niemczech. W tym czasie nastąpił stopniowy zmierzch ery analogowej w fotografii. Moje ostatnie zdjęcia na filmie małoobrazkowym wykonałem na Olympiastadion w Berlinie w 2006 roku \, na meczu Tunezja Ukraina.\nW 2007 roku zapisałem się do Fotoklub Köpenick. Był to moment przełomowy w mojej przemianie z pstrykacza w trochę bardziej zaawansowanego fotoamatora. Przez kilkanaście lat podglądałem i uczyłem się od doświadczonych i zdolnych kolegów klubowych\, co pozwoliło mi po kilku latach brać udział w konkursach i wystawach\, a nawet zdobywać nagrody.\nPo powrocie do Tarnowa natychmiast aplikowałem i zostałem przyjęty do Tarnowskiego Towarzystwa Fotograficznego. Staram się brać\, w miarę możliwości\, czynny udział w życiu Towarzystwa\, czego efektem jest m.in. niniejsza wystawa. Prezentowane tu zdjęcia wykonane zostały podczas tygodniowej podróży do Toskanii na wiosnę 2024 roku. Zrobiłem je w Pizie\, Lucce i Florencji. Zdjęcia uliczne\, łapanie życia na gorąco\, ludzie i ich interakcje\, a w tle architektura i/lub przyroda – to moja ulubiona dziedzina fotografii.\nMam nadzieję\, że wybrane na dzisiejszą wystawę zdjęcia – z osobami na rowerach na pierwszym planie – spodobają się Państwu.
URL:https://kultura.tarnow.pl/wydarzenie/velo-toskania-wystawy-fotografii-marka-cieszkowskiego/
LOCATION:Filia nr 9 Miejskiej Biblioteki Publicznej im. J. Słowackiego\, ul. Krzyska 116\, Tarnów\, małopolskie\, 33-100\, Polska
CATEGORIES:wernisaże
ATTACH;FMTTYPE=image/png:https://kultura.tarnow.pl/wp-content/uploads/Velo-Toskania.png
GEO:50.043661;20.9924189
X-APPLE-STRUCTURED-LOCATION;VALUE=URI;X-ADDRESS=Filia nr 9 Miejskiej Biblioteki Publicznej im. J. Słowackiego ul. Krzyska 116 Tarnów małopolskie 33-100 Polska;X-APPLE-RADIUS=500;X-TITLE=ul. Krzyska 116:geo:20.9924189,50.043661
END:VEVENT
BEGIN:VEVENT
DTSTART;TZID=Europe/Warsaw:20250212T170000
DTEND;TZID=Europe/Warsaw:20250212T190000
DTSTAMP:20260424T053832
CREATED:20250206T074806Z
LAST-MODIFIED:20250206T074806Z
UID:10023997-1739379600-1739386800@kultura.tarnow.pl
SUMMARY:Historia na 5 za 5 - Przypominanie Mościc... Paweł Huelle "Mercedes-Benz" - wykład A. Krakowskiej
DESCRIPTION:Paweł Marek Huelle\, polski pisarz\, prozaik\, poeta i dramaturg\, urodził się 10 września 1957 w Gdańsku\, gdzie zmarł 27 listopada 2023. Jest autorem niezwykłej opowieści o przeszłości\, w której opisuje babcię\, podróże i wyjątkowe miejsca. Czy w książce „Mercedes-Benz. Z listów do Hrabala” pojawia się w wątek poświęcony Mościcom? Na to pytanie odpowie miłośniczka literatury\, polonistka Anna Krakowska. \nMgr Anna Krakowska \nZ wykształcenia polonistka (UJ Kraków)\, zawodowo-nauczycielka języka polskiego\, także metodyk\, wizytator KO i wykładowczyni w PWSZ  Tarnów. Przez wiele lat członek Okręgowej Komisji Maturalnej oraz Okręgowej Komisji Olimpiady Literatury i Języka Polskiego w Krakowie. Związana rodzinnie i zawodowo z Mościcami. Uhonorowana odznaczeniami branżowymi\, w tym dwukrotnie Nagrodą Ministra Edukacji\, państwowymi – Złotym Krzyżem Zasługi\, społecznymi – medale za działalność w Komitecie Obywatelskim\, NSZZ Solidarność i bardzo ważnymi: Tarnowskim Dukatem oraz „Przyjaciel Tarnowskiej Młodzieży”. \nSpotkanie odbędzie się na antresoli. Dysponujemy windą. Więcej informacji o spotkaniu: Anna Świętek\, tel. 14 633 46 16 (poniedziałek – piątek\, w godzinach 8.00 – 16.00) \nSROKA PRZEMYSLAW_TEL:793 333 601
URL:https://kultura.tarnow.pl/wydarzenie/historia-na-5-za-5-przypominanie-moscic-pawel-huelle-mercedes-benz-wyklad-a-krakowskiej/
LOCATION:Centrum Sztuki Mościce\, Traugutta 1\, Tarnów\, małopolskie\, 33-101\, Polska
CATEGORIES:spektakle
ATTACH;FMTTYPE=image/jpeg:https://kultura.tarnow.pl/wp-content/uploads/img_7ad1aab87050a340a6858d59fb02f25e.jpeg
GEO:50.009833;20.92706
X-APPLE-STRUCTURED-LOCATION;VALUE=URI;X-ADDRESS=Centrum Sztuki Mościce Traugutta 1 Tarnów małopolskie 33-101 Polska;X-APPLE-RADIUS=500;X-TITLE=Traugutta 1:geo:20.92706,50.009833
END:VEVENT
END:VCALENDAR