BEGIN:VCALENDAR
VERSION:2.0
PRODID:-//kultura.tarnów - ECPv6.4.0.1//NONSGML v1.0//EN
CALSCALE:GREGORIAN
METHOD:PUBLISH
X-WR-CALNAME:kultura.tarnów
X-ORIGINAL-URL:https://kultura.tarnow.pl
X-WR-CALDESC:Wydarzenia dla
REFRESH-INTERVAL;VALUE=DURATION:PT1H
X-Robots-Tag:noindex
X-PUBLISHED-TTL:PT1H
BEGIN:VTIMEZONE
TZID:Europe/Warsaw
BEGIN:DAYLIGHT
TZOFFSETFROM:+0100
TZOFFSETTO:+0200
TZNAME:CEST
DTSTART:20250330T010000
END:DAYLIGHT
BEGIN:STANDARD
TZOFFSETFROM:+0200
TZOFFSETTO:+0100
TZNAME:CET
DTSTART:20251026T010000
END:STANDARD
END:VTIMEZONE
BEGIN:VEVENT
DTSTART;TZID=Europe/Warsaw:20250208T100000
DTEND;TZID=Europe/Warsaw:20250208T170000
DTSTAMP:20260424T120807
CREATED:20250103T141050Z
LAST-MODIFIED:20250103T141050Z
UID:10023423-1739008800-1739034000@kultura.tarnow.pl
SUMMARY:Zbigniew Furman 'Męskie rozmowy"
DESCRIPTION:Tarnowskie Centrum Kultury serdecznie zaprasza na wystawę fotografii autorstwa Zbigniewa Furmana\, specjalistę fotografii socjologicznej oraz portretowej. \nZbigniew Furman\nUrodził się w Krakowie w połowie ubiegłego stulecia. Zawodową przygodę z fotografią rozpoczął ok 1970 roku. Zaś pracę fotoreportera zaczynał w redakcji „Życia Warszawy” w roku 1973. W latach 1979 -81 pracował w tyg. Razem. W stanie wojennym prowadził zakład fotograficzny a następnie studio fotografii reklamowej. Przez wiele lat uprawiał fotografię modową współpracując z największymi polskimi firmami odzieżowymi oraz pismami poświęconymi modzie. Współpracował od pierwszego numeru z Życiem / z kropką /\, z którego przeszedł do tyg. Wprost gdzie przez 11 lat kierował działem fotografii. Od 2008 pracował przez 7 lat w Muzeum Powstania Warszawskiego. Laureat wielu konkursów fotograficznych\, autor 24 wystaw indywidualnych i współautor wielu wystaw zbiorowych. Juror w najbardziej znaczących konkursach fotograficznych. Od wielu lat członek Związku Polskich Artystów Fotografików. Działa w zarządzie Sekcji Dzieł Fotograficznych ZAiKSu. \nWystawa prezentowana w Galerii TCK\, od 16 stycznia do 15 lutego 2025 r.\, więcej informacji na stronie: https://tck.pl/wydarzenia/264\,wystawa-meskie-rozmowy\nBilety: 7 zł (normalny) i 5 zł (ulgowy). Ekspozycja czynna od poniedziałku do piątku\, w godz. 10:00-18:00 oraz w soboty w godz. 10:00-17:00.
URL:https://kultura.tarnow.pl/wydarzenie/zbigniew-furman-meskie-rozmowy-2/2025-02-08/
LOCATION:Tarnowskie Centrum Kultury\, Rynek 5\, Tarnów\, małopolskie\, 33-100\, Polska
CATEGORIES:wystawy
ATTACH;FMTTYPE=image/jpeg:https://kultura.tarnow.pl/wp-content/uploads/7181144607ef2c40278239ff409b7a18.jpeg
GEO:50.012155;20.9878542
X-APPLE-STRUCTURED-LOCATION;VALUE=URI;X-ADDRESS=Tarnowskie Centrum Kultury Rynek 5 Tarnów małopolskie 33-100 Polska;X-APPLE-RADIUS=500;X-TITLE=Rynek 5:geo:20.9878542,50.012155
END:VEVENT
BEGIN:VEVENT
DTSTART;TZID=Europe/Warsaw:20250208T110000
DTEND;TZID=Europe/Warsaw:20250208T180000
DTSTAMP:20260424T120807
CREATED:20250203T140902Z
LAST-MODIFIED:20250203T140902Z
UID:10023970-1739012400-1739037600@kultura.tarnow.pl
SUMMARY:Dzień Kobiet! Warsztaty\, spotkania\, prelekcje\, treningi – od kobiet dla kobiet 
DESCRIPTION:Kto powiedział\, że dzień kobiet jest tylko raz w roku? Zapraszamy na zajęcia otwarte\, warsztaty\, treningi pokazowe\, wykłady – pozwól sobie na czas dla siebie! Cały program wydarzenia jest przygotowany we współpracy z kobietami. Skorzystajcie z tego co oferują inne kobiety\, wspierajmy kobiecie biznesy i aktywności! \nCzęść spotkań w ramach tego dnia jest otwarta\, na część obowiązuje limit miejsc i zapisy. Wszystkie propozycje są bezpłatne. Szczegółowy program i kontakt do zapisów znajdziecie w wydarzeniu na facebooku Dom.Ku i dodatkowym drukowanym programie tego dnia.
URL:https://kultura.tarnow.pl/wydarzenie/dzien-kobiet-warsztaty-spotkania-prelekcje-treningi-od-kobiet-dla-kobiet/
LOCATION:Dom Kultury Westerplatte 8a\, Westerplatte 8a\, Tarnów\, Polska - małopolskie\, 33-100\, Polska
CATEGORIES:spotkania
ATTACH;FMTTYPE=image/jpeg:https://kultura.tarnow.pl/wp-content/uploads/Dzien-kobiet_PROGRAM-scaled.jpg
ORGANIZER;CN="Dom Kultury Westerplatte 8a":MAILTO:westerplatte@tck.pl
GEO:50.0273033;21.0087361
X-APPLE-STRUCTURED-LOCATION;VALUE=URI;X-ADDRESS=Dom Kultury Westerplatte 8a Westerplatte 8a Tarnów Polska - małopolskie 33-100 Polska;X-APPLE-RADIUS=500;X-TITLE=Westerplatte 8a:geo:21.0087361,50.0273033
END:VEVENT
END:VCALENDAR