BEGIN:VCALENDAR
VERSION:2.0
PRODID:-//kultura.tarnów - ECPv6.4.0.1//NONSGML v1.0//EN
CALSCALE:GREGORIAN
METHOD:PUBLISH
X-ORIGINAL-URL:https://kultura.tarnow.pl
X-WR-CALDESC:Wydarzenia dla
REFRESH-INTERVAL;VALUE=DURATION:PT1H
X-Robots-Tag:noindex
X-PUBLISHED-TTL:PT1H
BEGIN:VTIMEZONE
TZID:Europe/Warsaw
BEGIN:DAYLIGHT
TZOFFSETFROM:+0100
TZOFFSETTO:+0200
TZNAME:CEST
DTSTART:20250330T010000
END:DAYLIGHT
BEGIN:STANDARD
TZOFFSETFROM:+0200
TZOFFSETTO:+0100
TZNAME:CET
DTSTART:20251026T010000
END:STANDARD
END:VTIMEZONE
BEGIN:VEVENT
DTSTART;TZID=Europe/Warsaw:20250206T090000
DTEND;TZID=Europe/Warsaw:20250206T150000
DTSTAMP:20260424T022826
CREATED:20250116T072850Z
LAST-MODIFIED:20250116T072850Z
UID:10023856-1738832400-1738854000@kultura.tarnow.pl
SUMMARY:„Wizerunki wybitnych Polaków na monetach i banknotach Narodowego Banku Polskiego”
DESCRIPTION:Wzbudzają zachwyt u kolekcjonerów na całym świecie\, a niektóre warte są nawet kilkadziesiąt tysięcy złotych. Muzeum Ziemi Tarnowskiej zaprasza na wystawę „Wizerunki wybitnych Polaków na monetach i banknotach Narodowego Banku Polskiego”.  \nNa nowej wystawie zaprezentowanych zostanie ponad 200 obiektów. W większości są to monety i banknoty kolekcjonerskie. Na szczególną uwagę zasługuje kolekcja „Skarby Stanisława Augusta”. Obejmuje ona do dzisiaj 23 srebrne monety wzorowane na medalach zamówionych przez Stanisława Augusta Poniatowskiego\, które upamiętniają polskich władców. Ponadto można będzie zobaczyć serie monet poświęcone polskim podróżnikom\, malarzom\, aktorkom oraz prezentujące tematy indywidulane. Zaprezentowana zostanie też moneta będąca swoistym „białym krukiem”\, bo została zaprojektowana z okazji 600. rocznicy powstania Uniwersytetu Jagiellońskiego\, a z powodu błędu na awersie jest wyjątkowo cenna. Ekspozycję uzupełnią najnowsze nabytki Muzeum w tym banknot polimerowy oraz moneta wyemitowane z okazji 550. rocznicy urodzin Mikołaja Kopernika. \nDodajmy\, że w tym roku Muzeum Ziemi Tarnowskiej obchodzi 45. rocznicę nawiązania współpracy z Narodowym Bankiem Polskim. Od 1980 r. regularne przekazy wzbogacają kolekcję numizmatyczną Muzeum. \nWystawę będzie można oglądać do 30 marca 2025 r.
URL:https://kultura.tarnow.pl/wydarzenie/wizerunki-wybitnych-polakow-na-monetach-i-banknotach-narodowego-banku-polskiego-2/2025-02-06/
LOCATION:Muzeum Ziemi Tarnowskiej\, Rynek 3\, Tarnów\, małopolskie\, 33-100\, Polska
CATEGORIES:wystawy
ATTACH;FMTTYPE=image/jpeg:https://kultura.tarnow.pl/wp-content/uploads/Plakat-NBP-media-scaled.jpg
GEO:50.0122989;20.9877958
X-APPLE-STRUCTURED-LOCATION;VALUE=URI;X-ADDRESS=Muzeum Ziemi Tarnowskiej Rynek 3 Tarnów małopolskie 33-100 Polska;X-APPLE-RADIUS=500;X-TITLE=Rynek 3:geo:20.9877958,50.0122989
END:VEVENT
BEGIN:VEVENT
DTSTART;TZID=Europe/Warsaw:20250206T100000
DTEND;TZID=Europe/Warsaw:20250206T130000
DTSTAMP:20260424T022826
CREATED:20250203T140644Z
LAST-MODIFIED:20250305T110750Z
UID:10024542-1738836000-1738846800@kultura.tarnow.pl
SUMMARY:Muzyka dla smyka – zajęcia gordonowskie dla dzieci
DESCRIPTION:Rodzimy się z naturalnym talentem muzycznym – pomóżmy dzieciom go utrzymać! Zapraszamy na zajęcia umuzykalniające oparte na metodzie gordonowskiej\, które rozwijają wrażliwość muzyczną i kreatywność w sposób naturalny i pełen zabawy. Podczas spotkań dzieci wraz z opiekunem uczestniczą w zabawach muzycznych. Wykorzystywane są melodie bez słów\, rytmiczne sekwencje i ruch\, by wspierać wszechstronny rozwój dziecka. \nWstęp jest płatny: 40 zł od uczestnika wraz z jednym opiekunem. \nZajęcia odbywają się w dwóch grupach wiekowych: 0-18 miesięcy (zajęcia o godz. 10:00) i 18-36 miesięcy (zajęcia o godz. 11:15). Grupa jest ograniczona do 10 miejsc. \nObowiązują zapisy: 888 655 101\, a.radon@tck.pl Na listę zapisujemy dziecko – opiekun jest zapisany automatycznie\, jego obecność na zajęciach jest obowiązkowa. Prosimy o punktualność. \nProwadząca: Magdalena Zaranek – absolwentka muzykologii\, nauczycielka\, certyfikowana trenerka zajęć gordonowskich. \n \n 
URL:https://kultura.tarnow.pl/wydarzenie/muzyka-dla-smyka-zajecia-gordonowskie-dla-dzieci/2025-02-06/
LOCATION:Dom Kultury Westerplatte 8a\, Westerplatte 8a\, Tarnów\, Polska - małopolskie\, 33-100\, Polska
CATEGORIES:warsztaty
ATTACH;FMTTYPE=image/jpeg:https://kultura.tarnow.pl/wp-content/uploads/Pierwsza-muzyka-scaled.jpg
GEO:50.0273033;21.0087361
X-APPLE-STRUCTURED-LOCATION;VALUE=URI;X-ADDRESS=Dom Kultury Westerplatte 8a Westerplatte 8a Tarnów Polska - małopolskie 33-100 Polska;X-APPLE-RADIUS=500;X-TITLE=Westerplatte 8a:geo:21.0087361,50.0273033
END:VEVENT
BEGIN:VEVENT
DTSTART;TZID=Europe/Warsaw:20250206T100000
DTEND;TZID=Europe/Warsaw:20250206T170000
DTSTAMP:20260424T022826
CREATED:20250103T141050Z
LAST-MODIFIED:20250103T141050Z
UID:10023421-1738836000-1738861200@kultura.tarnow.pl
SUMMARY:Zbigniew Furman 'Męskie rozmowy"
DESCRIPTION:Tarnowskie Centrum Kultury serdecznie zaprasza na wystawę fotografii autorstwa Zbigniewa Furmana\, specjalistę fotografii socjologicznej oraz portretowej. \nZbigniew Furman\nUrodził się w Krakowie w połowie ubiegłego stulecia. Zawodową przygodę z fotografią rozpoczął ok 1970 roku. Zaś pracę fotoreportera zaczynał w redakcji „Życia Warszawy” w roku 1973. W latach 1979 -81 pracował w tyg. Razem. W stanie wojennym prowadził zakład fotograficzny a następnie studio fotografii reklamowej. Przez wiele lat uprawiał fotografię modową współpracując z największymi polskimi firmami odzieżowymi oraz pismami poświęconymi modzie. Współpracował od pierwszego numeru z Życiem / z kropką /\, z którego przeszedł do tyg. Wprost gdzie przez 11 lat kierował działem fotografii. Od 2008 pracował przez 7 lat w Muzeum Powstania Warszawskiego. Laureat wielu konkursów fotograficznych\, autor 24 wystaw indywidualnych i współautor wielu wystaw zbiorowych. Juror w najbardziej znaczących konkursach fotograficznych. Od wielu lat członek Związku Polskich Artystów Fotografików. Działa w zarządzie Sekcji Dzieł Fotograficznych ZAiKSu. \nWystawa prezentowana w Galerii TCK\, od 16 stycznia do 15 lutego 2025 r.\, więcej informacji na stronie: https://tck.pl/wydarzenia/264\,wystawa-meskie-rozmowy\nBilety: 7 zł (normalny) i 5 zł (ulgowy). Ekspozycja czynna od poniedziałku do piątku\, w godz. 10:00-18:00 oraz w soboty w godz. 10:00-17:00.
URL:https://kultura.tarnow.pl/wydarzenie/zbigniew-furman-meskie-rozmowy-2/2025-02-06/
LOCATION:Tarnowskie Centrum Kultury\, Rynek 5\, Tarnów\, małopolskie\, 33-100\, Polska
CATEGORIES:wystawy
ATTACH;FMTTYPE=image/jpeg:https://kultura.tarnow.pl/wp-content/uploads/7181144607ef2c40278239ff409b7a18.jpeg
GEO:50.012155;20.9878542
X-APPLE-STRUCTURED-LOCATION;VALUE=URI;X-ADDRESS=Tarnowskie Centrum Kultury Rynek 5 Tarnów małopolskie 33-100 Polska;X-APPLE-RADIUS=500;X-TITLE=Rynek 5:geo:20.9878542,50.012155
END:VEVENT
BEGIN:VEVENT
DTSTART;TZID=Europe/Warsaw:20250206T100000
DTEND;TZID=Europe/Warsaw:20250206T170000
DTSTAMP:20260424T022826
CREATED:20250127T104243Z
LAST-MODIFIED:20250127T104243Z
UID:10023911-1738836000-1738861200@kultura.tarnow.pl
SUMMARY:Magdalena Hlawacz "Mama mówiła odpocznij"
DESCRIPTION:Drzemka zamiast wernisażu. \nKuratorka: Agnieszka Dela-Kropiowska \nXXI wiek jawi się jako epoka ludzi zmęczonych. O zjawisku „wyczerpania” piszą filozofowie\, socjolożki\, psychologowie. Bez zbędnych teorii\, coraz częściej odczuwamy ten stan sami – w naszym codziennym życiu. Trudno jednoznacznie sprecyzować gdzie tkwi źródło „zmęczenia”. W poprzednich dekadach łatwiej można było wskazać winowajcę; był nim wymagający dyrektor zakładu\, w którym przyszło nam pracować\, innym razem wyczerpywała nas sytuacja ekonomiczna kraju czy międzynawowe konflikty. \nZdaje się\, że w obecnym wieku\, sami jesteśmy sobie winni\, tocząc nieustanną wojnę z własnym „ja”. Żyjemy w społeczeństwie z utrwalanym mottem życiowym\, że wszystko zależy tylko od nas i możemy osiągnąć wiele\, wykonując kolejne etapy ciągłego rozwoju”. Każde marzenie jest „w zasięgu ręki”\, wystarczy tylko chcieć. Informacja „możesz wszystko okazała się zgubna dla naszego organizmu\, który bez narzuconych zewnętrznych norm i zakazów\, poddaje się wewnętrznemu strażnikowi – własnemu „ja”. Ten okazuje się groźniejszy niż niejeden z historycznych dyktatorów. Jako „managerowie samych siebie” wymyśliliśmy nową formę odpoczynku\, która ma sens tylko w kontekście wcześniej wykonanej pracy. Odpoczynek stał się elementem obowiązkowym w naszym codziennym życiu. Jest precyzyjnie zaplanowany\, mając swoje ukryte cele; powinien być aktywny (bo ważne jest dbanie zdrowie)\, powinien być produktywny (bo ważny jest rozwój osobisty)\, powinien być szczególny (bo bez sensu robić coś\, co nie ma celu). Żyjemy w cieniu powinności pracy i odpoczynku\, koncentrując się wyjątkowo wyraźnie na wewnętrznym głosie\, który ciągle od nas wymaga lepszego „ja”. \nArtystka w odpowiedzi na problematykę wyczerpania namalowała słowa i zwroty\, które wydają się niejednoznaczne: „Odpuszczenie”\, „Rozgrzeszenie”\, „Kołdra odciążeniowa” czy „Nic nie szkodzi” chcąc przywrócić rzeczywistość naturalnemu biegowi rzeczy\, gdzie odpoczynek ma w sobie element lekkości i spokoju (a nie samorozwoju). W poszukiwaniu równowagi\, przywołuje słowa pełne troski\, wypowiadane przez najbliższe osoby: „Dziecko\, odpocznij”. Ich prostota może stać się jedynym ratunkiem dla zmęczonej rzeczywistości. \nWystawa i proces jej przygotowań to praca dla Magdaleny Hlawacz – zawodowej artystki. Autorka zamiast wernisażu – klasycznego\, uroczystego otwarcia wystawy\, który jest ważnym elementem systemu – obiegu sztuki w galeriach\, zachęca nas do drzemki. Prosi\, abyśmy zostali w domu i odpoczęli. Drzemka ma w sobie coś naturalnego\, nie musi przechodzić wszystkich faz „właściwego” snu\, może być kilkuminutowym „zatrzymaniem” organizmu\, wymykającym się pracy i aktywnemu odpoczywaniu. Jest obiecująco bezproduktywna. \n* Pisząc notatkę do wystawy\, kuratorka inspirowała się książką: Byung-Chul Han\, Społeczeństwo zmęczenia i inne eseje\, Warszawa 2022 \nPokaz jest Nagrodą BWA Tarnów przyznaną Artystce przez dyrektorkę BWA Tarnów Ewę Łączyńską-Widz w opolskim „Salonie wiosennym 2021” (Galeria Sztuki Współczesnej w Opolu\, 2021). \nOprawa graficzna: Katarzyna Mular \nPartner wystawy: Galeria Sztuki Współczesnej w Opolu \nMagdalena Hlawacz (ur. 1976 w Opolu) – polska artystka wizualna\, projektantka graficzna i akademiczka\, profesorka Uniwersytetu Opolskiego. Absolwentka Wydziału Malarstwa i Rzeźby Akademii Sztuk Pięknych we Wrocławiu\, gdzie w 2001 r. obroniła dyplom w zakresie malarstwa (w pracowni prof. Nicola Naskowa). W 2008 r. zdobyła tytuł doktory sztuki na tym samym wydziale. W 2015 r. uzyskała habilitację na Wydziale Grafiki i Sztuki Mediów tej samej uczelni. Jest Dyrektorką Instytutu Sztuk Wizualnych na Wydziale Sztuki Uniwersytetu Opolskiego. Artystka zajmuje się malarstwem\, fotografią\, rysunkiem i grafiką oraz bada związki zachodzące między różnymi mediami\, często działając na pograniczu dyscyplin. \n6 – 28.02.2025\nBWA Tarnów / Pałacyk Strzelecki\, ul. Słowackiego 1
URL:https://kultura.tarnow.pl/wydarzenie/magdalena-hlawacz-mama-mowila-odpocznij/2025-02-06/
LOCATION:Biuro Wystaw Artystycznych\, ul. Słowackiego 1\, Tarnów\, małopolskie\, 33-100\, Polska
CATEGORIES:wystawy
ORGANIZER;CN="Biuro Wystaw Artystycznych":MAILTO:biuro@bwa.tarnow.pl
GEO:50.0178761;20.9827521
X-APPLE-STRUCTURED-LOCATION;VALUE=URI;X-ADDRESS=Biuro Wystaw Artystycznych ul. Słowackiego 1 Tarnów małopolskie 33-100 Polska;X-APPLE-RADIUS=500;X-TITLE=ul. Słowackiego 1:geo:20.9827521,50.0178761
END:VEVENT
BEGIN:VEVENT
DTSTART;TZID=Europe/Warsaw:20250206T180000
DTEND;TZID=Europe/Warsaw:20250206T193000
DTSTAMP:20260424T022826
CREATED:20250120T120304Z
LAST-MODIFIED:20250120T120304Z
UID:10023904-1738864800-1738870200@kultura.tarnow.pl
SUMMARY:VI Dni Schuberta w Tarnowie
DESCRIPTION:Zapraszamy na koncerty w ramach cyklu Dni Schuberta w Tarnowie. W tym roku głównym organizatorem jest Filharmonia Krakowska\, która we współpracy z Zespołem Szkół Muzycznych w Tarnowie proponuje pięć koncertów z muzyką austriackiego kompozytora epoki romantyzmu. Muzyka Franza Schuberta zabrzmi w różnych miejscach Tarnowa: w Sali Lustrzanej\, w sali balowej Pałacu Sanguszków i w sali koncertowej przy ul. Lippóczy’ego. Na dwa pierwsze koncerty kameralne wstęp jest wolny\, natomiast kolejne koncerty będą biletowane. Bilety dostępne na stronie Filharmonii Krakowskiej lub bezpośrednio przed koncertem w foyer sali koncertowej.
URL:https://kultura.tarnow.pl/wydarzenie/vi-dni-schuberta-w-tarnowie/2025-02-06/
LOCATION:małopolskie
CATEGORIES:festiwale
ATTACH;FMTTYPE=image/jpeg:https://kultura.tarnow.pl/wp-content/uploads/DNI_SCHUBERTA-scaled.jpg
END:VEVENT
END:VCALENDAR