BEGIN:VCALENDAR
VERSION:2.0
PRODID:-//kultura.tarnów - ECPv6.4.0.1//NONSGML v1.0//EN
CALSCALE:GREGORIAN
METHOD:PUBLISH
X-WR-CALNAME:kultura.tarnów
X-ORIGINAL-URL:https://kultura.tarnow.pl
X-WR-CALDESC:Wydarzenia dla
REFRESH-INTERVAL;VALUE=DURATION:PT1H
X-Robots-Tag:noindex
X-PUBLISHED-TTL:PT1H
BEGIN:VTIMEZONE
TZID:Europe/Warsaw
BEGIN:DAYLIGHT
TZOFFSETFROM:+0100
TZOFFSETTO:+0200
TZNAME:CEST
DTSTART:20250330T010000
END:DAYLIGHT
BEGIN:STANDARD
TZOFFSETFROM:+0200
TZOFFSETTO:+0100
TZNAME:CET
DTSTART:20251026T010000
END:STANDARD
END:VTIMEZONE
BEGIN:VEVENT
DTSTART;TZID=Europe/Warsaw:20250204T090000
DTEND;TZID=Europe/Warsaw:20250204T150000
DTSTAMP:20260424T102628
CREATED:20250116T072850Z
LAST-MODIFIED:20250116T072850Z
UID:10023854-1738659600-1738681200@kultura.tarnow.pl
SUMMARY:„Wizerunki wybitnych Polaków na monetach i banknotach Narodowego Banku Polskiego”
DESCRIPTION:Wzbudzają zachwyt u kolekcjonerów na całym świecie\, a niektóre warte są nawet kilkadziesiąt tysięcy złotych. Muzeum Ziemi Tarnowskiej zaprasza na wystawę „Wizerunki wybitnych Polaków na monetach i banknotach Narodowego Banku Polskiego”.  \nNa nowej wystawie zaprezentowanych zostanie ponad 200 obiektów. W większości są to monety i banknoty kolekcjonerskie. Na szczególną uwagę zasługuje kolekcja „Skarby Stanisława Augusta”. Obejmuje ona do dzisiaj 23 srebrne monety wzorowane na medalach zamówionych przez Stanisława Augusta Poniatowskiego\, które upamiętniają polskich władców. Ponadto można będzie zobaczyć serie monet poświęcone polskim podróżnikom\, malarzom\, aktorkom oraz prezentujące tematy indywidulane. Zaprezentowana zostanie też moneta będąca swoistym „białym krukiem”\, bo została zaprojektowana z okazji 600. rocznicy powstania Uniwersytetu Jagiellońskiego\, a z powodu błędu na awersie jest wyjątkowo cenna. Ekspozycję uzupełnią najnowsze nabytki Muzeum w tym banknot polimerowy oraz moneta wyemitowane z okazji 550. rocznicy urodzin Mikołaja Kopernika. \nDodajmy\, że w tym roku Muzeum Ziemi Tarnowskiej obchodzi 45. rocznicę nawiązania współpracy z Narodowym Bankiem Polskim. Od 1980 r. regularne przekazy wzbogacają kolekcję numizmatyczną Muzeum. \nWystawę będzie można oglądać do 30 marca 2025 r.
URL:https://kultura.tarnow.pl/wydarzenie/wizerunki-wybitnych-polakow-na-monetach-i-banknotach-narodowego-banku-polskiego-2/2025-02-04/
LOCATION:Muzeum Ziemi Tarnowskiej\, Rynek 3\, Tarnów\, małopolskie\, 33-100\, Polska
CATEGORIES:wystawy
ATTACH;FMTTYPE=image/jpeg:https://kultura.tarnow.pl/wp-content/uploads/Plakat-NBP-media-scaled.jpg
GEO:50.0122989;20.9877958
X-APPLE-STRUCTURED-LOCATION;VALUE=URI;X-ADDRESS=Muzeum Ziemi Tarnowskiej Rynek 3 Tarnów małopolskie 33-100 Polska;X-APPLE-RADIUS=500;X-TITLE=Rynek 3:geo:20.9877958,50.0122989
END:VEVENT
BEGIN:VEVENT
DTSTART;TZID=Europe/Warsaw:20250204T100000
DTEND;TZID=Europe/Warsaw:20250204T170000
DTSTAMP:20260424T102628
CREATED:20250103T141050Z
LAST-MODIFIED:20250103T141050Z
UID:10023419-1738663200-1738688400@kultura.tarnow.pl
SUMMARY:Zbigniew Furman 'Męskie rozmowy"
DESCRIPTION:Tarnowskie Centrum Kultury serdecznie zaprasza na wystawę fotografii autorstwa Zbigniewa Furmana\, specjalistę fotografii socjologicznej oraz portretowej. \nZbigniew Furman\nUrodził się w Krakowie w połowie ubiegłego stulecia. Zawodową przygodę z fotografią rozpoczął ok 1970 roku. Zaś pracę fotoreportera zaczynał w redakcji „Życia Warszawy” w roku 1973. W latach 1979 -81 pracował w tyg. Razem. W stanie wojennym prowadził zakład fotograficzny a następnie studio fotografii reklamowej. Przez wiele lat uprawiał fotografię modową współpracując z największymi polskimi firmami odzieżowymi oraz pismami poświęconymi modzie. Współpracował od pierwszego numeru z Życiem / z kropką /\, z którego przeszedł do tyg. Wprost gdzie przez 11 lat kierował działem fotografii. Od 2008 pracował przez 7 lat w Muzeum Powstania Warszawskiego. Laureat wielu konkursów fotograficznych\, autor 24 wystaw indywidualnych i współautor wielu wystaw zbiorowych. Juror w najbardziej znaczących konkursach fotograficznych. Od wielu lat członek Związku Polskich Artystów Fotografików. Działa w zarządzie Sekcji Dzieł Fotograficznych ZAiKSu. \nWystawa prezentowana w Galerii TCK\, od 16 stycznia do 15 lutego 2025 r.\, więcej informacji na stronie: https://tck.pl/wydarzenia/264\,wystawa-meskie-rozmowy\nBilety: 7 zł (normalny) i 5 zł (ulgowy). Ekspozycja czynna od poniedziałku do piątku\, w godz. 10:00-18:00 oraz w soboty w godz. 10:00-17:00.
URL:https://kultura.tarnow.pl/wydarzenie/zbigniew-furman-meskie-rozmowy-2/2025-02-04/
LOCATION:Tarnowskie Centrum Kultury\, Rynek 5\, Tarnów\, małopolskie\, 33-100\, Polska
CATEGORIES:wystawy
ATTACH;FMTTYPE=image/jpeg:https://kultura.tarnow.pl/wp-content/uploads/7181144607ef2c40278239ff409b7a18.jpeg
GEO:50.012155;20.9878542
X-APPLE-STRUCTURED-LOCATION;VALUE=URI;X-ADDRESS=Tarnowskie Centrum Kultury Rynek 5 Tarnów małopolskie 33-100 Polska;X-APPLE-RADIUS=500;X-TITLE=Rynek 5:geo:20.9878542,50.012155
END:VEVENT
BEGIN:VEVENT
DTSTART;TZID=Europe/Warsaw:20250204T180000
DTEND;TZID=Europe/Warsaw:20250204T200000
DTSTAMP:20260424T102628
CREATED:20250203T140325Z
LAST-MODIFIED:20250203T140325Z
UID:10023966-1738692000-1738699200@kultura.tarnow.pl
SUMMARY:Plansza łączy. Gramy w Dom.Ku
DESCRIPTION:Gry planszowe w Domu Kultury to już tradycja\, ale zawsze jest miejsce na nowe znajomości i świeże emocje! Wpadajcie rodzinnie\, ze znajomymi albo solo – u nas zawsze znajdziecie ekipę do grania. Planszówki to idealny sposób na oderwanie się od codzienności: ćwiczą logikę\, rozwijają kreatywne myślenie i zapraszają do przeżycia przygód\, których nie znajdziecie nigdzie indziej. \nKto wie\, może odkryjecie swoją nową ulubioną grę? Wstęp wolny. \n 
URL:https://kultura.tarnow.pl/wydarzenie/plansza-laczy-gramy-w-dom-ku-8/
LOCATION:Dom Kultury Westerplatte 8a\, Westerplatte 8a\, Tarnów\, Polska - małopolskie\, 33-100\, Polska
CATEGORIES:spotkania
ORGANIZER;CN="Dom Kultury Westerplatte 8a":MAILTO:westerplatte@tck.pl
GEO:50.0273033;21.0087361
X-APPLE-STRUCTURED-LOCATION;VALUE=URI;X-ADDRESS=Dom Kultury Westerplatte 8a Westerplatte 8a Tarnów Polska - małopolskie 33-100 Polska;X-APPLE-RADIUS=500;X-TITLE=Westerplatte 8a:geo:21.0087361,50.0273033
END:VEVENT
END:VCALENDAR