BEGIN:VCALENDAR
VERSION:2.0
PRODID:-//kultura.tarnów - ECPv6.4.0.1//NONSGML v1.0//EN
CALSCALE:GREGORIAN
METHOD:PUBLISH
X-WR-CALNAME:kultura.tarnów
X-ORIGINAL-URL:https://kultura.tarnow.pl
X-WR-CALDESC:Wydarzenia dla
REFRESH-INTERVAL;VALUE=DURATION:PT1H
X-Robots-Tag:noindex
X-PUBLISHED-TTL:PT1H
BEGIN:VTIMEZONE
TZID:Europe/Warsaw
BEGIN:DAYLIGHT
TZOFFSETFROM:+0100
TZOFFSETTO:+0200
TZNAME:CEST
DTSTART:20250330T010000
END:DAYLIGHT
BEGIN:STANDARD
TZOFFSETFROM:+0200
TZOFFSETTO:+0100
TZNAME:CET
DTSTART:20251026T010000
END:STANDARD
END:VTIMEZONE
BEGIN:VEVENT
DTSTART;TZID=Europe/Warsaw:20250125T080000
DTEND;TZID=Europe/Warsaw:20250125T200000
DTSTAMP:20260424T053848
CREATED:20250109T112256Z
LAST-MODIFIED:20250116T123104Z
UID:10023844-1737792000-1737835200@kultura.tarnow.pl
SUMMARY:33. tarnowski Finał WOŚP
DESCRIPTION:Piątek\, 24 stycznia 2025 r. \ngodz. 10:30-20:00 DRIFT PARK EXTREME dla WOŚP\n– przejazdy Crazy Cart dla małych (od 4 r.ż.) i dużych (do 90 kg)\n– całkowita kwota za przejazdy trafi do puszek\nOrganizator: DRIFT PARK EXTREME\nul. Szkotnik 2B\, I piętro \nSobota\, 25 stycznia 2025 r. \ngodz. 8:00-19:00 MODELARZE DLA WOŚP\n3 Runda Halowych Mistrzostw Polski Modeli Zdalnie Sterowanych RC\n– zawody\, możliwość sterowania modelami\n– podczas imprezy zbierane będą datki do puszek\nOrganizator: Tarnowski Klub Modelarstwa Samochodowego TKMS Tarnów – Koszyce Wielkie \ngodz. 9:00 II Zimowy Halowy Turniej Piłki Nożnej WINTER BEEF CUP 2025 o Puchar Dyrektora Oddziału Sokołów S.A. w Tarnowie\n– podczas imprezy będą zbierane datki do puszek\nOrganizator: Sokołów S.A.\nWojnicz\, Hala Sportowa ZSLiT \ngodz. 9:30 IX Endurance Karting Grand Prix o Moto Serce WOŚP 2025\ndrużynowe długodystansowe zawody kartingowe\nOrganizator: Małopolski Ośrodek Sportów Motorowych\nTor Speed Race – ul. Kochanowskiego 30 \ngodz. 12:00-15:00 SELFIE PARTY – SALA NA BALETY SERCEM Z WOŚP\n– kilkanaście ścianek do selfie\, dyskoteka z DJ-em\, animatorzy z Fabryki Radości\, dmuchaniec\, bubble house\, konkursy\, zabawy\, poczęstunek\, niespodzianki\, strefa chill dla rodziców (dochód z kaw do puszek)\n– wstęp do puszki: 50 PLN dla dzieci i młodzieży (opiekunowie gratis)\nOrganizator: Sala na Balety\nNowodworze 72e – zapisy pod nr: 535883355 \ngodz. 15:00 BAJKA „PRZEZ KRAINĘ BAŚNI”\nprzedstawienie dla dzieci w wykonaniu Przedszkolnej Grupy Teatralnej\n– wstęp: datek do puszki\nOrganizator: Przedszkole nr 32\nul. Długa 32a \ngodz. 16:00-18:00 SPACER pt. „Zbrodnia i występek\, czyli tarnowski pitawal”\nwędrówkę śladami tarnowskich zbrodni poprowadzi przewodnik Barbara Jagiencarz-Starzec (BaśkoPODRÓŻ).\n– udział za opłatą do e-Skarbonki\nZbiórka pod wejściem do Muzeum Okręgowego w Ratuszu \nNiedziela\, 26 stycznia 2025 r. \ngodz. 06:00-21:00 ZBIÓRKA na ulicach Tarnowa i w okolicznych miejscowościach \ngodz. 08:00-20:00 CH MAX dla WOŚP\n– zawieszki zapachowe za datki do puszki\n– 1 zł na rzecz WOŚP za każdy zarejestrowany paragon (min. 20 zł) z zakupów w dniu Finału\,\n– ciepła herbata dla wolontariuszy w Cukierni Kudelski\nul. Szkotnik 1A \ngodz. 09:00-13:00 ZBIÓRKA KRWI\nOrganizator: Regionalne Centrum Krwiodawstwa i Krwiolecznictwa. Oddział terenowy\nul. Szpitalna 13 \ngodz. 09:00-21:00 SERDUSZKOWE LODOWISKA\n– Kryte lodowiska Tarnowskiego Ośrodka Sportu i Rekreacji\n– wejście: datek do puszki\nul. Wojska Polskiego 14 (10:00 – 21:00)\nul. Traugutta 5A (9:00 – 20:00) \ngodz. 09:00-13:00 BAZAR NA STARÓWCE\n– w programie\, m.in. koncert zespołu Leliwa Jazz Band (11:00-12:00)\nOrganizator: Rada Osiedla Nr 1 „Starówka”\nPlac Targowy Burek \ngodz. 09:00-14:00 MODELARZE DLA WOŚP\n3 Runda Halowych Mistrzostw Polski Modeli Zdalnie Sterowanych RC\n– zawody\, możliwość sterowania modelami\n– podczas imprezy zbierane będą datki do puszek\nOrganizator : Tarnowski Klub Modelarstwa Samochodowego TKMS Tarnów – Koszyce Wielkie \ngodz. 09:00-14:00 ZSEG dla WOŚP\nciepła herbata\, kawa oraz słodki poczęstunek dla wolontariuszy\nOrganizator: – Zespół Szkół Ekonomiczno – Gastronomicznych\nul. Gen. Bema 9/11 \ngodz. 09:00-20:00 GEMINI PARK TARNÓW dla WOŚP\n– moc atrakcji i muzyka na żywo\n– Kwesta – wolontariusze Siemacha Spot\n– Pracownia Wokalna Pałacu Młodzieży\n– Obóz harcerski\, Harcerze Hufca ZHP Tarnów\n– Występy artystyczne – seniorzy i animacje dla dzieci\, Siemacha Spot\n– Wataha Rycerska – pokazy walk oraz sprzętu\n– Ratujemy i uczymy ratować – pokazy sprzętu i udzielania pierwszej pomocy – Malta Służba Medyczna Oddział Tarnów\nul. Nowodąbrowska 127 \ngodz. 09:00 TURNIEJ TENISA STOŁOWEGO – GRAMY NA ZDROWIE!\n09:30 – dzieci i młodzież ze szkół podstawowych i średnich\n13:00 – dorośli\nOrganizatorzy: Szkoła Podstawowa nr 1\, Tarnowski Związek Tenisa Stołowego\, UKS przy SP 1 w Tarnowie\nSala gimnastyczna SP1\, ul. Reymonta 30 \ngodz. 10:00-13:00 SIEMACHA dla WOŚP\nciepłe napoje dla wolontariuszy w Siemacha Tarnów\nul. 16 Pułku Piechoty 12 \ngodz. 10:00-14:30 OGÓLNOPOLSKI CHARYTATYWNY BRYDŻOWY TURNIEJ PAR dla WOŚP\nOrganizator: Tarnowski Związek Brydża Sportowego\nDom Studenta\, ul. Słowackiego 7 \ngodz. 10:00-14:45 MARATON FITNESS – Klub Forma\n– zapisy w wiadomości prywatnej w profilu: „Body In Motion – Małgorzata Smętek” lub na nr telefonu 604580960\nWstęp: 40 PLN do puchy za 1 zajęcia (45-50 min)\, 100 PLN za 3 zajęcia\, wszystkie zajęcia: 150 PLN\n10:00 Dance Aerobic | 11:00 Trening obwodowy wzmacniający | 12:00 Trening obwodowy cardio | 13:00 Kettlebells | 14:00 Streching\nul. Nowy Świat 48 \ngodz. 10:00-20:00 PROMIENNY ZAMEK dla WOŚP\nAnimacje dla najmłodszych – puszka stacjonarna – cały dochód z każdej kawy oraz wykonanych tatuaży i malowania twarzy zostanie przekazany na rzecz WOŚP\nul. Promienna 21 \ngodz. 12:00 DZIECI I ZWIERZĘTA MAJĄ GŁOS\nwykład o dobrych praktykach w komunikacji z dziećmi i zwierzętami oraz otwarta gra terenowa dla rodzin\n– prowadzący: Ewelina i Piotr Harafowie – Fundacja Iskierka\nOrganizator: Biuro Wystaw Artystycznych – wstęp wolny\nDworzec PKP/Plac Dworcowy 4 \ngodz. 12:00-19:00 WAŁOWA 25 dla WOŚP\nMultimedialne Centrum Artystyczne\nOrganizator: Biuro Wystaw Artystycznych\nPUNKT DLA WOLONTARIUSZY – gorąca herbata \, kawa i ciasteczko – bezpłatnie dla wolontariuszy WOŚP\n14:00 – 18:00 RETRO GRY na STARYCH KONSOLACH\n– prowadzący: Tomasz Boksa – wstęp datek do puszki\nul. Wałowa 25 \ngodz. 12:00-14:00 ROZGRZEJ SIĘ Z ESKĄ\nPyszny żurek przygotowany przez Restaurację Tatrzańska\, za datek do puszki rozdawać będą dziennikarze Radia ESKA\nul. Krakowska 1 / Plac Sobieskiego \ngodz. 14:00-18:00 ProTarnów dla WOŚP\nciepły posiłek\, ciasto i herbata dla wolontariuszy\nOrganizator: ProTarnów w Tarnowskim Centrum Równości\nul. Kręta 10 \ngodz. 15:00 KAMERALNY KONCERT Dariusza Marcinka z elementami poezji na wystawie\nGrzegorza Kumorka – Stodoła\, dom\, las\n– wstęp datek do puszki\nOrganizator: Biuro Wystaw Artystycznych\nPałacyk Strzelecki\, ul. Słowackiego 1 \ngodz. 15:00 KONCERT laureatów 29. Regionalnego Konkursu Kolęd i Pastorałek\nOrganizator: Gminne Centrum Kultury w Żabnie\nul. Jagiełły 16\, Żabno \ngodz. 16:00-18:00 Tańczymy dla WOŚP\nCharytatywny Maraton Zumby dla małych i dużych\n– poprowadzą: Agnieszka Baran i Edyta Węc\n– wstęp za datek do puszki\nOrganizator: Agnieszka Baran – Zumbowe Szaleństwo\nHala TOSIR\, ul. Traugutta 5a \ngodz. 17:00-18:00 KWAŚNA KWAŚNICA z Prezydentem Miasta Tarnowa Jakubem Kwaśnym\nObsesja Smaku – ul. Krakowska 3 \ngodz. 18:40-20:00 BIEG Z POCHODNIAMI\nOrganizatorzy: Międzyszkolny Ludowy Klub Sportowy oraz Stowarzyszenie Sportowe Sokół Tarnów\n18:40 – Zbiórka na hali sportowej SP nr 23 – os. Legionów H.D. 16\n19:25 – Start – bieg ulicami: Wojska Polskiego\, Starodąbrowska\, Mickiewicza\, Brodzińskiego\, Wałowa\n19:50 – Finał na Rynku \ngodz. 16:00-20:00 BURGER OD SOKOŁOWA\n2000 burgerów w zamian za datki do puszek rozda Organizator: Sokołów S.A.\nTarnowski Rynek \ngodz. 16:00 KONCERT NA TARNOWSKIM RYNKU\nOrganizator: Tarnowskie Centrum Kultury\n– Pokazy sprzętu służb mundurowych – Policji\, Straży Granicznej i Straży Pożarnej\n– wystąpią: Oliwia Miś\, Futro z Ryby\, Silver Nades\, Uwaga na Jeże\, TEDDY’S ARMY\n \nŚWIATEŁKO DO NIEBA – połączymy się z całą Polską\, przy dźwiękach muzyki i świetlnych atrakcjach\nSponsor: Dalian Talent Poland Sp. z o.o. \nŚroda\, 12 lutego 2025 r. \ngodz. 09:00 TARNOWSCY KSIĘGOWI DLA WOŚP\nSzkolenie Aktualności w CIT\, PIT\, VAT\n– całkowity przychód ze szkolenia zostanie przekazany dla WOŚP\nOrganizator: Stowarzyszenie Księgowych w Polsce Oddział Okręgowy w Krakowie\, Oddział w Tarnowie\nul. Kopernika 8/2 \n \n 
URL:https://kultura.tarnow.pl/wydarzenie/33-tarnowski-final-wosp/2025-01-25/
LOCATION:Rynek\, Tarnów\, małopolskie\, 33-100\, Polska
CATEGORIES:festiwale
ATTACH;FMTTYPE=image/jpeg:https://kultura.tarnow.pl/wp-content/uploads/472555686_994625352700296_6589441345366374522_n.jpg
ORGANIZER;CN="Tarnowski Sztab WO%C5%9AP":MAILTO:wosp_tarnow@interia.pl
GEO:50.0121011;20.9858407
END:VEVENT
BEGIN:VEVENT
DTSTART;TZID=Europe/Warsaw:20250125T100000
DTEND;TZID=Europe/Warsaw:20250125T170000
DTSTAMP:20260424T053848
CREATED:20250103T141050Z
LAST-MODIFIED:20250103T141050Z
UID:10023411-1737799200-1737824400@kultura.tarnow.pl
SUMMARY:Zbigniew Furman 'Męskie rozmowy"
DESCRIPTION:Tarnowskie Centrum Kultury serdecznie zaprasza na wystawę fotografii autorstwa Zbigniewa Furmana\, specjalistę fotografii socjologicznej oraz portretowej. \nZbigniew Furman\nUrodził się w Krakowie w połowie ubiegłego stulecia. Zawodową przygodę z fotografią rozpoczął ok 1970 roku. Zaś pracę fotoreportera zaczynał w redakcji „Życia Warszawy” w roku 1973. W latach 1979 -81 pracował w tyg. Razem. W stanie wojennym prowadził zakład fotograficzny a następnie studio fotografii reklamowej. Przez wiele lat uprawiał fotografię modową współpracując z największymi polskimi firmami odzieżowymi oraz pismami poświęconymi modzie. Współpracował od pierwszego numeru z Życiem / z kropką /\, z którego przeszedł do tyg. Wprost gdzie przez 11 lat kierował działem fotografii. Od 2008 pracował przez 7 lat w Muzeum Powstania Warszawskiego. Laureat wielu konkursów fotograficznych\, autor 24 wystaw indywidualnych i współautor wielu wystaw zbiorowych. Juror w najbardziej znaczących konkursach fotograficznych. Od wielu lat członek Związku Polskich Artystów Fotografików. Działa w zarządzie Sekcji Dzieł Fotograficznych ZAiKSu. \nWystawa prezentowana w Galerii TCK\, od 16 stycznia do 15 lutego 2025 r.\, więcej informacji na stronie: https://tck.pl/wydarzenia/264\,wystawa-meskie-rozmowy\nBilety: 7 zł (normalny) i 5 zł (ulgowy). Ekspozycja czynna od poniedziałku do piątku\, w godz. 10:00-18:00 oraz w soboty w godz. 10:00-17:00.
URL:https://kultura.tarnow.pl/wydarzenie/zbigniew-furman-meskie-rozmowy-2/2025-01-25/
LOCATION:Tarnowskie Centrum Kultury\, Rynek 5\, Tarnów\, małopolskie\, 33-100\, Polska
CATEGORIES:wystawy
ATTACH;FMTTYPE=image/jpeg:https://kultura.tarnow.pl/wp-content/uploads/7181144607ef2c40278239ff409b7a18.jpeg
GEO:50.012155;20.9878542
X-APPLE-STRUCTURED-LOCATION;VALUE=URI;X-ADDRESS=Tarnowskie Centrum Kultury Rynek 5 Tarnów małopolskie 33-100 Polska;X-APPLE-RADIUS=500;X-TITLE=Rynek 5:geo:20.9878542,50.012155
END:VEVENT
BEGIN:VEVENT
DTSTART;TZID=Europe/Warsaw:20250125T110000
DTEND;TZID=Europe/Warsaw:20250125T120000
DTSTAMP:20260424T053848
CREATED:20250109T134245Z
LAST-MODIFIED:20250109T134245Z
UID:10023813-1737802800-1737806400@kultura.tarnow.pl
SUMMARY:Filmowe Ferie w Marzeniu
DESCRIPTION:FILMOWE FERIE to idealna okazja\, aby odwiedzić Marzenie. Na seanse zapraszamy dzieci i dorosłych\, grupy zorganizowane oraz każdego\, kto ma ochotę na wartościowe kino.Przygotowaliśmy różnorodne propozycje familijne\, które porwą widzów w magiczne\, kolorowe\, pełne humoru i dobrych wartości światy.Ferie inaugurujemy 18 stycznia o godz. 11:00\, przedpremierowym pokazem z cyklu Rozmarzone poranki. Na pozostałe seanse zapraszamy w poniedziałki\, wtorki i piątki (20\, 21\, 24\, 27\, 28\, 31 stycznia) o godz. 11:00.Dodatkowo poniedziałkowe seanse poprzedzone będą zabawami z myślą o najmłodszych widzach. Dlatego w te dni (20 i 27 stycznia) zapraszamy do kina na godzinę 10:20\, a w programie\, który będzie dostosowany do ilości i wieku dzieci\, znajdą się między innymi: zabawy ruchowe i dźwiękowe\, aktywności plastyczne\, zwiedzanie kina oraz czytanie na ekranie. Projekcja filmu rozpocznie się o godz. 11:00.Seanse wtorkowe (21 i 28 stycznia) będą uwzględniać potrzeby osób wrażliwych. Przygasimy światła\, ale nie wyłączymy ich zupełnie\, przyciszymy dźwięk\, nie będzie wymogu zachowania całkowitej ciszy.Harmonogram projekcji: \n 18.01. „Basia- radzę sobie”\, reż. Marcin Wasilewski\, Łukasz Kacprowicz\,(52 min\, zalecany wiek 3+\, w cyklu Rozmarzone poranki\, przedpremiera) Zestaw filmów animowanych ( Narty\, Opiekunka\, Remont\, Telefon\, Wyprawa do lasu) przedstawiający przygody tytułowej bohaterki w codzienności współczesnego przedszkolaka. Basia pokazuje perspektywę pięciolatki\, która radzi sobie z wyzwaniami takimi jak: remonti zmiana mieszkania\, nauka nowych umiejętności\, odnajdywanie się w relacjach z innymi.20.01. „Po prostu super”\, reż. Rasmus A. Sivertsen\, (76 min\, zalecany wiek 6+\, godz. 10:20 aktywności i zabawy\, godz. 11:00 seans)11-letnia Zosia pasjonuje się grami. Jej ojciec jest superbohaterem\, który czuwa nad bezpieczeństwem całego miasta. Zosia ma jednak wrażenie\, że nie posiada takiej mocy jak on. Mimo wszystko postanawia zrobić wszystko\, by w przyszłości go godnie zastąpić. Okazuje się\, że to co miało kiedyś nadejść\, nadejdzie już jutro\, a Zosia będzie musiała temu stawić czoła. Pomogą jej w tym wysportowany kuzyn Adrian i nieco szalona babcia.21.01. „Pozdrowienia z Marsa”\, reż. Sarah Winkenstette\, (90 min\, zalecany wiek 10+\,komfortowy seans dla wrażliwych)10-letni Tom różni się od pozostałych dzieci. Nie lubi zmian\, czerwonych rzeczy\, a wszystko co głośne automatycznie staje się dla niego nie do zniesienia. Uwielbia za to astronomię\, bieganie w kombinezonie astronauty i słuchanie dźwięków kosmosu. Kiedy jego matka musi wyjechać zawodowo do Chin\, Tom wraz z rodzeństwem (15-letnią Niną i 13-letnim Elmarem) musi przeprowadzić się na sześć tygodni do dziadków na wieś. Dla Toma to katastrofa. Znalazł jednak sposób\, aby przetrwać ten czas. Wyjazd ten potraktował jako próbną misję na Marsa. Zaopatrzył się w dziennik pokładowy i niezbędny sprzęt. Chce być pierwszą osobą\, która tam poleci. \n24.01. „Kleks i wynalazek Filipa Golarza”\, reż. Maciej Kawulski\, (120 min\, zalecany wiek 12+). „Kleks i wynalazek Filipa Golarza” to wyjątkowa podróż do świata wyobraźni\, gdzie każdezdobyte doświadczenie i umiejętność mogą stanowić broń w walce z nadchodzącym złem. Tym razem Profesor Kleks jest zmuszony do powrotu do rzeczywistości i skonfrontowania sięz technologią\, która zagraża marzeniom dzieci\, podczas gdy w Akademii jego miejsce czasowo zajmuje wierny ptak Mateusz. Historia pełna jest niezwykłych pytań: czy miłość Ady Niezgódki do robota Alberta może przywrócić mu ludzkie serce? Czy wynalazek Filipa Golarza – kuszący dzieci wizją życia bez wyobraźni – na zawsze zmieni ich sposób myślenia? I czy fantazja ma jeszcze siłę\, by pokonać nowoczesną technologię?27.01. „Zima mamy mu”\, reż. Christian Ryltenius (60 min\, zalecany wiek 3+\,godz. 10:20 aktywności i zabawy\, godz. 11:00 seans) Na wielu rzeczach zna się jak krowa na gwiazdach\, jest niezdarna i często coś idzie nie po jej myśli. Mimo to ciekawość świata nie opuszcza Mamy Mu nawet na moment – inaczej byłoby bardzo nudno. Plany o byciu wokalistką i aktorką na razie musi jednak odstawić na bok\, bo gdzieś zniknął ukochany pluszak brata małej Liny. Mama Mu wraz ze swoim przyjacielem\, Panem Wroną\, rusza z kopyta i rozpoczyna śledztwo na farmie. Czasu jest niewiele\, miś przechodzi z rąk do rąk i gubi się nawet pod wodą\, ale dla rezolutnej krowy to tylko dodatkowa motywacja do działania. Komu w drogę\, temuuu czas!28.01. „Flow”\, reż. Gints Zilbalodis (84 min\, zalecany wiek 10+\, film bezdialogowy\,komfortowy seans dla wrażliwych )Charyzmatyczny kot stoi na czele nietypowej grupy\, w skład której wchodzą labrador\, kapibara\, lemur i ogromny ptak. Zwierzęta znajdują się w łodzi\, która – niczym biblijna arka Noego – dryfuje po zalanym przez wielką wodę świecie. Wspólnie nauczą się\, jak dzięki współpracy mogą żyć w nowej\, trudnej rzeczywistości. Film miał swoją światową premierę na Festiwalu w Cannes\, a na Międzynarodowym Festiwalu Filmów Animowanych w Annecy zdobył aż cztery nagrody\, w tym Nagrodę Jury\, Publiczności oraz za Najlepszą muzykę oryginalną. Jest także oficjalnym kandydatem Łotwy do Oscara w 2025 roku. \n31.01. „Sonic 3. Szybki jak błyskawica”\, reż. Jeff Fowler (110 min\, zalecany wiek 8+) Sonic\, Knuckles i Tails ponownie łączą siły przeciwko potężnemu nowemu przeciwnikowi\,Shadowowi. Shadow to tajemniczy złoczyńca z mocami niepodobnymi do niczego\, z czym mieli do czynienia wcześniej. Drużyna Sonica musi szukać nieprawdopodobnego sojuszu w nadziei na powstrzymanie złoczyńcy i ochronę planety. \nBilety zgodnie z cennikiem kina: 22 zł normalny\, 20 zł ulgowy\, 15 zł grupowy. Opiekunów półkolonii prosimy o rezerwację pod numerem tel. 14 688 88 85.Do zobaczenia w Marzeniu!
URL:https://kultura.tarnow.pl/wydarzenie/filmowe-ferie-w-marzeniu/2025-01-25/
LOCATION:Kino „Marzenie”\, ul. Staszica 4\, Tarnów\, małopolskie\, 33-100\, Polska
CATEGORIES:filmy
ATTACH;FMTTYPE=image/jpeg:https://kultura.tarnow.pl/wp-content/uploads/472770568_1013960990762930_6617103057606067486_n.jpg
GEO:50.011762;20.9833798
X-APPLE-STRUCTURED-LOCATION;VALUE=URI;X-ADDRESS=Kino „Marzenie” ul. Staszica 4 Tarnów małopolskie 33-100 Polska;X-APPLE-RADIUS=500;X-TITLE=ul. Staszica 4:geo:20.9833798,50.011762
END:VEVENT
BEGIN:VEVENT
DTSTART;TZID=Europe/Warsaw:20250125T180000
DTEND;TZID=Europe/Warsaw:20250125T193000
DTSTAMP:20260424T053848
CREATED:20250102T080003Z
LAST-MODIFIED:20250102T080003Z
UID:10023390-1737828000-1737833400@kultura.tarnow.pl
SUMMARY:Koncert karnawałowy – Zespół STOLAT
DESCRIPTION:Zespół STOLAT pod kierownictwem Bartka Szułakiewicza zaprasza na koncert karnawałowy. W programie niezapomniane przeboje polskich dancingów z lat 60.\, 70. i 80.\, m.in. „Przetańczyć chcę z Tobą całą noc” oraz „Serduszko puka w rytmie cza-cza”. \nWieczór pełen muzyki i karnawałowej zabawy to gwarancja niezapomnianych wrażeń zarówno dla miłośników nostalgicznych melodii\, jak i tanecznych szaleństw. Zachęcamy do oddania klimatu epoki – przyjdźcie w kolorowych\, błyszczących strojach\, z cekinami i boa z piór! \nPodczas koncertu wystąpią również zaproszeni goście. Szczegóły na Facebooku. Wstęp bezpłatny.
URL:https://kultura.tarnow.pl/wydarzenie/koncert-karnawalowy-zespol-stolat/
LOCATION:Dom Kultury Westerplatte 8a\, Westerplatte 8a\, Tarnów\, Polska - małopolskie\, 33-100\, Polska
CATEGORIES:koncerty
ATTACH;FMTTYPE=image/jpeg:https://kultura.tarnow.pl/wp-content/uploads/koncert-karnawal_100Lat-scaled.jpg
ORGANIZER;CN="Dom Kultury Westerplatte 8a":MAILTO:westerplatte@tck.pl
GEO:50.0273033;21.0087361
X-APPLE-STRUCTURED-LOCATION;VALUE=URI;X-ADDRESS=Dom Kultury Westerplatte 8a Westerplatte 8a Tarnów Polska - małopolskie 33-100 Polska;X-APPLE-RADIUS=500;X-TITLE=Westerplatte 8a:geo:21.0087361,50.0273033
END:VEVENT
END:VCALENDAR