BEGIN:VCALENDAR
VERSION:2.0
PRODID:-//kultura.tarnów - ECPv6.4.0.1//NONSGML v1.0//EN
CALSCALE:GREGORIAN
METHOD:PUBLISH
X-WR-CALNAME:kultura.tarnów
X-ORIGINAL-URL:https://kultura.tarnow.pl
X-WR-CALDESC:Wydarzenia dla
REFRESH-INTERVAL;VALUE=DURATION:PT1H
X-Robots-Tag:noindex
X-PUBLISHED-TTL:PT1H
BEGIN:VTIMEZONE
TZID:Europe/Warsaw
BEGIN:DAYLIGHT
TZOFFSETFROM:+0100
TZOFFSETTO:+0200
TZNAME:CEST
DTSTART:20250330T010000
END:DAYLIGHT
BEGIN:STANDARD
TZOFFSETFROM:+0200
TZOFFSETTO:+0100
TZNAME:CET
DTSTART:20251026T010000
END:STANDARD
END:VTIMEZONE
BEGIN:VEVENT
DTSTART;TZID=Europe/Warsaw:20250123T083000
DTEND;TZID=Europe/Warsaw:20250123T150000
DTSTAMP:20260424T053851
CREATED:20250110T101937Z
LAST-MODIFIED:20250110T101937Z
UID:10023836-1737621000-1737644400@kultura.tarnow.pl
SUMMARY:„Kilka słów o obecności” – teatralne warsztaty dla dzieci
DESCRIPTION:W pierwszym tygodniu ferii zimowych w Teatrze Solskiego odbędą się warsztaty teatralne dla dzieci w wieku 8 – 12 lat pt.: „Kilka słów o obecności”. \nGdzie leży źródło szczęścia? Czym jest miłość? Dlaczego nie zawsze akceptujemy tych\, którzy są inni od nas? Czym jest obecność? Dlaczego czasem jesteśmy smutni? Na te pytania postaramy się odpowiedzieć podczas styczniowych warsztatów teatralnych. Zapraszamy na teatr w tzw. starym stylu\, gdzie coś powstaje z niczego\, a głównym motorem działania jest wyobraźnia\, kreatywność i otwarte serce. Wszystko w towarzystwie świetnej muzyki\, wspaniałych zajęć plastycznych i w dobrej\, wspierającej atmosferze – zapowiada Monika Wenta\, aktorka prowadząca warsztaty. \nPodczas kilkudniowych zajęć uczestnicy zapoznają się z podstawami improwizacji teatralnej\, roli muzyki i plastyki w teatrze. Dzieci będą mogły szlifować swój talent wokalny i muzyczny\, popracują między innymi nad interpretacją utworów\, czy emisją głosu. W planie zajęć znajdują się także m.in. aktorskie czytanie tekstu\, ćwiczenia rytmiczne\, zabawy aktorskie\, ćwiczenia z ruchu scenicznego\, nauka śpiewania\, praca z akompaniatorem. \nZapraszamy dzieci w wieku 8-12 lat umiejące samodzielnie czytać\, co jest istotne podczas nauki tekstu na pamięć.\nCzas trwania: 20 – 24 stycznia (poniedziałek-piątek)\, w godzinach od 9:00 do 15:00\, a w piątek 24 stycznia od 10:00 do 16:00 (pokaz finałowy o godzinie 15:00). \nKoszt: 670 zł.\, w tym obiadowy catering + napój \nIlość uczestników ograniczona. \nProwadzący: Monika Wenta – aktorka\, Piotr Niedojadło – pianista\, kompozytor oraz Agnieszka Jasielec – prowadząca zajęcia plastyczne. \nZapisy i płatność na warsztaty w Biurze Promocji i Organizacji Widowni\, tel. 14 688-32-87\, 784-976-025\, do piątku 17 stycznia 2025 roku. \nPrzy płatności należy przynieść wypełnioną dokumentację: kwestionariusz osobowy\, zgodę na wykorzystanie wizerunku\, oświadczenie dotyczące powrotu dziecka z warsztatów. \nProsimy też o zapoznanie się z regulaminem warsztatów (wszystkie dokumenty do pobrania tutaj). \nNa zajęcia prosimy o przyniesienie drugiego śniadania\, napojów\, wygodnego i ciepłego stroju oraz obuwia na zmianę.
URL:https://kultura.tarnow.pl/wydarzenie/kilka-slow-o-obecnosci-teatralne-warsztaty-dla-dzieci/2025-01-23/
LOCATION:Teatr im. L.Solskiego\, Mickiewicza 4\, Tarnów\, małopolskie\, 33-100\, Polska
CATEGORIES:warsztaty
ATTACH;FMTTYPE=image/jpeg:https://kultura.tarnow.pl/wp-content/uploads/472671619_1036052838553058_5345776179091169637_n.jpg
GEO:50.0159214;20.987504
X-APPLE-STRUCTURED-LOCATION;VALUE=URI;X-ADDRESS=Teatr im. L.Solskiego Mickiewicza 4 Tarnów małopolskie 33-100 Polska;X-APPLE-RADIUS=500;X-TITLE=Mickiewicza 4:geo:20.987504,50.0159214
END:VEVENT
BEGIN:VEVENT
DTSTART;TZID=Europe/Warsaw:20250123T090000
DTEND;TZID=Europe/Warsaw:20250123T150000
DTSTAMP:20260424T053851
CREATED:20250116T072850Z
LAST-MODIFIED:20250116T072850Z
UID:10023848-1737622800-1737644400@kultura.tarnow.pl
SUMMARY:„Wizerunki wybitnych Polaków na monetach i banknotach Narodowego Banku Polskiego”
DESCRIPTION:Wzbudzają zachwyt u kolekcjonerów na całym świecie\, a niektóre warte są nawet kilkadziesiąt tysięcy złotych. Muzeum Ziemi Tarnowskiej zaprasza na wystawę „Wizerunki wybitnych Polaków na monetach i banknotach Narodowego Banku Polskiego”.  \nNa nowej wystawie zaprezentowanych zostanie ponad 200 obiektów. W większości są to monety i banknoty kolekcjonerskie. Na szczególną uwagę zasługuje kolekcja „Skarby Stanisława Augusta”. Obejmuje ona do dzisiaj 23 srebrne monety wzorowane na medalach zamówionych przez Stanisława Augusta Poniatowskiego\, które upamiętniają polskich władców. Ponadto można będzie zobaczyć serie monet poświęcone polskim podróżnikom\, malarzom\, aktorkom oraz prezentujące tematy indywidulane. Zaprezentowana zostanie też moneta będąca swoistym „białym krukiem”\, bo została zaprojektowana z okazji 600. rocznicy powstania Uniwersytetu Jagiellońskiego\, a z powodu błędu na awersie jest wyjątkowo cenna. Ekspozycję uzupełnią najnowsze nabytki Muzeum w tym banknot polimerowy oraz moneta wyemitowane z okazji 550. rocznicy urodzin Mikołaja Kopernika. \nDodajmy\, że w tym roku Muzeum Ziemi Tarnowskiej obchodzi 45. rocznicę nawiązania współpracy z Narodowym Bankiem Polskim. Od 1980 r. regularne przekazy wzbogacają kolekcję numizmatyczną Muzeum. \nWystawę będzie można oglądać do 30 marca 2025 r.
URL:https://kultura.tarnow.pl/wydarzenie/wizerunki-wybitnych-polakow-na-monetach-i-banknotach-narodowego-banku-polskiego-2/2025-01-23/
LOCATION:Muzeum Ziemi Tarnowskiej\, Rynek 3\, Tarnów\, małopolskie\, 33-100\, Polska
CATEGORIES:wystawy
ATTACH;FMTTYPE=image/jpeg:https://kultura.tarnow.pl/wp-content/uploads/Plakat-NBP-media-scaled.jpg
GEO:50.0122989;20.9877958
X-APPLE-STRUCTURED-LOCATION;VALUE=URI;X-ADDRESS=Muzeum Ziemi Tarnowskiej Rynek 3 Tarnów małopolskie 33-100 Polska;X-APPLE-RADIUS=500;X-TITLE=Rynek 3:geo:20.9877958,50.0122989
END:VEVENT
BEGIN:VEVENT
DTSTART;TZID=Europe/Warsaw:20250123T100000
DTEND;TZID=Europe/Warsaw:20250123T120000
DTSTAMP:20260424T053851
CREATED:20250107T080259Z
LAST-MODIFIED:20250128T125815Z
UID:10023433-1737626400-1737633600@kultura.tarnow.pl
SUMMARY:Ferie w BWA
DESCRIPTION:NIE EFEKT KOŃCOWY\, A PROCES TWORZENIA! \nNie zawsze wszystko idzie po naszej myśli\, ale… przecież nie musi! Skupimy się na satysfakcji z tworzenia\, dotyku\, kolorze i emocjach związanych z procesem\, a nie na wytworze! Istotna jest dobra zabawa! Będziemy rzeźbiarzami – stworzymy trójwymiarowe formy z gliny\, pianki i siana! Będziemy malarzami – tymi co tworzą na płótnie\, i tymi co pokrywają farbą ściany! Nakryjemy stół\, z którego nic nie zjemy. Użyjemy dwóch rąk do narysowania jednego obrazu i jednej pianki do stworzenia wszechświata. \nPorozmawiamy o tym dlaczego stodoła i las zawitały do galerii sztuki oraz dlaczego sztuki nie musimy rozumieć\, aby wiedzieć czy nam się podoba czy nie. \nwiek uczestników: 6-12 lat\nprowadzenie: Agata Dymańska\, Aleksandra Kubisztal / Dział Edukacji BWA w Tarnowie\nkoszt: 100 zł za 5 dni zajęć / uczestnik / płatne z góry przelewem\nmiejsce: BWA w Tarnowie\, ul. Słowackiego 1 \nMateriały zapewnia organizator.\nLiczba miejsc ograniczona. Obowiązują zapisy: edukacja@bwa.tarnow.pl\, 606 146 520. \nZalecamy wygodny strój\, na którym farba użyta (przypadkowo chlapnięta) podczas zajęć będzie się dobrze prezentować.
URL:https://kultura.tarnow.pl/wydarzenie/ferie-w-bwa/2025-01-23/
LOCATION:Biuro Wystaw Artystycznych\, ul. Słowackiego 1\, Tarnów\, małopolskie\, 33-100\, Polska
CATEGORIES:warsztaty
ATTACH;FMTTYPE=image/png:https://kultura.tarnow.pl/wp-content/uploads/Wydarzenie-facebook-1.png
ORGANIZER;CN="Biuro Wystaw Artystycznych":MAILTO:biuro@bwa.tarnow.pl
GEO:50.0178761;20.9827521
X-APPLE-STRUCTURED-LOCATION;VALUE=URI;X-ADDRESS=Biuro Wystaw Artystycznych ul. Słowackiego 1 Tarnów małopolskie 33-100 Polska;X-APPLE-RADIUS=500;X-TITLE=ul. Słowackiego 1:geo:20.9827521,50.0178761
END:VEVENT
BEGIN:VEVENT
DTSTART;TZID=Europe/Warsaw:20250123T100000
DTEND;TZID=Europe/Warsaw:20250123T170000
DTSTAMP:20260424T053851
CREATED:20250103T141050Z
LAST-MODIFIED:20250103T141050Z
UID:10023409-1737626400-1737651600@kultura.tarnow.pl
SUMMARY:Zbigniew Furman 'Męskie rozmowy"
DESCRIPTION:Tarnowskie Centrum Kultury serdecznie zaprasza na wystawę fotografii autorstwa Zbigniewa Furmana\, specjalistę fotografii socjologicznej oraz portretowej. \nZbigniew Furman\nUrodził się w Krakowie w połowie ubiegłego stulecia. Zawodową przygodę z fotografią rozpoczął ok 1970 roku. Zaś pracę fotoreportera zaczynał w redakcji „Życia Warszawy” w roku 1973. W latach 1979 -81 pracował w tyg. Razem. W stanie wojennym prowadził zakład fotograficzny a następnie studio fotografii reklamowej. Przez wiele lat uprawiał fotografię modową współpracując z największymi polskimi firmami odzieżowymi oraz pismami poświęconymi modzie. Współpracował od pierwszego numeru z Życiem / z kropką /\, z którego przeszedł do tyg. Wprost gdzie przez 11 lat kierował działem fotografii. Od 2008 pracował przez 7 lat w Muzeum Powstania Warszawskiego. Laureat wielu konkursów fotograficznych\, autor 24 wystaw indywidualnych i współautor wielu wystaw zbiorowych. Juror w najbardziej znaczących konkursach fotograficznych. Od wielu lat członek Związku Polskich Artystów Fotografików. Działa w zarządzie Sekcji Dzieł Fotograficznych ZAiKSu. \nWystawa prezentowana w Galerii TCK\, od 16 stycznia do 15 lutego 2025 r.\, więcej informacji na stronie: https://tck.pl/wydarzenia/264\,wystawa-meskie-rozmowy\nBilety: 7 zł (normalny) i 5 zł (ulgowy). Ekspozycja czynna od poniedziałku do piątku\, w godz. 10:00-18:00 oraz w soboty w godz. 10:00-17:00.
URL:https://kultura.tarnow.pl/wydarzenie/zbigniew-furman-meskie-rozmowy-2/2025-01-23/
LOCATION:Tarnowskie Centrum Kultury\, Rynek 5\, Tarnów\, małopolskie\, 33-100\, Polska
CATEGORIES:wystawy
ATTACH;FMTTYPE=image/jpeg:https://kultura.tarnow.pl/wp-content/uploads/7181144607ef2c40278239ff409b7a18.jpeg
GEO:50.012155;20.9878542
X-APPLE-STRUCTURED-LOCATION;VALUE=URI;X-ADDRESS=Tarnowskie Centrum Kultury Rynek 5 Tarnów małopolskie 33-100 Polska;X-APPLE-RADIUS=500;X-TITLE=Rynek 5:geo:20.9878542,50.012155
END:VEVENT
BEGIN:VEVENT
DTSTART;TZID=Europe/Warsaw:20250123T100000
DTEND;TZID=Europe/Warsaw:20250123T170000
DTSTAMP:20260424T053851
CREATED:20250110T090413Z
LAST-MODIFIED:20250110T090413Z
UID:10023828-1737626400-1737651600@kultura.tarnow.pl
SUMMARY:Projekty architektoniczne studentów Politechniki Krakowskiej
DESCRIPTION:Wystawa pokonkursowych projektów architektonicznych studentów WA Politechniki Krakowskiej\nRozbudowa i przebudowa kamienicy w Tarnowie przy Rynku 6. \n12.01.2025 – 30.01.2025\nMultimedialne Centrum Artystyczne / Wałowa 25 – oddział BWA Tarnów\nWstęp wolny \n15.01 (środa) \, g. 12:00 – wernisaż wystawy \nGodziny otwarcia ekspozycji:\nponiedziałek\, środa\, czwartek i niedziela: 10:00-17:00 \n13.01 (poniedziałek) – wystawa będzie niedostępna dla zwiedzających z powodu obrad jury konkursu. \nWystawa prezentuje projekty architektoniczne studentów Politechniki Krakowskiej\, które mają na celu przywrócenie świetności zrujnowanej nieruchomości przy Rynku 6 w Tarnowie\, przekształcając ją w „żywą” przestrzeń miejską z budynkiem nowej generacji. Praca nad projektami obejmowała wiele etapów: od analizy istniejącego stanu po koncepcję przekształcenia miejsca w funkcjonalny i estetyczny obiekt. \nStan istniejący: \nNieruchomość przy Rynku 6 w Tarnowie jest zrujnowana. Kamienica frontowa nie ma dachu (tymczasowe przykrycie z blachy)\, oficyna boczna i tylna mają tylko 1 kondygnację (parter)\, bez stropu. Pozostała cześć działki jest zaniedbana i porośnięta dziką zielenią. Nieruchomość uległa pożarowi w 2009 roku. W granicy z działką 5/2 zlokalizowana jest stacja trafo. \nZ dokumentów archiwalnych wynika\, że nieruchomość przy Rynku 6 składała się z kamienicy frontowej\, oficyny bocznej i oficyny tylnej oraz przybudówek. Istniejąca przyrynkowa kamienica frontowa jest trójosiowa\, 4-kondygnacyjna – z parterem\, piętrem i piwnicą (niewidoczna część) oraz poddaszem – posiadała spadzisty\, dwuspadowy dach z lukarnami. Oficyna boczna stanowi pierzeję wzdłuż ul. Wielkie Schody. W przeszłości była 3-kondygnacyjna (parter\, piętro i poddasze)\, z dachem pulpitowym zwróconym na stronę podwórka. Oficyna tylna sąsiaduje z działką nr 2 i jest zlokalizowana w linii miejskich murów obronnych. Podobnie jak oficyna boczna była 3-kondygnacyjna\, z dachem pulpitowym zwróconym w stronę podwórka. Na działce\, wzdłuż granicy z działką nr 512 znajdowała się jeszcze 1-kondygnacyjna i 2-kondygnacyjna przybudówka o małych gabarytach. Pozostała część działki stanowiła wewnętrzny dziedziniec / ogród. \nDziałka nr 4 ma powierzchnię ok. 736\,00m2\, nie posiada własnych parkingów\, dróg dojazdowych\, wjazdów\, ani chodników. Od północy (Rynku)\, od wschodu (ul. Wielkie Schody) i od południa (działka nr 2) budynki są zlokalizowane w granicy nieruchomości. Dostęp komunikacyjny (pieszy\, rowerowy\, samochodowy\, transportowy) jest możliwy z Rynku Głównego i z ulicy Wielkie Schody (pieszy\, rowerowy). \nNieruchomość przy Rynku 6 otoczona jest głównie przez kamienice o przeznaczeniu mieszkalnym i usługowym. Działka ma zróżnicowane ukształtowanie terenu – część działki z oficyną tylną to skarpa\, dlatego budynek jest równocześnie murem oporowym i jest bezpośrednio połączony z istniejącym fragmentem murów miejskich. Istnieje duże prawdopodobieństwo\, ze ściana zewnętrzna oficyny usytuowana jest (lub stanowi) fragment murów obronnych Starego Miasta Tarnowa. \nOpiekunowie prac studenckich: \n\ndr inż. arch. Bartosz Dendura (prowadzący przedmiot)\ndr inż. arch. Ewelina Panasiuk (koordynator)\ndr inż. Arch. Anna Porębska\ndr inż. arch. Marta Łukasik\n\nSkład jury konkursowego: \n\ndr inż. arch. Wiesław Michałek (Wydział Architektury Politechniki Krakowskiej) – przewodniczący\nmgr sztuki Jacek Adamczyk (Dyrektor Centrum Dialogu -Idea Tarnów) – sekretarz\ndr inż. arch. Bartosz Dendura (Wydział Architektury Politechniki Krakowskiej)\nmgr inż. arch. Barbara Knapik (Przewodnicząca – Miejskiej Komisji Urbanistyczno-Architektonicznej)\nmgr inż. Michał Sitek ( Dyrektor Wydziału Architektury i Planowania Przestrzennego)\nmgr inż. arch. Paulina Hebda (p.o. Kierownika – Wojewódzkiego Urzędu Ochrony Zabytków w Krakowie delegatura w Tarnowie)\nmgr inż. arch. Michał Rączka
URL:https://kultura.tarnow.pl/wydarzenie/projekty-architektoniczne-studentow-politechniki-krakowskiej/2025-01-23/
LOCATION:Multimedialne Centrum Artystyczne\, Wałowa 25\, Tarnów\, małopolskie\, 33-100\, Polska
CATEGORIES:wystawy
ORGANIZER;CN="Biuro Wystaw Artystycznych":MAILTO:biuro@bwa.tarnow.pl
GEO:50.013866931068;20.987989998201
X-APPLE-STRUCTURED-LOCATION;VALUE=URI;X-ADDRESS=Multimedialne Centrum Artystyczne Wałowa 25 Tarnów małopolskie 33-100 Polska;X-APPLE-RADIUS=500;X-TITLE=Wałowa 25:geo:20.987989998201,50.013866931068
END:VEVENT
BEGIN:VEVENT
DTSTART;TZID=Europe/Warsaw:20250123T110000
DTEND;TZID=Europe/Warsaw:20250123T123000
DTSTAMP:20260424T053851
CREATED:20250116T131504Z
LAST-MODIFIED:20250116T131504Z
UID:10023890-1737630000-1737635400@kultura.tarnow.pl
SUMMARY:Ferie zimowe w Muzeum
DESCRIPTION:Odkrywanie rodzinnych korzeni\, gra wielkoformatowa o Polsce\, ciekawostki o dawnej modzie\, możliwość poznania kultury romskiej czy wizyta w babcinej izbie sprzed stu lat – Muzeum Ziemi Tarnowskiej zaprasza podczas ferii zimowych na zajęcia edukacyjne dla osób indywidualnych. Oddziały Muzeum zaplanowały 12 spotkań dla dzieci i dorosłych. Propozycje przygotowały Muzeum Etnograficzne\, Regionalne Centrum Edukacji\no Pamięci oraz Muzeum Ratusz ­– Galeria Sztuki Dawnej. Wszystkie zajęcia rozpoczynają się o 11:00\, obowiązuje wcześniejsza rezerwacja miejsc. \nPonadto w czasie ferii Muzeum Ziemi Tarnowskiej zachęca organizatorów zimowisk do skorzystania z zajęć edukacyjnych dla grup zorganizowanych. Więcej informacji na stronie www.muzeum.tarnow.pl \nProgram zajęć dla osób indywidualnych podczas ferii zimowych \nRegionalne Centrum Edukacji o Pamięci \nul. Mościckiego 27a\, 33-100 Tarnów \nrezerwacja:  14 657 18 67 lub rceop@muzeum.tarnow.pl \n„Nasze korzenie” – wtorki: 21 i 28 stycznia\, godz. 11.00 \nW trakcie zajęć uczestnicy zapoznają się z najważniejszymi pojęciami dotyczącymi genealogii. Mali uczestnicy poznają wybrane eksponaty z wystawy\, które są także pamiątkami rodzinnymi. Następnie\, na bazie przygotowanych tekstów omawiają znaczenie słów: kultura osobista\, tradycja\, mała i duża ojczyzna. Podsumowaniem jest ćwiczenie „W przysłowiach nauka”. \nW części praktycznej dzieci wykonują najprostsze drzewo genealogiczne w wersji podwójnego stojącego drzewka\, które może być świetną pamiątką na Dzień Babci\ni Dziadka. Nieco starsi uczniowie (klasy IV) mogą ten projekt rozwinąć\, dodając dane: pradziadków i dalszych przodków. \nOdbiorcy: dzieci (6 – 12 lat) z opiekunami \nkoszt: 14 zł / osoba\, czas trwania: 120 min. \nObowiązuje wcześniejsza rezerwacja miejsc \n„Polska to my” – czwartki: 23 i 30 stycznia\, godz. 11.00 \nZajęcia z wykorzystaniem gry wielkoformatowej „Polska to my”\, w trakcie której uczestnicy poznają istotne postaci i miejsca z regionu oraz powtórzą wiedzę o symbolach narodowych. Gra zawiera również ćwiczenia fizyczne w myśl powiedzenia „W zdrowym ciele\, zdrowy duch”. Na zakończenie zajęć każdy uczestnik wykona trójwymiarową postać żołnierza lub żołnierki z tekturowego szablonu.\nOdbiorcy: dzieci (7-12 lat) z opiekunami\nkoszt: 14 zł / osoba\, czas trwania: 90 min. \nObowiązuje wcześniejsza rezerwacja miejsc. \nMuzeum Ratusz – Galeria Sztuki Dawnej \nRynek 1\, 33-100 Tarnów \nrezerwacja:  14 621 21 49\, wew. 101 \n„Potęga mody” – od wtorku do piątku: 21-24 i 28-31 stycznia\, godz. 11.00. \nW czasie zajęć uczestnicy dowiedzą się jak wyglądały dawne modne stroje\, z czego były wykonywane i jak je przechowywano. Poznają również różne\, niepraktyczne elementy stroju narzucone przez modę m.in. wysokie obcasy obuwia męskiego\, peruki\, rusztowania sukien\, gorsety\, wymyślne dekoracje fryzur. Szczegółowy omówiony będzie typowy strój sarmacki widoczny na portretach znajdujących się na ekspozycji. W części praktycznej uczestnicy ozdobią kartonowe sylwetki szlachcica i szlachcianki\, poruszane za pomocą drewnianego suwaka. Dodatkową atrakcją będzie możliwość wykonania zdjęć w stroju z dawnych czasów. \nOdbiorcy: dzieci w wieku od 5 do 12 lat\, koszt: 16 zł/osoba \nObowiązuje wcześniejsza rezerwacja miejsc. Minimalna liczba uczestników – 5 osób. \nMuzeum Etnograficzne w Tarnowie \nul. Krakowska 10\, 33-100 Tarnów \nRezerwacja: nr telefonu (+48) 14 622 06 25 \n„Ferie z babcią i dziadkiem w Muzeum Etnograficznym” \n„W babcinej izbie” – poniedziałek 20 stycznia\, godz. 11:00 \nJak wyglądało życie na wsi sto lat temu? W jaki sposób wytwarzano mąkę\, chleb i produkty z mleka. Z jakich sprzętów i narzędzi korzystano na co dzień. Na jakie pomieszczenia dzieliła się dawniej wiejska chata i co można było w nich znaleźć. Tego wszystkiego dowiedzą się uczestnicy zajęć przygotowanych przez Muzeum Etnograficzne w Tarnowie. Lekcja prowadzona będzie w oparciu o wystawę czasową przedstawiającą wnętrze wiejskiej chaty z regionu z przełomu XIX i XX w. Uczestnicy spotkania poznają sprzęty\, narzędzia oraz przedmioty codziennego użytku wykorzystywane dawniej na wsi. Na zakończenie spotkania wnuki z babciami i dziadkami wspólnie ozdobią odwzorowanie oleodruku\, jaki można było spotkać w świętym kącie w dawnej wiejskiej chacie oraz woreczek zapachowy wypełniony ziołami. Zajęcia będą doskonałą okazją do poznania tradycji i kultury regionu tarnowskiego. \nOdbiorcy: przedszkolaki\, uczniowie szkół podstawowych\, ponadpodstawowych\, seniorzy\, osoby z niepełnosprawnościami (słuchu\, wzroku\, intelektualną) \nKoszt: 16 zł/osoba\, czas trwania: ok. 90 min. \nObowiązuje wcześniejsza rezerwacja miejsc \n„Spotkanie z romską kulturą” – poniedziałek 27 stycznia\, godz. 11:00 \nSkąd wywodzą się Romowie\, jakie zawody wykonywali dawniej\, czym zajmują się obecnie? W jaki sposób podróżowali i dlaczego przestali wędrować? Na te i wiele innych pytań będzie można uzyskać odpowiedź podczas zajęć dotyczących historii i kultury Romów. Spotkanie rozpocznie się od zwiedzania pełnej ciekawych eksponatów wystawy poświęconej mniejszości romskiej. Jest to pierwsza na świecie stała ekspozycja dotycząca tej tematyki. Uczestnicy zajęć poznają tradycyjne romskie zawody i zwyczaje\, dowiedzą się jak ważną rolę w kulturze romskiej pełni język. W dalszej części zajęć dzieci będą mogły przebrać się w cygańskie stroje i zrobić sobie pamiątkowe zdjęcie. Na zakończenie każdy wykona bransoletkę ze szklanych koralików. \nOdbiorcy: przedszkolaki\, uczniowie szkół podstawowych\, ponadpodstawowych\, seniorzy\, osoby z niepełnosprawnościami (słuchu\, wzroku\, intelektualną) \nkoszt: 16 zł/osoba\, czas trwania: ok. 90 min. \nObowiązuje wcześniejsza rezerwacja miejsc
URL:https://kultura.tarnow.pl/wydarzenie/ferie-zimowe-w-muzeum/2025-01-23/
LOCATION:Muzeum Etnograficzne\, ul. krakowska 10\, Tarnów\, małopolskie\, 33-100\, Polska
CATEGORIES:wernisaże
GEO:50.01092;20.98332
X-APPLE-STRUCTURED-LOCATION;VALUE=URI;X-ADDRESS=Muzeum Etnograficzne ul. krakowska 10 Tarnów małopolskie 33-100 Polska;X-APPLE-RADIUS=500;X-TITLE=ul. krakowska 10:geo:20.98332,50.01092
END:VEVENT
END:VCALENDAR