BEGIN:VCALENDAR
VERSION:2.0
PRODID:-//kultura.tarnów - ECPv6.4.0.1//NONSGML v1.0//EN
CALSCALE:GREGORIAN
METHOD:PUBLISH
X-WR-CALNAME:kultura.tarnów
X-ORIGINAL-URL:https://kultura.tarnow.pl
X-WR-CALDESC:Wydarzenia dla
REFRESH-INTERVAL;VALUE=DURATION:PT1H
X-Robots-Tag:noindex
X-PUBLISHED-TTL:PT1H
BEGIN:VTIMEZONE
TZID:Europe/Warsaw
BEGIN:DAYLIGHT
TZOFFSETFROM:+0100
TZOFFSETTO:+0200
TZNAME:CEST
DTSTART:20250330T010000
END:DAYLIGHT
BEGIN:STANDARD
TZOFFSETFROM:+0200
TZOFFSETTO:+0100
TZNAME:CET
DTSTART:20251026T010000
END:STANDARD
END:VTIMEZONE
BEGIN:VEVENT
DTSTART;TZID=Europe/Warsaw:20250117T100000
DTEND;TZID=Europe/Warsaw:20250117T170000
DTSTAMP:20260424T102638
CREATED:20250103T141050Z
LAST-MODIFIED:20250103T141050Z
UID:10023404-1737108000-1737133200@kultura.tarnow.pl
SUMMARY:Zbigniew Furman 'Męskie rozmowy"
DESCRIPTION:Tarnowskie Centrum Kultury serdecznie zaprasza na wystawę fotografii autorstwa Zbigniewa Furmana\, specjalistę fotografii socjologicznej oraz portretowej. \nZbigniew Furman\nUrodził się w Krakowie w połowie ubiegłego stulecia. Zawodową przygodę z fotografią rozpoczął ok 1970 roku. Zaś pracę fotoreportera zaczynał w redakcji „Życia Warszawy” w roku 1973. W latach 1979 -81 pracował w tyg. Razem. W stanie wojennym prowadził zakład fotograficzny a następnie studio fotografii reklamowej. Przez wiele lat uprawiał fotografię modową współpracując z największymi polskimi firmami odzieżowymi oraz pismami poświęconymi modzie. Współpracował od pierwszego numeru z Życiem / z kropką /\, z którego przeszedł do tyg. Wprost gdzie przez 11 lat kierował działem fotografii. Od 2008 pracował przez 7 lat w Muzeum Powstania Warszawskiego. Laureat wielu konkursów fotograficznych\, autor 24 wystaw indywidualnych i współautor wielu wystaw zbiorowych. Juror w najbardziej znaczących konkursach fotograficznych. Od wielu lat członek Związku Polskich Artystów Fotografików. Działa w zarządzie Sekcji Dzieł Fotograficznych ZAiKSu. \nWystawa prezentowana w Galerii TCK\, od 16 stycznia do 15 lutego 2025 r.\, więcej informacji na stronie: https://tck.pl/wydarzenia/264\,wystawa-meskie-rozmowy\nBilety: 7 zł (normalny) i 5 zł (ulgowy). Ekspozycja czynna od poniedziałku do piątku\, w godz. 10:00-18:00 oraz w soboty w godz. 10:00-17:00.
URL:https://kultura.tarnow.pl/wydarzenie/zbigniew-furman-meskie-rozmowy-2/2025-01-17/
LOCATION:Tarnowskie Centrum Kultury\, Rynek 5\, Tarnów\, małopolskie\, 33-100\, Polska
CATEGORIES:wystawy
ATTACH;FMTTYPE=image/jpeg:https://kultura.tarnow.pl/wp-content/uploads/7181144607ef2c40278239ff409b7a18.jpeg
GEO:50.012155;20.9878542
X-APPLE-STRUCTURED-LOCATION;VALUE=URI;X-ADDRESS=Tarnowskie Centrum Kultury Rynek 5 Tarnów małopolskie 33-100 Polska;X-APPLE-RADIUS=500;X-TITLE=Rynek 5:geo:20.9878542,50.012155
END:VEVENT
BEGIN:VEVENT
DTSTART;TZID=Europe/Warsaw:20250117T180000
DTEND;TZID=Europe/Warsaw:20250117T210000
DTSTAMP:20260424T102639
CREATED:20250113T111156Z
LAST-MODIFIED:20250113T111217Z
UID:10023842-1737136800-1737147600@kultura.tarnow.pl
SUMMARY:Goście Łukasza Maciejewskiego - Janusz Chabior
DESCRIPTION:Druga filmowa odsłona największego polskiego hitu ostatnich lat. Na ekrany kin powróci profesor Ambroży Kleks\, Ada Niezgódka i Albert. Pojawi się też kluczowa nowy bohater – Filip Golarz – w tej roli charyzmatyczny Janusz Chabior. Jedna z najbarwniejszych\, najbardziej lubianych i cenionych postaci polskiego kina\, teatru i telewizji.17 stycznia Janusz Chabior będzie pierwszym bohaterem cyklu „Goście Łukasza Maciejewskiego” w 2025 roku.\nPlan wieczoru:\ngodz. 18:00 – seans filmu „Kleks i wynalazek Filipa Golarza”ok. godz. 19:50 – rozmowa Łukasza Maciejewskiego z Januszem Chabiorem\n\nPierwsza część „Akademii Pana Kleksa” w reżyserii Macieja Kawulskiego okazała się rekordowym kinowym sukcesem – w Polsce obejrzało ją ponad 2\,9 miliona widzów\, a dzięki dystrybucji streamingowej trafiła do widzów w ponad 190 krajach i kilkudziesięciu grup językowych na całym świecie. Teraz świat nieograniczonej wyobraźni wraca w jeszcze bardziej emocjonującej odsłonie!\n„Kleks i wynalazek Filipa Golarza” to wyjątkowa podróż do świata wyobraźni\, gdzie każde zdobyte doświadczenie i umiejętność mogą stanowić broń w walce z nadchodzącym złem. Tym razem Profesor Kleks jest zmuszony do powrotu do rzeczywistości i skonfrontowania się z technologią\, która zagraża marzeniom dzieci\, podczas gdy w Akademii jego miejsce czasowo zajmuje wierny ptak Mateusz.\nHistoria pełna jest niezwykłych pytań: czy miłość Ady Niezgódki do robota Alberta może przywrócić mu ludzkie serce? Czy wynalazek Filipa Golarza – kuszący dzieci wizją życia bez wyobraźni – na zawsze zmieni ich sposób myślenia? I czy fantazja ma jeszcze siłę\, by pokonać nowoczesną technologię?\nZapraszamy do świata\, w którym magia i technologia ścierają się\, by pokazać\, że wyobraźnia jest najpotężniejszą mocą.\n\nO filmie:\nPo letniej przerwie Ada Niezgódka wraca do Akademii\, żeby rozwikłać tajemnicę pochodzenia swojego przyjaciela – Alberta. W tym samym czasie profesor Kleks wyrusza do świata realnego\, żeby odnaleźć przyjaciela sprzed lat. Okazuje się\, że oba te tropy prowadzą do dawnego absolwenta Akademii – Filipa zwanego Golarzem…\nChabior opowiada:\n„Trochę czekałem\, ale w końcu w trylogii „Akademia Pana Kleksa” pojawia się w pełnym wymiarze postać Filipa Golarza\, którą miałem przyjemność zagrać. Filip powraca\, żeby zemścić się za odrzuconą miłość i poniżenie\, którego doświadczył w Akademii. Czy uda mu się zniszczyć Akademię? Ja wiem\, co się wydarzy\, a widzowie musza poczekać do 3 stycznia i oficjalnej premiery.”\nReżyser Maciej Kawulski dodaje:\n„Jeżeli pierwsza część „Akademii Pana Kleksa” rozpaliła dziecięcą wyobraźnię\, to druga nie tylko zaświeci jeszcze mocniej\, ale i pokaże kompletnie nowe furtki do przestrzeni\, które dotychczas były zamknięte nawet dla dorosłych. Czy można kochać robota? Czy tworząc go\, można pozostać obojętnym na jego ludzki pierwiastek? Każdy z nas raz na jakiś czas musi opuścić swoją strefę komfortu i udać się do świata realnego. Cała sztuka polega na tym\, aby to świat realny stał się strefą komfortu. „\n Bilety: 25 zł\, 20 zł (ulgowy)
URL:https://kultura.tarnow.pl/wydarzenie/goscie-lukasza-maciejewskiego-janusz-chabior/
LOCATION:Centrum Sztuki Mościce\, Traugutta 1\, Tarnów\, małopolskie\, 33-101\, Polska
CATEGORIES:filmy
ATTACH;FMTTYPE=image/jpeg:https://kultura.tarnow.pl/wp-content/uploads/470205646_1227169602138461_5972955278221821887_n.jpg
GEO:50.009833;20.92706
X-APPLE-STRUCTURED-LOCATION;VALUE=URI;X-ADDRESS=Centrum Sztuki Mościce Traugutta 1 Tarnów małopolskie 33-101 Polska;X-APPLE-RADIUS=500;X-TITLE=Traugutta 1:geo:20.92706,50.009833
END:VEVENT
BEGIN:VEVENT
DTSTART;TZID=Europe/Warsaw:20250117T190000
DTEND;TZID=Europe/Warsaw:20250117T233000
DTSTAMP:20260424T102639
CREATED:20250102T074729Z
LAST-MODIFIED:20250102T074729Z
UID:10023383-1737140400-1737156600@kultura.tarnow.pl
SUMMARY:Planszówki młodzieżówki
DESCRIPTION:Odkryj nowe tytuły\, zaskocz swoich przyjaciół nietypowymi taktykami i spędź niezapomnianą noc pełną emocji i śmiechu! Nie ma lepszej zabawy niż nocne granie w gry planszowe – dołącz do nas i poczuj magię światów\, które ożywają na planszy! Możesz skorzystać z bogatych zbiorów naszego games roomu\, możesz też przynieść własne gry – może zaskoczysz nas nowymi tytułami? \nDla bardziej wymagających graczy zapewniamy pomieszczenie do cichego grania. Przy okazji przypominamy\, że wiek nie zależy od peselu\, tylko od stanu ducha 🙂 Wpadajcie rodzinnie i ze znajomymi. Jeśli nie macie towarzystwa do grania – tutaj na pewno je znajdziecie! Wstęp bezpłatny.
URL:https://kultura.tarnow.pl/wydarzenie/planszowki-mlodziezowki-2/
LOCATION:Dom Kultury Westerplatte 8a\, Westerplatte 8a\, Tarnów\, Polska - małopolskie\, 33-100\, Polska
CATEGORIES:spotkania
ATTACH;FMTTYPE=image/jpeg:https://kultura.tarnow.pl/wp-content/uploads/planszowki_mlodziezowki-1-scaled.jpg
ORGANIZER;CN="Dom Kultury Westerplatte 8a":MAILTO:westerplatte@tck.pl
GEO:50.0273033;21.0087361
X-APPLE-STRUCTURED-LOCATION;VALUE=URI;X-ADDRESS=Dom Kultury Westerplatte 8a Westerplatte 8a Tarnów Polska - małopolskie 33-100 Polska;X-APPLE-RADIUS=500;X-TITLE=Westerplatte 8a:geo:21.0087361,50.0273033
END:VEVENT
END:VCALENDAR