BEGIN:VCALENDAR
VERSION:2.0
PRODID:-//kultura.tarnów - ECPv6.4.0.1//NONSGML v1.0//EN
CALSCALE:GREGORIAN
METHOD:PUBLISH
X-WR-CALNAME:kultura.tarnów
X-ORIGINAL-URL:https://kultura.tarnow.pl
X-WR-CALDESC:Wydarzenia dla
REFRESH-INTERVAL;VALUE=DURATION:PT1H
X-Robots-Tag:noindex
X-PUBLISHED-TTL:PT1H
BEGIN:VTIMEZONE
TZID:Europe/Warsaw
BEGIN:DAYLIGHT
TZOFFSETFROM:+0100
TZOFFSETTO:+0200
TZNAME:CEST
DTSTART:20250330T010000
END:DAYLIGHT
BEGIN:STANDARD
TZOFFSETFROM:+0200
TZOFFSETTO:+0100
TZNAME:CET
DTSTART:20251026T010000
END:STANDARD
END:VTIMEZONE
BEGIN:VEVENT
DTSTART;TZID=Europe/Warsaw:20250113T100000
DTEND;TZID=Europe/Warsaw:20250113T170000
DTSTAMP:20260424T120923
CREATED:20250110T090413Z
LAST-MODIFIED:20250110T090413Z
UID:10023822-1736762400-1736787600@kultura.tarnow.pl
SUMMARY:Projekty architektoniczne studentów Politechniki Krakowskiej
DESCRIPTION:Wystawa pokonkursowych projektów architektonicznych studentów WA Politechniki Krakowskiej\nRozbudowa i przebudowa kamienicy w Tarnowie przy Rynku 6. \n12.01.2025 – 30.01.2025\nMultimedialne Centrum Artystyczne / Wałowa 25 – oddział BWA Tarnów\nWstęp wolny \n15.01 (środa) \, g. 12:00 – wernisaż wystawy \nGodziny otwarcia ekspozycji:\nponiedziałek\, środa\, czwartek i niedziela: 10:00-17:00 \n13.01 (poniedziałek) – wystawa będzie niedostępna dla zwiedzających z powodu obrad jury konkursu. \nWystawa prezentuje projekty architektoniczne studentów Politechniki Krakowskiej\, które mają na celu przywrócenie świetności zrujnowanej nieruchomości przy Rynku 6 w Tarnowie\, przekształcając ją w „żywą” przestrzeń miejską z budynkiem nowej generacji. Praca nad projektami obejmowała wiele etapów: od analizy istniejącego stanu po koncepcję przekształcenia miejsca w funkcjonalny i estetyczny obiekt. \nStan istniejący: \nNieruchomość przy Rynku 6 w Tarnowie jest zrujnowana. Kamienica frontowa nie ma dachu (tymczasowe przykrycie z blachy)\, oficyna boczna i tylna mają tylko 1 kondygnację (parter)\, bez stropu. Pozostała cześć działki jest zaniedbana i porośnięta dziką zielenią. Nieruchomość uległa pożarowi w 2009 roku. W granicy z działką 5/2 zlokalizowana jest stacja trafo. \nZ dokumentów archiwalnych wynika\, że nieruchomość przy Rynku 6 składała się z kamienicy frontowej\, oficyny bocznej i oficyny tylnej oraz przybudówek. Istniejąca przyrynkowa kamienica frontowa jest trójosiowa\, 4-kondygnacyjna – z parterem\, piętrem i piwnicą (niewidoczna część) oraz poddaszem – posiadała spadzisty\, dwuspadowy dach z lukarnami. Oficyna boczna stanowi pierzeję wzdłuż ul. Wielkie Schody. W przeszłości była 3-kondygnacyjna (parter\, piętro i poddasze)\, z dachem pulpitowym zwróconym na stronę podwórka. Oficyna tylna sąsiaduje z działką nr 2 i jest zlokalizowana w linii miejskich murów obronnych. Podobnie jak oficyna boczna była 3-kondygnacyjna\, z dachem pulpitowym zwróconym w stronę podwórka. Na działce\, wzdłuż granicy z działką nr 512 znajdowała się jeszcze 1-kondygnacyjna i 2-kondygnacyjna przybudówka o małych gabarytach. Pozostała część działki stanowiła wewnętrzny dziedziniec / ogród. \nDziałka nr 4 ma powierzchnię ok. 736\,00m2\, nie posiada własnych parkingów\, dróg dojazdowych\, wjazdów\, ani chodników. Od północy (Rynku)\, od wschodu (ul. Wielkie Schody) i od południa (działka nr 2) budynki są zlokalizowane w granicy nieruchomości. Dostęp komunikacyjny (pieszy\, rowerowy\, samochodowy\, transportowy) jest możliwy z Rynku Głównego i z ulicy Wielkie Schody (pieszy\, rowerowy). \nNieruchomość przy Rynku 6 otoczona jest głównie przez kamienice o przeznaczeniu mieszkalnym i usługowym. Działka ma zróżnicowane ukształtowanie terenu – część działki z oficyną tylną to skarpa\, dlatego budynek jest równocześnie murem oporowym i jest bezpośrednio połączony z istniejącym fragmentem murów miejskich. Istnieje duże prawdopodobieństwo\, ze ściana zewnętrzna oficyny usytuowana jest (lub stanowi) fragment murów obronnych Starego Miasta Tarnowa. \nOpiekunowie prac studenckich: \n\ndr inż. arch. Bartosz Dendura (prowadzący przedmiot)\ndr inż. arch. Ewelina Panasiuk (koordynator)\ndr inż. Arch. Anna Porębska\ndr inż. arch. Marta Łukasik\n\nSkład jury konkursowego: \n\ndr inż. arch. Wiesław Michałek (Wydział Architektury Politechniki Krakowskiej) – przewodniczący\nmgr sztuki Jacek Adamczyk (Dyrektor Centrum Dialogu -Idea Tarnów) – sekretarz\ndr inż. arch. Bartosz Dendura (Wydział Architektury Politechniki Krakowskiej)\nmgr inż. arch. Barbara Knapik (Przewodnicząca – Miejskiej Komisji Urbanistyczno-Architektonicznej)\nmgr inż. Michał Sitek ( Dyrektor Wydziału Architektury i Planowania Przestrzennego)\nmgr inż. arch. Paulina Hebda (p.o. Kierownika – Wojewódzkiego Urzędu Ochrony Zabytków w Krakowie delegatura w Tarnowie)\nmgr inż. arch. Michał Rączka
URL:https://kultura.tarnow.pl/wydarzenie/projekty-architektoniczne-studentow-politechniki-krakowskiej/2025-01-13/
LOCATION:Multimedialne Centrum Artystyczne\, Wałowa 25\, Tarnów\, małopolskie\, 33-100\, Polska
CATEGORIES:wystawy
ORGANIZER;CN="Biuro Wystaw Artystycznych":MAILTO:biuro@bwa.tarnow.pl
GEO:50.013866931068;20.987989998201
X-APPLE-STRUCTURED-LOCATION;VALUE=URI;X-ADDRESS=Multimedialne Centrum Artystyczne Wałowa 25 Tarnów małopolskie 33-100 Polska;X-APPLE-RADIUS=500;X-TITLE=Wałowa 25:geo:20.987989998201,50.013866931068
END:VEVENT
BEGIN:VEVENT
DTSTART;TZID=Europe/Warsaw:20250113T112000
DTEND;TZID=Europe/Warsaw:20250113T114000
DTSTAMP:20260424T120923
CREATED:20250109T074135Z
LAST-MODIFIED:20250109T074135Z
UID:10023805-1736767200-1736768400@kultura.tarnow.pl
SUMMARY:Jakub Elwertowski - wernisaż
DESCRIPTION:Jakub Elwertowski – ur. 26.12.1976\, doktor sztuki w dyscyplinie sztuki plastyczne i konserwacji dzieł sztuki (2019)\, absolwent Wydziału Sztuk Pięknych UMK w Toruniu na specjalizacji malarstwo sztalugowe w pracowni prof. Jana Pręgowskiego (2001) i prof. Ireneusza Kopacza (2019) oraz Wydziału Nauk Społecznych GWSH w Gdańsku (2009);  adiunkt Wydziału Sztuk Projektowych Politechniki Bydgoskiej; trener kreatywności\, oligofrenopedagog – nauczyciel dyplomowany szkolnictwa specjalnego w Zespole Szkół nr 30 Specjalnych w Bydgoszczy; CEO grupy artystycznej Parter.Zero2 i Atelier Procesów Twórczych Apetyt\, twórca artystycznych\, nocnych instalacji świetlnych festiwalu Oko Nigdy Nie Śpi\, miłośnik Bydgoszczy a zarazem jej krytyk\, propagator projektowania uniwersalnego\, fan artbrandingu\, minimalista.\n\nNie cierpię zamykać się w ramach jednej ścieżki twórczej\, jak i nienawidzę maniery i zaszufladkowania. Nienawidzę słowa – artysta\, jestem rzemieślnikiem. Lubię twórcze eksperymenty\, kreatywność i improwizację. Nie znoszę pseudofilozoficznego bełkotu i przerostu treści nad formą. Czerpię garściami z Tarasina\, Stażewskiego i życiowego podejścia Dwurnika. Sztuka jest dla wszystkich\, stąd bardzo często wychodzę poza oficjalne mury galerii. Jestem w ciągłym artystycznym ruchu. Nie boję się wyzwań.\n\n I hate mannerism\, being boxed\, categorized and labeled to one artistic path only. I hate word – artist – i’m craftsman. I love experimenting\, creativity and improvisation. I cannot stand the pseudo-philosophical babble and the victory of form over content. I am a passionate follower of Tarasin and Stażewski and believe in the life philosophy of Dwurnik. Art is for everyone\, therefore you will often find me break the boundaries and go beyond the gallery grounds. I am always on the go\, looking for new challenges to cross my path.\n\nWAŻNIEJSZE WYSTAWY:\n\nGaleria 011 klub Od Nowa\, Toruń\, 1999\nGeorg-August-Universität\, Getynga\, Niemcy\,2000\nGaleria Miejska BWA w Bydgoszczy  „the beginning” 2004\nPATRAS (grecja) „polish – greek exhibition” 2004\ngaleria PORT LOTNICZY; grupa PARTER02 2005\nAkademicka Przestrzeń Kulturalna WSG\, „kontrasty” 2007\nGaleria Kantorek/ Galeria Miejska BWA w Bydgoszczy „Bydgoszcz krzywym okiem” 2009\nPATRAS (grecja) „polish – greek exhibition” 2009\nGaleria Miejska BWA w Bydgoszczy „polish greek exhibition” 2010\nDom Kultury Polskiej\, WILNO\, Litwa „where are we going?” 2010\nAkademia E Arteve\, Tirana\, Albania\, 2011;\nStary Pałac\, Ostromecko\, 2013\nGaleria Miejska BWA w Bydgoszczy\, „Travemünde”\, 2013\nFestiwal Sztuki – Patras\, Greece 2013\n„Parter02 – reaktywacja 2015” – Muzeum Pomp Myślęcinek\nSCK Galeria Homo Faber  Solec kujawski\, „Workers” 2016\nKolaż 2016\, Galeria Sztuki Wspòłczesnej BWA\, Olkusz 2016\nWOAK Spodki\, Białystok 2017\nKolaż 2017\, Galeria Sztuki Współczesnej BWA\, Olkusz 2017\nAntresola\, Wydział Sztuk Pięknych UMK Toruń\, 2018\nKolaż 2018\, Galeria Sztuki Współczesnej BWA\, Olkusz 2018 – wyróżnienie honorowe\n„Minimal”\, Centrum Sztuki Współczesnej Znaki Czasu\, Toruń\, 2019\n„Minimal”\, Galeria Wieża ciśnień\, Bydgoszcz 2020\n„Harte Zeiten”\, Galeria Miejska BWA w Bydgoszczy/PORT25 – Raum für Gegenwartskunst Mannheim\, 2021\n„Minimal” Centrum Kultury Browar B\, galeria Antresola\, Włocławek 2023\n„Kolaż”\, Centrum Sztuki Mościce\, Tarnów 2023\nWOAK Spodki\, Białystok 2024\n„Minimalistycznie”\, Galeria Wspólna Miejskiego Centrum Kultury w Bydgoszczy\, 2024\n\nhttps://www.kubaelwertowski.com/
URL:https://kultura.tarnow.pl/wydarzenie/jakub-elwertowski-wernisaz/
LOCATION:Galeria Liceum Sztuk Plastycznych\, Westwalewicza 6\, Tarnów\, małopolskie\, 33-100\, Polska
CATEGORIES:wernisaże
ATTACH;FMTTYPE=image/png:https://kultura.tarnow.pl/wp-content/uploads/Kuba_Elwertowski.minimalistycznie.IV_.png
GEO:50.0118085;20.9938879
X-APPLE-STRUCTURED-LOCATION;VALUE=URI;X-ADDRESS=Galeria Liceum Sztuk Plastycznych Westwalewicza 6 Tarnów małopolskie 33-100 Polska;X-APPLE-RADIUS=500;X-TITLE=Westwalewicza 6:geo:20.9938879,50.0118085
END:VEVENT
BEGIN:VEVENT
DTSTART;TZID=Europe/Warsaw:20250113T173000
DTEND;TZID=Europe/Warsaw:20250113T190000
DTSTAMP:20260424T120923
CREATED:20250107T141946Z
LAST-MODIFIED:20250107T141946Z
UID:10023801-1736789400-1736794800@kultura.tarnow.pl
SUMMARY:„Tarnowska Szopka”
DESCRIPTION:Caritas Diecezji Tarnowskiej i Prezydent Jakub Kwaśny zapraszają na wyjątkowy koncert charytatywny pt. „Tarnowska Szopka”. Wydarzenie odbędzie się 13 stycznia w sali koncertowej ZSM przy ul. Lippóczy’ego 4. Początek zaplanowano na godz. 17:30.\n\n\n\nKoncert poprowadzi pracownia Jaszczur i Przyjaciele.\nW sali koncertowej Zespołu Szkół Muzycznych wystąpią aktorzy grupy teatralnej „Profeska”\, a także Piotr Górnikiewicz – poseł na Sejm RP\, Jakub Kwaśny – prezydent Tarnowa\, Maciej Włodek – zastępca prezydenta\, Henryk Łabędź – radny Rady Miejskiej i przewodniczący Komisji Sportu oraz Wiktor Bochenek – sekretarz prasowy tarnowskiego magistratu. Na scenie zobaczymy również Oliwię Miś\, Nikodema Liro\, Keyt i tancerzy z AX Dance Academy.\n\n\nCegiełki dostępne u organizatorów – szczegóły na plakacie. Zebrane datki zostaną przekazane na pomoc Faustynce i Marcelkowi. To właśnie oni będą bohaterami tego niezwykłego wieczoru.
URL:https://kultura.tarnow.pl/wydarzenie/tarnowska-szopka/
LOCATION:Sala Koncertowa Zespołu Szkół Muzycznych\, Lippóczy’ego 4\, Tarnów\, małopolskie\, 33-100\, Polska
CATEGORIES:spektakle
ATTACH;FMTTYPE=image/jpeg:https://kultura.tarnow.pl/wp-content/uploads/472361743_1144582607672497_797615076659095896_n.jpg
GEO:50.0205582;20.9801972
X-APPLE-STRUCTURED-LOCATION;VALUE=URI;X-ADDRESS=Sala Koncertowa Zespołu Szkół Muzycznych Lippóczy’ego 4 Tarnów małopolskie 33-100 Polska;X-APPLE-RADIUS=500;X-TITLE=Lippóczy’ego 4:geo:20.9801972,50.0205582
END:VEVENT
BEGIN:VEVENT
DTSTART;TZID=Europe/Warsaw:20250113T180000
DTEND;TZID=Europe/Warsaw:20250113T180000
DTSTAMP:20260424T120923
CREATED:20250108T082150Z
LAST-MODIFIED:20250108T124748Z
UID:10023803-1736791200-1736791200@kultura.tarnow.pl
SUMMARY:Koncert uczniów MuzArt - Centrum Edukacji Muzycznej
DESCRIPTION:„Koncert uczniów MuzArt – Centrum Edukacji Muzycznej”\, w Sali Lustrzanej w Tarnowie zapowiada się fantastycznie\, naszpikowany bowiem będzie dużą dozą muzycznej pikanterii oraz szczyptą uroczystego anturażu. \nWystępy wokalne\, prezentacje pianistów\, perkusistów i saksofonistów niech pobudzą Wasze zmysły i czułe struny wrażliwości na przekaz emocjonalny drugie człowieka . Nie możemy się doczekać tego wydarzenia\, a Was Tarnowianie jak również i przede wszystkim wierni kibice naszych artystów pod postacią rodziców\, krewnych i znajomych\, serdecznie zapraszamy. \n \n 
URL:https://kultura.tarnow.pl/wydarzenie/koncert-uczniow-muzart-centrum-edukacji-muzycznej/
LOCATION:Sala Lustrzana\, Wałowa 10\, Tarnów\, małopolskie\, 33-100\, Polska
CATEGORIES:koncerty
ATTACH;FMTTYPE=image/png:https://kultura.tarnow.pl/wp-content/uploads/koncert-3-1.png
GEO:50.0133339;20.9861448
X-APPLE-STRUCTURED-LOCATION;VALUE=URI;X-ADDRESS=Sala Lustrzana Wałowa 10 Tarnów małopolskie 33-100 Polska;X-APPLE-RADIUS=500;X-TITLE=Wałowa 10:geo:20.9861448,50.0133339
END:VEVENT
END:VCALENDAR