BEGIN:VCALENDAR
VERSION:2.0
PRODID:-//kultura.tarnów - ECPv6.4.0.1//NONSGML v1.0//EN
CALSCALE:GREGORIAN
METHOD:PUBLISH
X-ORIGINAL-URL:https://kultura.tarnow.pl
X-WR-CALDESC:Wydarzenia dla
REFRESH-INTERVAL;VALUE=DURATION:PT1H
X-Robots-Tag:noindex
X-PUBLISHED-TTL:PT1H
BEGIN:VTIMEZONE
TZID:Europe/Warsaw
BEGIN:DAYLIGHT
TZOFFSETFROM:+0100
TZOFFSETTO:+0200
TZNAME:CEST
DTSTART:20250330T010000
END:DAYLIGHT
BEGIN:STANDARD
TZOFFSETFROM:+0200
TZOFFSETTO:+0100
TZNAME:CET
DTSTART:20251026T010000
END:STANDARD
END:VTIMEZONE
BEGIN:VEVENT
DTSTART;TZID=Europe/Warsaw:20250111T180000
DTEND;TZID=Europe/Warsaw:20250111T200000
DTSTAMP:20260424T121141
CREATED:20241212T094046Z
LAST-MODIFIED:20241212T094919Z
UID:10022619-1736618400-1736625600@kultura.tarnow.pl
SUMMARY:“Nie ma jak… Osiecka\, Młynarski” Kabaret NaTenCzas
DESCRIPTION:“Nie ma jak… Osiecka\, Młynarski” to już czwarty spektakl kabaretowy przygotowany przez aktorów związanych z Tarnowskim Kabaretem Literackim NaTenCzas\, czyli Zinaidę Zagner\, Monikę Wentę\, Jerzego Pala\, Kamila Urbana oraz akompaniatora i autora aranżacji muzycznych\, Piotra Niedojadło.\n\nW spektaklu wybrzmiewać będą teksty Agnieszki Osieckiej i Wojciecha Młynarskiego wraz z piosenkami z muzyką Jerzego Wasowskiego\, Ryszarda Sielickiego\, Marka Sarta\, Wojciecha Solarza\, Jerzego Satanowskiego\, Adama Sławińskiego\, Jerzego Derfla\, Panajota Bonadżijewa\, Macieja Małeckiego\, Andrzeja Zielińskiego\, Jerzego Matuszkiewicza\, Seweryna Krajewskiego. Lekka\, kabaretowa forma tego przedstawienia jest zaproszeniem do radosnego spędzenia czasu przy jednoczesnym obcowaniu z tekstami i muzyką znakomitych artystów\, które obrazują przeżycia dwóch pokoleń – Polaków pamiętających czasy PRL i Młodych. Ich pierwsze miłości\, zakładanie rodziny\, małą stabilizację\, zderzenie się z rzeczywistością PRL\, pierwsze bunty\, błądzenie\, szukanie drogi aż po nadzieję. \n\n10 stycznia (piątek) godz. 18:00\, \n11 stycznia (sobota) godz. 18:00\, \n12 stycznia (niedziela) godz. 18:00\, Mała Scena\nBilety 25-60 zł\nhttps://teatr.tarnow.pl/spektakle/spektakle-spektakle/nie-ma-jak-osiecka-mlynarski-2/
URL:https://kultura.tarnow.pl/wydarzenie/nie-ma-jak-osiecka-mlynarski-kabaret-natenczas/2025-01-11/
LOCATION:Teatr im. L.Solskiego\, Mickiewicza 4\, Tarnów\, małopolskie\, 33-100\, Polska
CATEGORIES:spektakle
ATTACH;FMTTYPE=image/jpeg:https://kultura.tarnow.pl/wp-content/uploads/www-Kabarert-2.jpg
GEO:50.0159214;20.987504
X-APPLE-STRUCTURED-LOCATION;VALUE=URI;X-ADDRESS=Teatr im. L.Solskiego Mickiewicza 4 Tarnów małopolskie 33-100 Polska;X-APPLE-RADIUS=500;X-TITLE=Mickiewicza 4:geo:20.987504,50.0159214
END:VEVENT
BEGIN:VEVENT
DTSTART;TZID=Europe/Warsaw:20250111T190000
DTEND;TZID=Europe/Warsaw:20250111T203000
DTSTAMP:20260424T121141
CREATED:20250109T131816Z
LAST-MODIFIED:20250109T131816Z
UID:10023807-1736622000-1736627400@kultura.tarnow.pl
SUMMARY:Kolędowanie przy żłóbku z Pueri Cantores Tarnovienses
DESCRIPTION:Serdecznie zapraszamy na koncerty kolęd w wykonaniu Chłopięcego Chóru Katedralnego PUERI CANTORES TARNOVIENSES. Będzie można usłyszeć najpiękniejsze polskie kolędy w różnych opracowaniach i obsadach. \nW Tarnowie odbędą się one w Bazylice katedralnej w sobotę 11 stycznia 2025 r. o godz. 19.00 oraz w kościele Matki Bożej Fatimskiej także w sobotę 18. stycznia 2025 r. o godz. 18.30.
URL:https://kultura.tarnow.pl/wydarzenie/koledowanie-przy-zlobku-z-pueri-cantores-tarnovienses/2025-01-11/
LOCATION:Bazylika Katedralna w Tarnowie\, ul. Kapitulna 2\, Tarnów\, małopolskie\, 33-100\, Polska
CATEGORIES:koncerty
ATTACH;FMTTYPE=image/jpeg:https://kultura.tarnow.pl/wp-content/uploads/Afisz-koncert-koled-2024-5.jpg
ORGANIZER;CN="Pueri Cantores Tarnovienses":MAILTO:pct@wsd.tarnow.pl
GEO:50.013388;20.987599
X-APPLE-STRUCTURED-LOCATION;VALUE=URI;X-ADDRESS=Bazylika Katedralna w Tarnowie ul. Kapitulna 2 Tarnów małopolskie 33-100 Polska;X-APPLE-RADIUS=500;X-TITLE=ul. Kapitulna 2:geo:20.987599,50.013388
END:VEVENT
END:VCALENDAR