BEGIN:VCALENDAR
VERSION:2.0
PRODID:-//kultura.tarnów - ECPv6.4.0.1//NONSGML v1.0//EN
CALSCALE:GREGORIAN
METHOD:PUBLISH
X-WR-CALNAME:kultura.tarnów
X-ORIGINAL-URL:https://kultura.tarnow.pl
X-WR-CALDESC:Wydarzenia dla
REFRESH-INTERVAL;VALUE=DURATION:PT1H
X-Robots-Tag:noindex
X-PUBLISHED-TTL:PT1H
BEGIN:VTIMEZONE
TZID:Europe/Warsaw
BEGIN:DAYLIGHT
TZOFFSETFROM:+0100
TZOFFSETTO:+0200
TZNAME:CEST
DTSTART:20250330T010000
END:DAYLIGHT
BEGIN:STANDARD
TZOFFSETFROM:+0200
TZOFFSETTO:+0100
TZNAME:CET
DTSTART:20251026T010000
END:STANDARD
END:VTIMEZONE
BEGIN:VEVENT
DTSTART;TZID=Europe/Warsaw:20250110T100000
DTEND;TZID=Europe/Warsaw:20250110T170000
DTSTAMP:20260424T152153
CREATED:20241203T113718Z
LAST-MODIFIED:20241203T113718Z
UID:10022581-1736503200-1736528400@kultura.tarnow.pl
SUMMARY:Grzegorz Kumorek "Stodoła\, dom\, las"
DESCRIPTION:W programie wystawy:\n1.12.2024 (niedziela)\ng. 10:00 Wyjazd spod BWA Pałacyku Strzeleckiego (ul. Słowackiego 1) do Olszowej / bezpłatny bus\, ilość miejsc ograniczona\, obowiązują zapisy: 14 688 88 20\ng. 11:00 Start spaceru w Olszowej (Olszowa 7\, 32-840 Olszowa) – spacer po Olszowej (ok. 40 min.) i zwiedzanie pracowni artysty / wstęp wolny\, bez zapisów\ng. 13:30 Po wystawie Grzegorza Kumorka „Stodoła\, dom\, las” oprowadza Katarzyna Roj / BWA\, Pałacyk Strzelecki\, wstęp wolny \nNiedziela 12.01 – Finisaż \nGrand Prix IX Salonu BWA Tarnów \nTytułowe Stodoła\, dom\, las to elementy krajobrazu wsi Olszowa\, gdzie mieszka artysta. Miejsce\, niegdyś zamieszkane przez jego dziadków\, teraz należy do Grzegorza Kumorka. Teren\, położony na wzgórzu\, otacza swobodnie rozrastająca się przyroda\, która stanowi istotną bohaterkę zarówno wystawy\, jak i twórczości artysty. \nGrzegorz wchodzi z tym miejscem w dialogiczny taniec\, konsekwentnie odkrywając\, przesuwając\, łącząc i budując. Jak sam wspomina\, jego pierwsze dziecięce zabawy polegały na budowaniu konstrukcji z patyków znalezionych wokół gospodarstwa. Gałęzie i patyki pozostały jednym z głównych materiałów prac artysty. Ten proces\, głęboko zakorzeniony w przeszłości\, cechuje pokora i szacunek do tworzywa. Grzegorz określa go mianem „wiejskiego” – bo na wsi nic się nie marnuje\, wszystko ma wartość i jest wykorzystywane zgodnie z tym\, co pod ręką. \nPodobnie jak kotłuje się pobliska przyroda\, tak Grzegorz przeczesuje i przekłada kolejne znalezione fragmenty\, aż w końcu stworzą odpowiednią kompozycję. W tym wirze patyk staje się wszystkim – narzędziem\, materiałem\, magiczną różdżką\, kością\, niebem\, granicą.  Tworzenie tych małych światów nie wypływa z potrzeby kontroli\, lecz z fascynacji samym procesem\, oddania się intuicji\, gdyż końcowy efekt zawsze pozostaje niepewny. Grzebanie staje się bramą do jego twórczości. Grzebie w ziemi\, w przedmiotach po babci\, szukając z ciekawością i konsekwencją\, ale też grzebie\, by w rytualny sposób pożegnać przeszłość\, oddać jej szacunek\, domknąć jakiś etap. \nPrzestrzeń wyznaczona przez stodołę\, dom i las jest miejscem spotkania życia i śmierci\, a jego prace afirmują i akceptują procesy\, które się tam dokonują. Dla artysty to podróż osobista – zmaganie się z materią\, wspomnieniami\, oczekiwaniami. Jest to zarówno dosłowne\, jak i symboliczne budowanie własnego miejsca\, wykorzystanie tego\, co zastane;  nadanie mu nowego znaczenia przez formę wizualną. \nEkspozycja odtwarza tytułowy układ krajobrazu gospodarstwa z Olszowej\, przypisując prace do konkretnych jego elementów\, które nierzadko znajdują się na granicy poszczególnych przestrzeni. \nGrzegorz Kumorek (ur. 1990) artysta wizualny\, rzeźbiarz. Absolwent Liceum Sztuk Plastycznych w Tarnowie. Ukończył studia na Wydziale Rzeźby Akademii Sztuk Pięknych w Krakowie\, gdzie od 2020 r. pracuje jako asystent. Brał udział w 17. Przeglądzie Sztuki Survival we Wrocławiu (2019)\, zdobył Grand Prix IX Salonu BWA Tarnów (2023)\, finalista Biennale Rybie Oko 11 (2024). Swoje prace prezentował m. in. w Muzeum Narodowym w Krakowie\, Gdańskiej Galerii Miejskiej\, Muzeum Współczesnym Wrocław. Jego pracownia mieści się w rodzinnej wsi Olszowa (powiat tarnowski). \nGodziny otwarcia ekspozycji: \nwtorek-piątek: 10:00-17:00 – ostatnie wejście na wystawę o g. 16:45\nniedziela: 11:00-18:00 – ostatnie wejście na wystawę o g. 17:45\nwstęp wolny na wystawę i wydarzenia towarzyszące
URL:https://kultura.tarnow.pl/wydarzenie/grzegorz-kumorek-stodola-dom-las/2025-01-10/
LOCATION:Biuro Wystaw Artystycznych\, ul. Słowackiego 1\, Tarnów\, małopolskie\, 33-100\, Polska
CATEGORIES:wystawy
ORGANIZER;CN="Biuro Wystaw Artystycznych":MAILTO:biuro@bwa.tarnow.pl
GEO:50.0178761;20.9827521
X-APPLE-STRUCTURED-LOCATION;VALUE=URI;X-ADDRESS=Biuro Wystaw Artystycznych ul. Słowackiego 1 Tarnów małopolskie 33-100 Polska;X-APPLE-RADIUS=500;X-TITLE=ul. Słowackiego 1:geo:20.9827521,50.0178761
END:VEVENT
BEGIN:VEVENT
DTSTART;TZID=Europe/Warsaw:20250110T180000
DTEND;TZID=Europe/Warsaw:20250110T200000
DTSTAMP:20260424T152153
CREATED:20241212T094046Z
LAST-MODIFIED:20241212T094919Z
UID:10022618-1736532000-1736539200@kultura.tarnow.pl
SUMMARY:“Nie ma jak… Osiecka\, Młynarski” Kabaret NaTenCzas
DESCRIPTION:“Nie ma jak… Osiecka\, Młynarski” to już czwarty spektakl kabaretowy przygotowany przez aktorów związanych z Tarnowskim Kabaretem Literackim NaTenCzas\, czyli Zinaidę Zagner\, Monikę Wentę\, Jerzego Pala\, Kamila Urbana oraz akompaniatora i autora aranżacji muzycznych\, Piotra Niedojadło.\n\nW spektaklu wybrzmiewać będą teksty Agnieszki Osieckiej i Wojciecha Młynarskiego wraz z piosenkami z muzyką Jerzego Wasowskiego\, Ryszarda Sielickiego\, Marka Sarta\, Wojciecha Solarza\, Jerzego Satanowskiego\, Adama Sławińskiego\, Jerzego Derfla\, Panajota Bonadżijewa\, Macieja Małeckiego\, Andrzeja Zielińskiego\, Jerzego Matuszkiewicza\, Seweryna Krajewskiego. Lekka\, kabaretowa forma tego przedstawienia jest zaproszeniem do radosnego spędzenia czasu przy jednoczesnym obcowaniu z tekstami i muzyką znakomitych artystów\, które obrazują przeżycia dwóch pokoleń – Polaków pamiętających czasy PRL i Młodych. Ich pierwsze miłości\, zakładanie rodziny\, małą stabilizację\, zderzenie się z rzeczywistością PRL\, pierwsze bunty\, błądzenie\, szukanie drogi aż po nadzieję. \n\n10 stycznia (piątek) godz. 18:00\, \n11 stycznia (sobota) godz. 18:00\, \n12 stycznia (niedziela) godz. 18:00\, Mała Scena\nBilety 25-60 zł\nhttps://teatr.tarnow.pl/spektakle/spektakle-spektakle/nie-ma-jak-osiecka-mlynarski-2/
URL:https://kultura.tarnow.pl/wydarzenie/nie-ma-jak-osiecka-mlynarski-kabaret-natenczas/2025-01-10/
LOCATION:Teatr im. L.Solskiego\, Mickiewicza 4\, Tarnów\, małopolskie\, 33-100\, Polska
CATEGORIES:spektakle
ATTACH;FMTTYPE=image/jpeg:https://kultura.tarnow.pl/wp-content/uploads/www-Kabarert-2.jpg
GEO:50.0159214;20.987504
X-APPLE-STRUCTURED-LOCATION;VALUE=URI;X-ADDRESS=Teatr im. L.Solskiego Mickiewicza 4 Tarnów małopolskie 33-100 Polska;X-APPLE-RADIUS=500;X-TITLE=Mickiewicza 4:geo:20.987504,50.0159214
END:VEVENT
BEGIN:VEVENT
DTSTART;TZID=Europe/Warsaw:20250110T180000
DTEND;TZID=Europe/Warsaw:20250110T200000
DTSTAMP:20260424T152153
CREATED:20250103T092025Z
LAST-MODIFIED:20250103T092025Z
UID:10023391-1736532000-1736539200@kultura.tarnow.pl
SUMMARY:Muzyka Adele\, Lady Gagi i Lany Del Rey w blasku świec
DESCRIPTION:MUZYKA ADELE\, LADY GAGI I LANY DEL REY W BLASKU ŚWIEC. \nZapraszamy na wieczór\, w którym emocje ożywają dzięki muzyce. W wykonaniu utalentowanego pianisty Yehora Hrushyna oraz kwartetu smyczkowego „Neoclassical” najpiękniejsze hity Adele\, Lady Gagi i Lany Del Rey wypełnią przestrzeń romantyką i czarującą magią.\nW blasku tysiąca świec te kultowe melodie przeniosą Cię do świata piękna\, miłości i prawdziwego szczęścia.\nPozwól sobie zanurzyć się w muzyczną magię. \n10 stycznia 2025 godz. 18.00 \nSala koncertowa Zespołu Szkół Muzycznych w Tarnowie\, ul. Lippóczy`ego 4 \n \n 
URL:https://kultura.tarnow.pl/wydarzenie/muzyka-adele-lady-gagi-i-lany-del-rey-w-blasku-swiec/
LOCATION:Sala Koncertowa Zespołu Szkół Muzycznych\, Lippóczy’ego 4\, Tarnów\, małopolskie\, 33-100\, Polska
CATEGORIES:koncerty
ATTACH;FMTTYPE=image/jpeg:https://kultura.tarnow.pl/wp-content/uploads/lana-del-ray.jpg
GEO:50.0205582;20.9801972
X-APPLE-STRUCTURED-LOCATION;VALUE=URI;X-ADDRESS=Sala Koncertowa Zespołu Szkół Muzycznych Lippóczy’ego 4 Tarnów małopolskie 33-100 Polska;X-APPLE-RADIUS=500;X-TITLE=Lippóczy’ego 4:geo:20.9801972,50.0205582
END:VEVENT
BEGIN:VEVENT
DTSTART;TZID=Europe/Warsaw:20250110T200000
DTEND;TZID=Europe/Warsaw:20250110T213000
DTSTAMP:20260424T152153
CREATED:20250103T092322Z
LAST-MODIFIED:20250109T130754Z
UID:10023392-1736539200-1736544600@kultura.tarnow.pl
SUMMARY:"Beridgerton" muzyka przy świecach
DESCRIPTION:Muzyka instrumentalna z hitowego serialu przy świecach. \nMuzyka\, która potrafi poruszyć najgłębsze struny duszy już wkrótce zabrzmi w Tarnowie! Wyjątkowy koncert muzyki z popularnego serialu „BRIDGERTON” w wykonaniu pianisty Yehora Hrushyna i kwartetu smyczkowego „Neoclassical”.\nKoncert odbywają się przy świetle setek świec\, które tworzą niepowtarzalną\, przytulną atmosferę. To wyjątkowe doświadczenie\, które oczaruje każdego słuchacza i pozwoli mu w pełni zanurzyć się w magicznym świecie muzyki. \n10 stycznia 2025 godz. 20.00 \nSala koncertowa Zespołu Szkół Muzycznych w Tarnowie\, ul. Lippóczy`ego 4 \nKoncert biletowany \nBilety \nhttps://sklep.ebilet.pl/332421947495284911
URL:https://kultura.tarnow.pl/wydarzenie/beridgerton-muzyka-przy-swiecach/
LOCATION:Sala Koncertowa Zespołu Szkół Muzycznych\, Lippóczy’ego 4\, Tarnów\, małopolskie\, 33-100\, Polska
CATEGORIES:koncerty
ATTACH;FMTTYPE=image/jpeg:https://kultura.tarnow.pl/wp-content/uploads/466106200_540860665538266_2729046921427348356_n.jpg
GEO:50.0205582;20.9801972
X-APPLE-STRUCTURED-LOCATION;VALUE=URI;X-ADDRESS=Sala Koncertowa Zespołu Szkół Muzycznych Lippóczy’ego 4 Tarnów małopolskie 33-100 Polska;X-APPLE-RADIUS=500;X-TITLE=Lippóczy’ego 4:geo:20.9801972,50.0205582
END:VEVENT
END:VCALENDAR