BEGIN:VCALENDAR
VERSION:2.0
PRODID:-//kultura.tarnów - ECPv6.4.0.1//NONSGML v1.0//EN
CALSCALE:GREGORIAN
METHOD:PUBLISH
X-WR-CALNAME:kultura.tarnów
X-ORIGINAL-URL:https://kultura.tarnow.pl
X-WR-CALDESC:Wydarzenia dla
REFRESH-INTERVAL;VALUE=DURATION:PT1H
X-Robots-Tag:noindex
X-PUBLISHED-TTL:PT1H
BEGIN:VTIMEZONE
TZID:Europe/Warsaw
BEGIN:DAYLIGHT
TZOFFSETFROM:+0100
TZOFFSETTO:+0200
TZNAME:CEST
DTSTART:20250330T010000
END:DAYLIGHT
BEGIN:STANDARD
TZOFFSETFROM:+0200
TZOFFSETTO:+0100
TZNAME:CET
DTSTART:20251026T010000
END:STANDARD
END:VTIMEZONE
BEGIN:VEVENT
DTSTART;TZID=Europe/Warsaw:20250109T100000
DTEND;TZID=Europe/Warsaw:20250109T170000
DTSTAMP:20260424T120920
CREATED:20241203T113718Z
LAST-MODIFIED:20241203T113718Z
UID:10022580-1736416800-1736442000@kultura.tarnow.pl
SUMMARY:Grzegorz Kumorek "Stodoła\, dom\, las"
DESCRIPTION:W programie wystawy:\n1.12.2024 (niedziela)\ng. 10:00 Wyjazd spod BWA Pałacyku Strzeleckiego (ul. Słowackiego 1) do Olszowej / bezpłatny bus\, ilość miejsc ograniczona\, obowiązują zapisy: 14 688 88 20\ng. 11:00 Start spaceru w Olszowej (Olszowa 7\, 32-840 Olszowa) – spacer po Olszowej (ok. 40 min.) i zwiedzanie pracowni artysty / wstęp wolny\, bez zapisów\ng. 13:30 Po wystawie Grzegorza Kumorka „Stodoła\, dom\, las” oprowadza Katarzyna Roj / BWA\, Pałacyk Strzelecki\, wstęp wolny \nNiedziela 12.01 – Finisaż \nGrand Prix IX Salonu BWA Tarnów \nTytułowe Stodoła\, dom\, las to elementy krajobrazu wsi Olszowa\, gdzie mieszka artysta. Miejsce\, niegdyś zamieszkane przez jego dziadków\, teraz należy do Grzegorza Kumorka. Teren\, położony na wzgórzu\, otacza swobodnie rozrastająca się przyroda\, która stanowi istotną bohaterkę zarówno wystawy\, jak i twórczości artysty. \nGrzegorz wchodzi z tym miejscem w dialogiczny taniec\, konsekwentnie odkrywając\, przesuwając\, łącząc i budując. Jak sam wspomina\, jego pierwsze dziecięce zabawy polegały na budowaniu konstrukcji z patyków znalezionych wokół gospodarstwa. Gałęzie i patyki pozostały jednym z głównych materiałów prac artysty. Ten proces\, głęboko zakorzeniony w przeszłości\, cechuje pokora i szacunek do tworzywa. Grzegorz określa go mianem „wiejskiego” – bo na wsi nic się nie marnuje\, wszystko ma wartość i jest wykorzystywane zgodnie z tym\, co pod ręką. \nPodobnie jak kotłuje się pobliska przyroda\, tak Grzegorz przeczesuje i przekłada kolejne znalezione fragmenty\, aż w końcu stworzą odpowiednią kompozycję. W tym wirze patyk staje się wszystkim – narzędziem\, materiałem\, magiczną różdżką\, kością\, niebem\, granicą.  Tworzenie tych małych światów nie wypływa z potrzeby kontroli\, lecz z fascynacji samym procesem\, oddania się intuicji\, gdyż końcowy efekt zawsze pozostaje niepewny. Grzebanie staje się bramą do jego twórczości. Grzebie w ziemi\, w przedmiotach po babci\, szukając z ciekawością i konsekwencją\, ale też grzebie\, by w rytualny sposób pożegnać przeszłość\, oddać jej szacunek\, domknąć jakiś etap. \nPrzestrzeń wyznaczona przez stodołę\, dom i las jest miejscem spotkania życia i śmierci\, a jego prace afirmują i akceptują procesy\, które się tam dokonują. Dla artysty to podróż osobista – zmaganie się z materią\, wspomnieniami\, oczekiwaniami. Jest to zarówno dosłowne\, jak i symboliczne budowanie własnego miejsca\, wykorzystanie tego\, co zastane;  nadanie mu nowego znaczenia przez formę wizualną. \nEkspozycja odtwarza tytułowy układ krajobrazu gospodarstwa z Olszowej\, przypisując prace do konkretnych jego elementów\, które nierzadko znajdują się na granicy poszczególnych przestrzeni. \nGrzegorz Kumorek (ur. 1990) artysta wizualny\, rzeźbiarz. Absolwent Liceum Sztuk Plastycznych w Tarnowie. Ukończył studia na Wydziale Rzeźby Akademii Sztuk Pięknych w Krakowie\, gdzie od 2020 r. pracuje jako asystent. Brał udział w 17. Przeglądzie Sztuki Survival we Wrocławiu (2019)\, zdobył Grand Prix IX Salonu BWA Tarnów (2023)\, finalista Biennale Rybie Oko 11 (2024). Swoje prace prezentował m. in. w Muzeum Narodowym w Krakowie\, Gdańskiej Galerii Miejskiej\, Muzeum Współczesnym Wrocław. Jego pracownia mieści się w rodzinnej wsi Olszowa (powiat tarnowski). \nGodziny otwarcia ekspozycji: \nwtorek-piątek: 10:00-17:00 – ostatnie wejście na wystawę o g. 16:45\nniedziela: 11:00-18:00 – ostatnie wejście na wystawę o g. 17:45\nwstęp wolny na wystawę i wydarzenia towarzyszące
URL:https://kultura.tarnow.pl/wydarzenie/grzegorz-kumorek-stodola-dom-las/2025-01-09/
LOCATION:Biuro Wystaw Artystycznych\, ul. Słowackiego 1\, Tarnów\, małopolskie\, 33-100\, Polska
CATEGORIES:wystawy
ORGANIZER;CN="Biuro Wystaw Artystycznych":MAILTO:biuro@bwa.tarnow.pl
GEO:50.0178761;20.9827521
X-APPLE-STRUCTURED-LOCATION;VALUE=URI;X-ADDRESS=Biuro Wystaw Artystycznych ul. Słowackiego 1 Tarnów małopolskie 33-100 Polska;X-APPLE-RADIUS=500;X-TITLE=ul. Słowackiego 1:geo:20.9827521,50.0178761
END:VEVENT
BEGIN:VEVENT
DTSTART;TZID=Europe/Warsaw:20250109T170000
DTEND;TZID=Europe/Warsaw:20250109T180000
DTSTAMP:20260424T120920
CREATED:20250108T074038Z
LAST-MODIFIED:20250108T074038Z
UID:10023802-1736442000-1736445600@kultura.tarnow.pl
SUMMARY:Artyści Dydaktycy ASP w Krakowie
DESCRIPTION:Galeria Sztuki Hortar i Artyści serdecznie zapraszają na wernisaż wystawy Artystów ̶ Dydaktyków ASP w Krakowie pt. PRACA – WOLNOŚĆ – SOLIDARNOŚĆ zainspirowanej poematem Karola Wojtyły Kamieniołom oraz encykliką papieża – Laborem exercens. \n\n\n\n\n\nSłuchaj\, kiedy stuk młotów miarowy i tak bardzo swój\nprzenoszę wewnątrz ludzi\, by badać siłę uderzeń –\nsłuchaj\, prąd elektryczny kamienistą rozcina rzekę –\na we mnie narasta myśl\, narasta dzień po dniu\,\nże cała wielkość tej pracy znajduje się wewnątrz człowieka. \nKarol Wojtyła\, Kamieniołom\, 1956 \n\n\n\n\n\n\nJan Paweł II zanim stał się papieżem\, a wcześniej biskupem Krakowa\, był studentem i robotnikiem. Po maturze w 1938 roku jako junak w hufcu pracy budował drogę łączącą Zubrzycę Górną z Zawoją przez Przełęcz Krowiarki. Później w 1940 roku ciężko pracował fizycznie w kamieniołomie na Zakrzówku oraz w fabryce sody kaustycznej Solvay w Krakowie. Istnieje duchowe znaczenie tego początku ciężkiej pracy studenta Wojtyły. Wspomniana budowa drogi i praca w kamieniołomie\, gdzie młotem wydobywał kruszywo ze skały\, pozwala zobaczyć jak ten początek odzwierciedlał się już w dojrzałej osobie Jana Pawła II i jego późniejszej pracy. Niegdyś materia skały\, kamienia\, w której drążył – pracując\, łupiąc\, rozbijając głęboko kamienne bloki – ukształtowały głębokiego człowieka\, który później jako Jan Paweł II\, już nie w kamieniu bezpośrednio drążąc\, ale w innych materiach ludzkich\, wydobywał sens podejmowanych decyzji\, wskazując kierunek właściwej drogi. W pewnym sensie cały świat stał się jego miejscem pracy – kamieniołomem. \nJakże bliskie nam artystom są słowa zawarte w jego poemacie dotyczące tworzywa\, natchnienia i uczestnictwa. Jan Paweł II jako poeta miał głęboką świadomość tajemnicy procesu twórczego\, poszukiwania ostatecznej formy i wyrazu. Dobrze wiedział jak często jest to żmudny i złożony proces. To doświadczenie artysty. Na wystawie prezentowane obrazy\, rzeźby\, grafiki i obiekty dziewięciu Artystów ̶ Dydaktyków wprowadzają nas na drogę refleksji o życiowych i artystycznych wartościach\, które stawiają pytania o dzisiejszy sens i znaczenie pracy\, wolności\, solidarności. \nprof. ASP Marta Makarczuk \nKurator wystawy
URL:https://kultura.tarnow.pl/wydarzenie/artysci-dydaktycy-asp-w-krakowie/
LOCATION:Galeria Hortar\, ul. legionów 32\, Tarnów\, małopolskie\, 33-100\, Polska
CATEGORIES:wernisaże
ORGANIZER;CN="Galeria Hortar":MAILTO:hortar@hortar.com.pl
GEO:50.0180799;20.9875198
X-APPLE-STRUCTURED-LOCATION;VALUE=URI;X-ADDRESS=Galeria Hortar ul. legionów 32 Tarnów małopolskie 33-100 Polska;X-APPLE-RADIUS=500;X-TITLE=ul. legionów 32:geo:20.9875198,50.0180799
END:VEVENT
END:VCALENDAR